BEGIN:VCALENDAR
VERSION:2.0
PRODID:-//William Patten Primary School - ECPv6.15.20//NONSGML v1.0//EN
CALSCALE:GREGORIAN
METHOD:PUBLISH
X-ORIGINAL-URL:https://www.williampatten.hackney.sch.uk
X-WR-CALDESC:Events for William Patten Primary School
REFRESH-INTERVAL;VALUE=DURATION:PT1H
X-Robots-Tag:noindex
X-PUBLISHED-TTL:PT1H
BEGIN:VTIMEZONE
TZID:Europe/London
BEGIN:DAYLIGHT
TZOFFSETFROM:+0000
TZOFFSETTO:+0100
TZNAME:BST
DTSTART:20240331T010000
END:DAYLIGHT
BEGIN:STANDARD
TZOFFSETFROM:+0100
TZOFFSETTO:+0000
TZNAME:GMT
DTSTART:20241027T010000
END:STANDARD
BEGIN:DAYLIGHT
TZOFFSETFROM:+0000
TZOFFSETTO:+0100
TZNAME:BST
DTSTART:20250330T010000
END:DAYLIGHT
BEGIN:STANDARD
TZOFFSETFROM:+0100
TZOFFSETTO:+0000
TZNAME:GMT
DTSTART:20251026T010000
END:STANDARD
BEGIN:DAYLIGHT
TZOFFSETFROM:+0000
TZOFFSETTO:+0100
TZNAME:BST
DTSTART:20260329T010000
END:DAYLIGHT
BEGIN:STANDARD
TZOFFSETFROM:+0100
TZOFFSETTO:+0000
TZNAME:GMT
DTSTART:20261025T010000
END:STANDARD
END:VTIMEZONE
BEGIN:VEVENT
DTSTART;VALUE=DATE:20251103
DTEND;VALUE=DATE:20251129
DTSTAMP:20260425T000322
CREATED:20251106T102120Z
LAST-MODIFIED:20251106T102120Z
UID:18645-1762128000-1764374399@www.williampatten.hackney.sch.uk
SUMMARY:Disability History Month
DESCRIPTION:
URL:https://www.williampatten.hackney.sch.uk/event/disability-history-month/
END:VEVENT
BEGIN:VEVENT
DTSTART;VALUE=DATE:20251127
DTEND;VALUE=DATE:20251128
DTSTAMP:20260425T000322
CREATED:20250722T143343Z
LAST-MODIFIED:20251106T142930Z
UID:18101-1764201600-1764287999@www.williampatten.hackney.sch.uk
SUMMARY:EDI committee virtual meeting
DESCRIPTION:
URL:https://www.williampatten.hackney.sch.uk/event/edi-virtual-meeting/
END:VEVENT
BEGIN:VEVENT
DTSTART;VALUE=DATE:20251127
DTEND;VALUE=DATE:20251128
DTSTAMP:20260425T000322
CREATED:20250917T152106Z
LAST-MODIFIED:20250917T152106Z
UID:18426-1764201600-1764287999@www.williampatten.hackney.sch.uk
SUMMARY:NSPCC Speak Out Stay Safe Assemblies + workshop
DESCRIPTION:
URL:https://www.williampatten.hackney.sch.uk/event/nspcc-speak-out-stay-safe-assemblies-workshop/
END:VEVENT
END:VCALENDAR