BEGIN:VCALENDAR
VERSION:2.0
PRODID:-//William Patten Primary School - ECPv6.15.20//NONSGML v1.0//EN
CALSCALE:GREGORIAN
METHOD:PUBLISH
X-ORIGINAL-URL:https://www.williampatten.hackney.sch.uk
X-WR-CALDESC:Events for William Patten Primary School
REFRESH-INTERVAL;VALUE=DURATION:PT1H
X-Robots-Tag:noindex
X-PUBLISHED-TTL:PT1H
BEGIN:VTIMEZONE
TZID:Europe/London
BEGIN:DAYLIGHT
TZOFFSETFROM:+0000
TZOFFSETTO:+0100
TZNAME:BST
DTSTART:20250330T010000
END:DAYLIGHT
BEGIN:STANDARD
TZOFFSETFROM:+0100
TZOFFSETTO:+0000
TZNAME:GMT
DTSTART:20251026T010000
END:STANDARD
BEGIN:DAYLIGHT
TZOFFSETFROM:+0000
TZOFFSETTO:+0100
TZNAME:BST
DTSTART:20260329T010000
END:DAYLIGHT
BEGIN:STANDARD
TZOFFSETFROM:+0100
TZOFFSETTO:+0000
TZNAME:GMT
DTSTART:20261025T010000
END:STANDARD
BEGIN:DAYLIGHT
TZOFFSETFROM:+0000
TZOFFSETTO:+0100
TZNAME:BST
DTSTART:20270328T010000
END:DAYLIGHT
BEGIN:STANDARD
TZOFFSETFROM:+0100
TZOFFSETTO:+0000
TZNAME:GMT
DTSTART:20271031T010000
END:STANDARD
END:VTIMEZONE
BEGIN:VEVENT
DTSTART;VALUE=DATE:20260316
DTEND;VALUE=DATE:20260321
DTSTAMP:20260424T162222
CREATED:20250723T093327Z
LAST-MODIFIED:20250723T093327Z
UID:18212-1773619200-1774051199@www.williampatten.hackney.sch.uk
SUMMARY:Neurodiversity Celebration Week
DESCRIPTION:
URL:https://www.williampatten.hackney.sch.uk/event/neurodiversity-celebration-week-2/
END:VEVENT
BEGIN:VEVENT
DTSTART;VALUE=DATE:20260320
DTEND;VALUE=DATE:20260321
DTSTAMP:20260424T162222
CREATED:20251106T144022Z
LAST-MODIFIED:20260205T144045Z
UID:18659-1773964800-1774051199@www.williampatten.hackney.sch.uk
SUMMARY:Eid al-Fitr (depending on moon sighting)
DESCRIPTION:
URL:https://www.williampatten.hackney.sch.uk/event/eid-al-fitr-depending-on-moon-sighting/
END:VEVENT
BEGIN:VEVENT
DTSTART;VALUE=DATE:20260320
DTEND;VALUE=DATE:20260321
DTSTAMP:20260424T162222
CREATED:20260205T144019Z
LAST-MODIFIED:20260205T144019Z
UID:19353-1773964800-1774051199@www.williampatten.hackney.sch.uk
SUMMARY:Red Nose Day
DESCRIPTION:
URL:https://www.williampatten.hackney.sch.uk/event/red-nose-day-7/
END:VEVENT
END:VCALENDAR