BEGIN:VCALENDAR
VERSION:2.0
PRODID:-//William Patten Primary School - ECPv6.15.20//NONSGML v1.0//EN
CALSCALE:GREGORIAN
METHOD:PUBLISH
X-ORIGINAL-URL:https://www.williampatten.hackney.sch.uk
X-WR-CALDESC:Events for William Patten Primary School
REFRESH-INTERVAL;VALUE=DURATION:PT1H
X-Robots-Tag:noindex
X-PUBLISHED-TTL:PT1H
BEGIN:VTIMEZONE
TZID:Europe/London
BEGIN:DAYLIGHT
TZOFFSETFROM:+0000
TZOFFSETTO:+0100
TZNAME:BST
DTSTART:20250330T010000
END:DAYLIGHT
BEGIN:STANDARD
TZOFFSETFROM:+0100
TZOFFSETTO:+0000
TZNAME:GMT
DTSTART:20251026T010000
END:STANDARD
BEGIN:DAYLIGHT
TZOFFSETFROM:+0000
TZOFFSETTO:+0100
TZNAME:BST
DTSTART:20260329T010000
END:DAYLIGHT
BEGIN:STANDARD
TZOFFSETFROM:+0100
TZOFFSETTO:+0000
TZNAME:GMT
DTSTART:20261025T010000
END:STANDARD
BEGIN:DAYLIGHT
TZOFFSETFROM:+0000
TZOFFSETTO:+0100
TZNAME:BST
DTSTART:20270328T010000
END:DAYLIGHT
BEGIN:STANDARD
TZOFFSETFROM:+0100
TZOFFSETTO:+0000
TZNAME:GMT
DTSTART:20271031T010000
END:STANDARD
END:VTIMEZONE
BEGIN:VEVENT
DTSTART;VALUE=DATE:20260323
DTEND;VALUE=DATE:20260328
DTSTAMP:20260424T162239
CREATED:20250723T093603Z
LAST-MODIFIED:20250723T093603Z
UID:18216-1774224000-1774655999@www.williampatten.hackney.sch.uk
SUMMARY:Shakespeare Week
DESCRIPTION:
URL:https://www.williampatten.hackney.sch.uk/event/shakespeare-week-4/
END:VEVENT
BEGIN:VEVENT
DTSTART;VALUE=DATE:20260325
DTEND;VALUE=DATE:20260326
DTSTAMP:20260424T162239
CREATED:20250723T091506Z
LAST-MODIFIED:20250917T150717Z
UID:18194-1774396800-1774483199@www.williampatten.hackney.sch.uk
SUMMARY:Y2 CDWU 11.45am
DESCRIPTION:
URL:https://www.williampatten.hackney.sch.uk/event/y2-cdwu-11-45am/
END:VEVENT
BEGIN:VEVENT
DTSTART;VALUE=DATE:20260325
DTEND;VALUE=DATE:20260326
DTSTAMP:20260424T162239
CREATED:20250925T104008Z
LAST-MODIFIED:20250925T104008Z
UID:18471-1774396800-1774483199@www.williampatten.hackney.sch.uk
SUMMARY:Reception trip to Postal Museum
DESCRIPTION:
URL:https://www.williampatten.hackney.sch.uk/event/reception-trip-to-postal-museum/
END:VEVENT
BEGIN:VEVENT
DTSTART;VALUE=DATE:20260325
DTEND;VALUE=DATE:20260326
DTSTAMP:20260424T162239
CREATED:20260210T093915Z
LAST-MODIFIED:20260310T170425Z
UID:19439-1774396800-1774483199@www.williampatten.hackney.sch.uk
SUMMARY:Eco Team local trip (litter picking)
DESCRIPTION:
URL:https://www.williampatten.hackney.sch.uk/event/eco-team-local-trip-litter-picking/
END:VEVENT
BEGIN:VEVENT
DTSTART;VALUE=DATE:20260325
DTEND;VALUE=DATE:20260326
DTSTAMP:20260424T162239
CREATED:20260312T145602Z
LAST-MODIFIED:20260312T145602Z
UID:19546-1774396800-1774483199@www.williampatten.hackney.sch.uk
SUMMARY:WW2 workshop for Y3 children
DESCRIPTION:
URL:https://www.williampatten.hackney.sch.uk/event/ww2-workshop-for-y3-children/
END:VEVENT
END:VCALENDAR