BEGIN:VCALENDAR
VERSION:2.0
PRODID:-//William Patten Primary School - ECPv6.15.20//NONSGML v1.0//EN
CALSCALE:GREGORIAN
METHOD:PUBLISH
X-ORIGINAL-URL:https://www.williampatten.hackney.sch.uk
X-WR-CALDESC:Events for William Patten Primary School
REFRESH-INTERVAL;VALUE=DURATION:PT1H
X-Robots-Tag:noindex
X-PUBLISHED-TTL:PT1H
BEGIN:VTIMEZONE
TZID:Europe/London
BEGIN:DAYLIGHT
TZOFFSETFROM:+0000
TZOFFSETTO:+0100
TZNAME:BST
DTSTART:20250330T010000
END:DAYLIGHT
BEGIN:STANDARD
TZOFFSETFROM:+0100
TZOFFSETTO:+0000
TZNAME:GMT
DTSTART:20251026T010000
END:STANDARD
BEGIN:DAYLIGHT
TZOFFSETFROM:+0000
TZOFFSETTO:+0100
TZNAME:BST
DTSTART:20260329T010000
END:DAYLIGHT
BEGIN:STANDARD
TZOFFSETFROM:+0100
TZOFFSETTO:+0000
TZNAME:GMT
DTSTART:20261025T010000
END:STANDARD
BEGIN:DAYLIGHT
TZOFFSETFROM:+0000
TZOFFSETTO:+0100
TZNAME:BST
DTSTART:20270328T010000
END:DAYLIGHT
BEGIN:STANDARD
TZOFFSETFROM:+0100
TZOFFSETTO:+0000
TZNAME:GMT
DTSTART:20271031T010000
END:STANDARD
END:VTIMEZONE
BEGIN:VEVENT
DTSTART;VALUE=DATE:20260323
DTEND;VALUE=DATE:20260328
DTSTAMP:20260424T163130
CREATED:20250723T093603Z
LAST-MODIFIED:20250723T093603Z
UID:18216-1774224000-1774655999@www.williampatten.hackney.sch.uk
SUMMARY:Shakespeare Week
DESCRIPTION:
URL:https://www.williampatten.hackney.sch.uk/event/shakespeare-week-4/
END:VEVENT
BEGIN:VEVENT
DTSTART;VALUE=DATE:20260327
DTEND;VALUE=DATE:20260328
DTSTAMP:20260424T163130
CREATED:20250723T093710Z
LAST-MODIFIED:20250723T093710Z
UID:18218-1774569600-1774655999@www.williampatten.hackney.sch.uk
SUMMARY:2C class assembly 2.45pm
DESCRIPTION:
URL:https://www.williampatten.hackney.sch.uk/event/2c-class-assembly-2-45pm-2/
END:VEVENT
BEGIN:VEVENT
DTSTART;VALUE=DATE:20260327
DTEND;VALUE=DATE:20260328
DTSTAMP:20260424T163130
CREATED:20250723T093746Z
LAST-MODIFIED:20250723T093746Z
UID:18220-1774569600-1774655999@www.williampatten.hackney.sch.uk
SUMMARY:Break up for Easter
DESCRIPTION:
URL:https://www.williampatten.hackney.sch.uk/event/break-up-for-easter-6/
END:VEVENT
END:VCALENDAR