BEGIN:VCALENDAR
VERSION:2.0
PRODID:-//William Patten Primary School - ECPv6.15.20//NONSGML v1.0//EN
CALSCALE:GREGORIAN
METHOD:PUBLISH
X-ORIGINAL-URL:https://www.williampatten.hackney.sch.uk
X-WR-CALDESC:Events for William Patten Primary School
REFRESH-INTERVAL;VALUE=DURATION:PT1H
X-Robots-Tag:noindex
X-PUBLISHED-TTL:PT1H
BEGIN:VTIMEZONE
TZID:Europe/London
BEGIN:DAYLIGHT
TZOFFSETFROM:+0000
TZOFFSETTO:+0100
TZNAME:BST
DTSTART:20250330T010000
END:DAYLIGHT
BEGIN:STANDARD
TZOFFSETFROM:+0100
TZOFFSETTO:+0000
TZNAME:GMT
DTSTART:20251026T010000
END:STANDARD
BEGIN:DAYLIGHT
TZOFFSETFROM:+0000
TZOFFSETTO:+0100
TZNAME:BST
DTSTART:20260329T010000
END:DAYLIGHT
BEGIN:STANDARD
TZOFFSETFROM:+0100
TZOFFSETTO:+0000
TZNAME:GMT
DTSTART:20261025T010000
END:STANDARD
BEGIN:DAYLIGHT
TZOFFSETFROM:+0000
TZOFFSETTO:+0100
TZNAME:BST
DTSTART:20270328T010000
END:DAYLIGHT
BEGIN:STANDARD
TZOFFSETFROM:+0100
TZOFFSETTO:+0000
TZNAME:GMT
DTSTART:20271031T010000
END:STANDARD
END:VTIMEZONE
BEGIN:VEVENT
DTSTART;VALUE=DATE:20260423
DTEND;VALUE=DATE:20260424
DTSTAMP:20260424T142807
CREATED:20250723T094846Z
LAST-MODIFIED:20250723T094846Z
UID:18236-1776902400-1776988799@www.williampatten.hackney.sch.uk
SUMMARY:EDI Committee meeting (International Evening prep)
DESCRIPTION:
URL:https://www.williampatten.hackney.sch.uk/event/edi-committee-meeting-international-evening-prep/
END:VEVENT
BEGIN:VEVENT
DTSTART;VALUE=DATE:20260423
DTEND;VALUE=DATE:20260424
DTSTAMP:20260424T142807
CREATED:20250723T094951Z
LAST-MODIFIED:20250723T094951Z
UID:18238-1776902400-1776988799@www.williampatten.hackney.sch.uk
SUMMARY:St George's Day
DESCRIPTION:
URL:https://www.williampatten.hackney.sch.uk/event/st-georges-day-2/
END:VEVENT
BEGIN:VEVENT
DTSTART;VALUE=DATE:20260423
DTEND;VALUE=DATE:20260424
DTSTAMP:20260424T142807
CREATED:20260206T151109Z
LAST-MODIFIED:20260327T163136Z
UID:19427-1776902400-1776988799@www.williampatten.hackney.sch.uk
SUMMARY:PTFA Movie Night for children
DESCRIPTION:
URL:https://www.williampatten.hackney.sch.uk/event/ptfa-auction-evening/
END:VEVENT
BEGIN:VEVENT
DTSTART;VALUE=DATE:20260423
DTEND;VALUE=DATE:20260424
DTSTAMP:20260424T142807
CREATED:20260423T102919Z
LAST-MODIFIED:20260423T102919Z
UID:19702-1776902400-1776988799@www.williampatten.hackney.sch.uk
SUMMARY:Year 4 Viking Day
DESCRIPTION:
URL:https://www.williampatten.hackney.sch.uk/event/year-4-viking-day/
END:VEVENT
END:VCALENDAR