BEGIN:VCALENDAR
VERSION:2.0
PRODID:-//William Patten Primary School - ECPv6.15.20//NONSGML v1.0//EN
CALSCALE:GREGORIAN
METHOD:PUBLISH
X-WR-CALNAME:William Patten Primary School
X-ORIGINAL-URL:https://www.williampatten.hackney.sch.uk
X-WR-CALDESC:Events for William Patten Primary School
REFRESH-INTERVAL;VALUE=DURATION:PT1H
X-Robots-Tag:noindex
X-PUBLISHED-TTL:PT1H
BEGIN:VTIMEZONE
TZID:Europe/London
BEGIN:DAYLIGHT
TZOFFSETFROM:+0000
TZOFFSETTO:+0100
TZNAME:BST
DTSTART:20170326T010000
END:DAYLIGHT
BEGIN:STANDARD
TZOFFSETFROM:+0100
TZOFFSETTO:+0000
TZNAME:GMT
DTSTART:20171029T010000
END:STANDARD
BEGIN:DAYLIGHT
TZOFFSETFROM:+0000
TZOFFSETTO:+0100
TZNAME:BST
DTSTART:20180325T010000
END:DAYLIGHT
BEGIN:STANDARD
TZOFFSETFROM:+0100
TZOFFSETTO:+0000
TZNAME:GMT
DTSTART:20181028T010000
END:STANDARD
BEGIN:DAYLIGHT
TZOFFSETFROM:+0000
TZOFFSETTO:+0100
TZNAME:BST
DTSTART:20190331T010000
END:DAYLIGHT
BEGIN:STANDARD
TZOFFSETFROM:+0100
TZOFFSETTO:+0000
TZNAME:GMT
DTSTART:20191027T010000
END:STANDARD
END:VTIMEZONE
BEGIN:VEVENT
DTSTART;VALUE=DATE:20180427
DTEND;VALUE=DATE:20180428
DTSTAMP:20260421T212039
CREATED:20180226T113836Z
LAST-MODIFIED:20180226T113836Z
UID:3894-1524787200-1524873599@www.williampatten.hackney.sch.uk
SUMMARY:International Evening
DESCRIPTION:
URL:https://www.williampatten.hackney.sch.uk/event/international-evening-3/
END:VEVENT
BEGIN:VEVENT
DTSTART;VALUE=DATE:20180423
DTEND;VALUE=DATE:20180424
DTSTAMP:20260421T212039
CREATED:20180226T113801Z
LAST-MODIFIED:20180305T085433Z
UID:3892-1524441600-1524527999@www.williampatten.hackney.sch.uk
SUMMARY:Caring for cats talk (Nursery - Year 2)
DESCRIPTION:
URL:https://www.williampatten.hackney.sch.uk/event/caring-for-cats-talk-nursery-y2/
END:VEVENT
BEGIN:VEVENT
DTSTART;VALUE=DATE:20180419
DTEND;VALUE=DATE:20180420
DTSTAMP:20260421T212039
CREATED:20180226T113119Z
LAST-MODIFIED:20180226T113119Z
UID:3890-1524096000-1524182399@www.williampatten.hackney.sch.uk
SUMMARY:Year 5 to Science Museum
DESCRIPTION:
URL:https://www.williampatten.hackney.sch.uk/event/year-5-to-science-museum/
END:VEVENT
BEGIN:VEVENT
DTSTART;VALUE=DATE:20180416
DTEND;VALUE=DATE:20180417
DTSTAMP:20260421T212039
CREATED:20170802T110834Z
LAST-MODIFIED:20170802T110834Z
UID:3334-1523836800-1523923199@www.williampatten.hackney.sch.uk
SUMMARY:Children return to school
DESCRIPTION:
URL:https://www.williampatten.hackney.sch.uk/event/children-return-to-school-11/
END:VEVENT
BEGIN:VEVENT
DTSTART;VALUE=DATE:20180329
DTEND;VALUE=DATE:20180330
DTSTAMP:20260421T212039
CREATED:20170802T110728Z
LAST-MODIFIED:20170802T110728Z
UID:3332-1522281600-1522367999@www.williampatten.hackney.sch.uk
SUMMARY:Break up for Easter holidays
DESCRIPTION:
URL:https://www.williampatten.hackney.sch.uk/event/break-up-for-easter-holidays-2/
END:VEVENT
BEGIN:VEVENT
DTSTART;VALUE=DATE:20180328
DTEND;VALUE=DATE:20180329
DTSTAMP:20260421T212039
CREATED:20180226T112827Z
LAST-MODIFIED:20180226T112827Z
UID:3888-1522195200-1522281599@www.williampatten.hackney.sch.uk
SUMMARY:3A trip to Learning School Garden
DESCRIPTION:
URL:https://www.williampatten.hackney.sch.uk/event/3a-trip-to-learning-school-garden/
END:VEVENT
BEGIN:VEVENT
DTSTART;VALUE=DATE:20180327
DTEND;VALUE=DATE:20180328
DTSTAMP:20260421T212039
CREATED:20180226T112626Z
LAST-MODIFIED:20180226T112626Z
UID:3886-1522108800-1522195199@www.williampatten.hackney.sch.uk
SUMMARY:Deborah Reade Art Award Assembly
DESCRIPTION:
URL:https://www.williampatten.hackney.sch.uk/event/deborah-reade-art-award-assembly-4/
END:VEVENT
BEGIN:VEVENT
DTSTART;VALUE=DATE:20180326
DTEND;VALUE=DATE:20180327
DTSTAMP:20260421T212039
CREATED:20180226T111320Z
LAST-MODIFIED:20180226T111320Z
UID:3884-1522022400-1522108799@www.williampatten.hackney.sch.uk
SUMMARY:Year 4 workshops at the Wallace Collection
DESCRIPTION:
URL:https://www.williampatten.hackney.sch.uk/event/year-4-workshops-at-the-wallace-collection/
END:VEVENT
BEGIN:VEVENT
DTSTART;VALUE=DATE:20180326
DTEND;VALUE=DATE:20180327
DTSTAMP:20260421T212039
CREATED:20180226T111159Z
LAST-MODIFIED:20180226T111527Z
UID:3882-1522022400-1522108799@www.williampatten.hackney.sch.uk
SUMMARY:Circus skills workshop (Year 6)
DESCRIPTION:
URL:https://www.williampatten.hackney.sch.uk/event/circus-skills-workshop-year-6/
END:VEVENT
BEGIN:VEVENT
DTSTART;VALUE=DATE:20180323
DTEND;VALUE=DATE:20180324
DTSTAMP:20260421T212039
CREATED:20170802T110635Z
LAST-MODIFIED:20170802T110635Z
UID:3330-1521763200-1521849599@www.williampatten.hackney.sch.uk
SUMMARY:Sport Relief
DESCRIPTION:
URL:https://www.williampatten.hackney.sch.uk/event/sport-relief/
END:VEVENT
BEGIN:VEVENT
DTSTART;VALUE=DATE:20180322
DTEND;VALUE=DATE:20180323
DTSTAMP:20260421T212039
CREATED:20180226T110644Z
LAST-MODIFIED:20180226T110644Z
UID:3880-1521676800-1521763199@www.williampatten.hackney.sch.uk
SUMMARY:Year 6 visiting Broadgate
DESCRIPTION:
URL:https://www.williampatten.hackney.sch.uk/event/year-6-visiting-broadgate/
END:VEVENT
BEGIN:VEVENT
DTSTART;VALUE=DATE:20180322
DTEND;VALUE=DATE:20180323
DTSTAMP:20260421T212039
CREATED:20180226T110551Z
LAST-MODIFIED:20180226T110551Z
UID:3878-1521676800-1521763199@www.williampatten.hackney.sch.uk
SUMMARY:Year 3 workshops at the Wallace Collection
DESCRIPTION:
URL:https://www.williampatten.hackney.sch.uk/event/year-3-workshops-at-the-wallace-collection/
END:VEVENT
BEGIN:VEVENT
DTSTART;VALUE=DATE:20180322
DTEND;VALUE=DATE:20180323
DTSTAMP:20260421T212039
CREATED:20180226T110310Z
LAST-MODIFIED:20180226T110310Z
UID:3876-1521676800-1521763199@www.williampatten.hackney.sch.uk
SUMMARY:5D visiting Two Temple Place
DESCRIPTION:
URL:https://www.williampatten.hackney.sch.uk/event/5d-visiting-two-temple-place/
END:VEVENT
BEGIN:VEVENT
DTSTART;VALUE=DATE:20180321
DTEND;VALUE=DATE:20180322
DTSTAMP:20260421T212039
CREATED:20180226T110221Z
LAST-MODIFIED:20180321T114934Z
UID:3874-1521590400-1521676799@www.williampatten.hackney.sch.uk
SUMMARY:Gymnastics performance for parents (Reception at 2.45pm & Year 4 at 3pm)
DESCRIPTION:
URL:https://www.williampatten.hackney.sch.uk/event/gymnastics-performance-for-parents-reception-year-4/
END:VEVENT
BEGIN:VEVENT
DTSTART;VALUE=DATE:20180321
DTEND;VALUE=DATE:20180322
DTSTAMP:20260421T212039
CREATED:20180226T110134Z
LAST-MODIFIED:20180226T110134Z
UID:3872-1521590400-1521676799@www.williampatten.hackney.sch.uk
SUMMARY:5M visiting Two Temple Place
DESCRIPTION:
URL:https://www.williampatten.hackney.sch.uk/event/5m-visiting-two-temple-place/
END:VEVENT
BEGIN:VEVENT
DTSTART;VALUE=DATE:20180319
DTEND;VALUE=DATE:20180320
DTSTAMP:20260421T212039
CREATED:20180226T105954Z
LAST-MODIFIED:20180226T105954Z
UID:3870-1521417600-1521503999@www.williampatten.hackney.sch.uk
SUMMARY:Drama4All workshop (Year 5)
DESCRIPTION:
URL:https://www.williampatten.hackney.sch.uk/event/drama4all-workshop-year-5/
END:VEVENT
BEGIN:VEVENT
DTSTART;VALUE=DATE:20180319
DTEND;VALUE=DATE:20180320
DTSTAMP:20260421T212039
CREATED:20180226T105919Z
LAST-MODIFIED:20180226T105919Z
UID:3868-1521417600-1521503999@www.williampatten.hackney.sch.uk
SUMMARY:Bikers Breakfast
DESCRIPTION:
URL:https://www.williampatten.hackney.sch.uk/event/bikers-breakfast/
END:VEVENT
BEGIN:VEVENT
DTSTART;VALUE=DATE:20180315
DTEND;VALUE=DATE:20180316
DTSTAMP:20260421T212039
CREATED:20180226T105752Z
LAST-MODIFIED:20180226T105752Z
UID:3866-1521072000-1521158399@www.williampatten.hackney.sch.uk
SUMMARY:St Patrick's Day Assembly
DESCRIPTION:
URL:https://www.williampatten.hackney.sch.uk/event/st-patricks-day-assembly-2/
END:VEVENT
BEGIN:VEVENT
DTSTART;VALUE=DATE:20180315
DTEND;VALUE=DATE:20180316
DTSTAMP:20260421T212039
CREATED:20170802T110352Z
LAST-MODIFIED:20170802T110352Z
UID:3326-1521072000-1521158399@www.williampatten.hackney.sch.uk
SUMMARY:Parents Evening 4.00 - 6.30pm
DESCRIPTION:
URL:https://www.williampatten.hackney.sch.uk/event/parents-evening-4-00-6-30pm-5/
END:VEVENT
BEGIN:VEVENT
DTSTART;VALUE=DATE:20180313
DTEND;VALUE=DATE:20180314
DTSTAMP:20260421T212039
CREATED:20180226T104952Z
LAST-MODIFIED:20180226T104952Z
UID:3863-1520899200-1520985599@www.williampatten.hackney.sch.uk
SUMMARY:Personal Best (Year 3)
DESCRIPTION:
URL:https://www.williampatten.hackney.sch.uk/event/personal-best-year-3/
END:VEVENT
BEGIN:VEVENT
DTSTART;VALUE=DATE:20180312
DTEND;VALUE=DATE:20180313
DTSTAMP:20260421T212039
CREATED:20180226T104903Z
LAST-MODIFIED:20180226T104903Z
UID:3861-1520812800-1520899199@www.williampatten.hackney.sch.uk
SUMMARY:Local history project starts (whole school)
DESCRIPTION:
URL:https://www.williampatten.hackney.sch.uk/event/local-history-project-starts-whole-school/
END:VEVENT
BEGIN:VEVENT
DTSTART;VALUE=DATE:20180308
DTEND;VALUE=DATE:20180314
DTSTAMP:20260421T212039
CREATED:20170802T110202Z
LAST-MODIFIED:20180307T105942Z
UID:3322-1520467200-1520985599@www.williampatten.hackney.sch.uk
SUMMARY:Travelling Book Fair (3.30 - 4.00pm)
DESCRIPTION:
URL:https://www.williampatten.hackney.sch.uk/event/travelling-book-fair/
END:VEVENT
BEGIN:VEVENT
DTSTART;VALUE=DATE:20180308
DTEND;VALUE=DATE:20180309
DTSTAMP:20260421T212039
CREATED:20170802T110305Z
LAST-MODIFIED:20170802T110305Z
UID:3324-1520467200-1520553599@www.williampatten.hackney.sch.uk
SUMMARY:Parents Evening 5.00 - 7.30pm
DESCRIPTION:
URL:https://www.williampatten.hackney.sch.uk/event/parents-evening-5-00-7-30pm-3/
END:VEVENT
BEGIN:VEVENT
DTSTART;VALUE=DATE:20180301
DTEND;VALUE=DATE:20180302
DTSTAMP:20260421T212039
CREATED:20170802T105511Z
LAST-MODIFIED:20170802T105511Z
UID:3318-1519862400-1519948799@www.williampatten.hackney.sch.uk
SUMMARY:World Book Day
DESCRIPTION:
URL:https://www.williampatten.hackney.sch.uk/event/world-book-day-3/
END:VEVENT
BEGIN:VEVENT
DTSTART;VALUE=DATE:20180228
DTEND;VALUE=DATE:20180301
DTSTAMP:20260421T212039
CREATED:20180226T104454Z
LAST-MODIFIED:20180226T104454Z
UID:3859-1519776000-1519862399@www.williampatten.hackney.sch.uk
SUMMARY:Year 2 trip to St Mary's Church
DESCRIPTION:
URL:https://www.williampatten.hackney.sch.uk/event/year-2-trip-to-st-marys-church/
END:VEVENT
BEGIN:VEVENT
DTSTART;VALUE=DATE:20180226
DTEND;VALUE=DATE:20180227
DTSTAMP:20260421T212039
CREATED:20180226T104113Z
LAST-MODIFIED:20180226T104113Z
UID:3857-1519603200-1519689599@www.williampatten.hackney.sch.uk
SUMMARY:Nature Day
DESCRIPTION:
URL:https://www.williampatten.hackney.sch.uk/event/nature-day/
END:VEVENT
BEGIN:VEVENT
DTSTART;VALUE=DATE:20180221
DTEND;VALUE=DATE:20180222
DTSTAMP:20260421T212039
CREATED:20170802T105415Z
LAST-MODIFIED:20171130T143833Z
UID:3316-1519171200-1519257599@www.williampatten.hackney.sch.uk
SUMMARY:Chinese New Year Lunch
DESCRIPTION:
URL:https://www.williampatten.hackney.sch.uk/event/chinese-new-year-school-dinner/
END:VEVENT
BEGIN:VEVENT
DTSTART;VALUE=DATE:20180220
DTEND;VALUE=DATE:20180221
DTSTAMP:20260421T212039
CREATED:20170802T105304Z
LAST-MODIFIED:20170802T105304Z
UID:3314-1519084800-1519171199@www.williampatten.hackney.sch.uk
SUMMARY:Children return to school
DESCRIPTION:
URL:https://www.williampatten.hackney.sch.uk/event/children-return-to-school-10/
END:VEVENT
BEGIN:VEVENT
DTSTART;VALUE=DATE:20180219
DTEND;VALUE=DATE:20180220
DTSTAMP:20260421T212039
CREATED:20170802T105208Z
LAST-MODIFIED:20170802T105208Z
UID:3312-1518998400-1519084799@www.williampatten.hackney.sch.uk
SUMMARY:Inset Day
DESCRIPTION:
URL:https://www.williampatten.hackney.sch.uk/event/inset-day-7/
END:VEVENT
BEGIN:VEVENT
DTSTART;VALUE=DATE:20180209
DTEND;VALUE=DATE:20180210
DTSTAMP:20260421T212039
CREATED:20170802T105114Z
LAST-MODIFIED:20170802T105114Z
UID:3310-1518134400-1518220799@www.williampatten.hackney.sch.uk
SUMMARY:Break up for half term
DESCRIPTION:
URL:https://www.williampatten.hackney.sch.uk/event/break-up-for-half-term-6/
END:VEVENT
END:VCALENDAR