BEGIN:VCALENDAR
VERSION:2.0
PRODID:-//William Patten Primary School - ECPv6.15.20//NONSGML v1.0//EN
CALSCALE:GREGORIAN
METHOD:PUBLISH
X-WR-CALNAME:William Patten Primary School
X-ORIGINAL-URL:https://www.williampatten.hackney.sch.uk
X-WR-CALDESC:Events for William Patten Primary School
REFRESH-INTERVAL;VALUE=DURATION:PT1H
X-Robots-Tag:noindex
X-PUBLISHED-TTL:PT1H
BEGIN:VTIMEZONE
TZID:Europe/London
BEGIN:DAYLIGHT
TZOFFSETFROM:+0000
TZOFFSETTO:+0100
TZNAME:BST
DTSTART:20160327T010000
END:DAYLIGHT
BEGIN:STANDARD
TZOFFSETFROM:+0100
TZOFFSETTO:+0000
TZNAME:GMT
DTSTART:20161030T010000
END:STANDARD
BEGIN:DAYLIGHT
TZOFFSETFROM:+0000
TZOFFSETTO:+0100
TZNAME:BST
DTSTART:20170326T010000
END:DAYLIGHT
BEGIN:STANDARD
TZOFFSETFROM:+0100
TZOFFSETTO:+0000
TZNAME:GMT
DTSTART:20171029T010000
END:STANDARD
BEGIN:DAYLIGHT
TZOFFSETFROM:+0000
TZOFFSETTO:+0100
TZNAME:BST
DTSTART:20180325T010000
END:DAYLIGHT
BEGIN:STANDARD
TZOFFSETFROM:+0100
TZOFFSETTO:+0000
TZNAME:GMT
DTSTART:20181028T010000
END:STANDARD
END:VTIMEZONE
BEGIN:VEVENT
DTSTART;VALUE=DATE:20171203
DTEND;VALUE=DATE:20171204
DTSTAMP:20260422T064039
CREATED:20170926T115510Z
LAST-MODIFIED:20171123T125802Z
UID:3439-1512259200-1512345599@www.williampatten.hackney.sch.uk
SUMMARY:Winter Fair 12-3pm
DESCRIPTION:
URL:https://www.williampatten.hackney.sch.uk/event/winter-fair-2/
END:VEVENT
BEGIN:VEVENT
DTSTART;VALUE=DATE:20171129
DTEND;VALUE=DATE:20171130
DTSTAMP:20260422T064039
CREATED:20170926T115410Z
LAST-MODIFIED:20170926T115410Z
UID:3437-1511913600-1511999999@www.williampatten.hackney.sch.uk
SUMMARY:Dancer in Residence starts
DESCRIPTION:
URL:https://www.williampatten.hackney.sch.uk/event/dancer-in-residence-starts/
END:VEVENT
BEGIN:VEVENT
DTSTART;VALUE=DATE:20171128
DTEND;VALUE=DATE:20171129
DTSTAMP:20260422T064039
CREATED:20171102T104805Z
LAST-MODIFIED:20171102T104805Z
UID:3555-1511827200-1511913599@www.williampatten.hackney.sch.uk
SUMMARY:Year 5 trip to British Museum
DESCRIPTION:
URL:https://www.williampatten.hackney.sch.uk/event/year-5-trip-to-british-museum/
END:VEVENT
BEGIN:VEVENT
DTSTART;VALUE=DATE:20171127
DTEND;VALUE=DATE:20171128
DTSTAMP:20260422T064039
CREATED:20171102T104549Z
LAST-MODIFIED:20171102T104549Z
UID:3553-1511740800-1511827199@www.williampatten.hackney.sch.uk
SUMMARY:Buzz Roadshow for KS1
DESCRIPTION:
URL:https://www.williampatten.hackney.sch.uk/event/buzz-roadshow-for-ks1/
END:VEVENT
BEGIN:VEVENT
DTSTART;VALUE=DATE:20171127
DTEND;VALUE=DATE:20171128
DTSTAMP:20260422T064039
CREATED:20170802T103737Z
LAST-MODIFIED:20170802T103737Z
UID:3293-1511740800-1511827199@www.williampatten.hackney.sch.uk
SUMMARY:Winter Warmers Appeal starts
DESCRIPTION:
URL:https://www.williampatten.hackney.sch.uk/event/winter-warmers-appeal-starts-2/
END:VEVENT
BEGIN:VEVENT
DTSTART;VALUE=DATE:20171124
DTEND;VALUE=DATE:20171125
DTSTAMP:20260422T064039
CREATED:20171116T112447Z
LAST-MODIFIED:20171116T112447Z
UID:3668-1511481600-1511567999@www.williampatten.hackney.sch.uk
SUMMARY:Maths workshop for 1N parents (9.30-10.30am)
DESCRIPTION:
URL:https://www.williampatten.hackney.sch.uk/event/maths-workshop-for-1n-parents-9-30-10-30am/
END:VEVENT
BEGIN:VEVENT
DTSTART;VALUE=DATE:20171124
DTEND;VALUE=DATE:20171125
DTSTAMP:20260422T064039
CREATED:20170926T115334Z
LAST-MODIFIED:20170926T115334Z
UID:3435-1511481600-1511567999@www.williampatten.hackney.sch.uk
SUMMARY:Year 4 to Hackney Museum (Black History Month)
DESCRIPTION:
URL:https://www.williampatten.hackney.sch.uk/event/year-4-to-hackney-museum-black-history-month/
END:VEVENT
BEGIN:VEVENT
DTSTART;VALUE=DATE:20171123
DTEND;VALUE=DATE:20171124
DTSTAMP:20260422T064039
CREATED:20171116T112425Z
LAST-MODIFIED:20171116T112425Z
UID:3666-1511395200-1511481599@www.williampatten.hackney.sch.uk
SUMMARY:Maths workshop for 1A parents (9.30-10.30am)
DESCRIPTION:
URL:https://www.williampatten.hackney.sch.uk/event/maths-workshop-for-1a-parents-9-30-10-30am/
END:VEVENT
BEGIN:VEVENT
DTSTART;VALUE=DATE:20171123
DTEND;VALUE=DATE:20171124
DTSTAMP:20260422T064039
CREATED:20170926T115250Z
LAST-MODIFIED:20170926T115250Z
UID:3433-1511395200-1511481599@www.williampatten.hackney.sch.uk
SUMMARY:PTFA Quiz Night
DESCRIPTION:
URL:https://www.williampatten.hackney.sch.uk/event/ptfa-quiz-night/
END:VEVENT
BEGIN:VEVENT
DTSTART;VALUE=DATE:20171123
DTEND;VALUE=DATE:20171124
DTSTAMP:20260422T064039
CREATED:20170926T115223Z
LAST-MODIFIED:20170926T115223Z
UID:3431-1511395200-1511481599@www.williampatten.hackney.sch.uk
SUMMARY:Year 3 to Hackney Museum (Black History Month)
DESCRIPTION:
URL:https://www.williampatten.hackney.sch.uk/event/year-3-to-hackney-museum-black-history-month/
END:VEVENT
BEGIN:VEVENT
DTSTART;VALUE=DATE:20171122
DTEND;VALUE=DATE:20171123
DTSTAMP:20260422T064039
CREATED:20170926T115149Z
LAST-MODIFIED:20170926T115149Z
UID:3429-1511308800-1511395199@www.williampatten.hackney.sch.uk
SUMMARY:1N & Y2 to Hackney Museum (Black History Month)
DESCRIPTION:
URL:https://www.williampatten.hackney.sch.uk/event/1n-y2-to-hackney-museum-black-history-month/
END:VEVENT
BEGIN:VEVENT
DTSTART;VALUE=DATE:20171121
DTEND;VALUE=DATE:20171122
DTSTAMP:20260422T064039
CREATED:20171102T104428Z
LAST-MODIFIED:20171102T104428Z
UID:3551-1511222400-1511308799@www.williampatten.hackney.sch.uk
SUMMARY:KS2 Road Safety Assembly
DESCRIPTION:
URL:https://www.williampatten.hackney.sch.uk/event/ks2-road-safety-assembly/
END:VEVENT
BEGIN:VEVENT
DTSTART;VALUE=DATE:20171121
DTEND;VALUE=DATE:20171122
DTSTAMP:20260422T064039
CREATED:20170926T115112Z
LAST-MODIFIED:20170926T115112Z
UID:3427-1511222400-1511308799@www.williampatten.hackney.sch.uk
SUMMARY:1A to Hackney Museum (Black History Month)
DESCRIPTION:
URL:https://www.williampatten.hackney.sch.uk/event/1a-to-hackney-museum-black-history-month/
END:VEVENT
BEGIN:VEVENT
DTSTART;VALUE=DATE:20171121
DTEND;VALUE=DATE:20171122
DTSTAMP:20260422T064039
CREATED:20170802T103637Z
LAST-MODIFIED:20170802T103637Z
UID:3291-1511222400-1511308799@www.williampatten.hackney.sch.uk
SUMMARY:Tastes of the World
DESCRIPTION:
URL:https://www.williampatten.hackney.sch.uk/event/tastes-of-the-world-2/
END:VEVENT
BEGIN:VEVENT
DTSTART;VALUE=DATE:20171120
DTEND;VALUE=DATE:20171121
DTSTAMP:20260422T064039
CREATED:20171102T104100Z
LAST-MODIFIED:20171102T104100Z
UID:3549-1511136000-1511222399@www.williampatten.hackney.sch.uk
SUMMARY:Dancer in Residence Launch Assembly
DESCRIPTION:
URL:https://www.williampatten.hackney.sch.uk/event/dancer-in-residence-launch-assembly/
END:VEVENT
BEGIN:VEVENT
DTSTART;VALUE=DATE:20171116
DTEND;VALUE=DATE:20171117
DTSTAMP:20260422T064039
CREATED:20170802T103525Z
LAST-MODIFIED:20171116T102237Z
UID:3289-1510790400-1510876799@www.williampatten.hackney.sch.uk
SUMMARY:Parents Evening 4.00 - 6.30pm
DESCRIPTION:
URL:https://www.williampatten.hackney.sch.uk/event/parents-evening-4-00-6-30pm-4/
END:VEVENT
BEGIN:VEVENT
DTSTART;VALUE=DATE:20171115
DTEND;VALUE=DATE:20171116
DTSTAMP:20260422T064039
CREATED:20170802T103419Z
LAST-MODIFIED:20170914T082157Z
UID:3287-1510704000-1510790399@www.williampatten.hackney.sch.uk
SUMMARY:Chain Reaction Assembly for Years 4-6
DESCRIPTION:
URL:https://www.williampatten.hackney.sch.uk/event/chain-reaction-assembly-for-years-4-6/
END:VEVENT
BEGIN:VEVENT
DTSTART;VALUE=DATE:20171113
DTEND;VALUE=DATE:20171114
DTSTAMP:20260422T064039
CREATED:20171102T103631Z
LAST-MODIFIED:20171114T095328Z
UID:3546-1510531200-1510617599@www.williampatten.hackney.sch.uk
SUMMARY:5M Groundwork workshops (weekly from today)
DESCRIPTION:
URL:https://www.williampatten.hackney.sch.uk/event/3a-groundwork-workshops/
END:VEVENT
BEGIN:VEVENT
DTSTART;VALUE=DATE:20171113
DTEND;VALUE=DATE:20171114
DTSTAMP:20260422T064039
CREATED:20170802T103331Z
LAST-MODIFIED:20170802T103331Z
UID:3285-1510531200-1510617599@www.williampatten.hackney.sch.uk
SUMMARY:Anti Bullying Week
DESCRIPTION:
URL:https://www.williampatten.hackney.sch.uk/event/anti-bullying-week-2/
END:VEVENT
BEGIN:VEVENT
DTSTART;VALUE=DATE:20171110
DTEND;VALUE=DATE:20171111
DTSTAMP:20260422T064039
CREATED:20171102T103410Z
LAST-MODIFIED:20171102T103410Z
UID:3544-1510272000-1510358399@www.williampatten.hackney.sch.uk
SUMMARY:Year 2 trip to St Pauls Cathedral
DESCRIPTION:
URL:https://www.williampatten.hackney.sch.uk/event/year-2-trip-to-st-pauls-cathedral/
END:VEVENT
BEGIN:VEVENT
DTSTART;VALUE=DATE:20171110
DTEND;VALUE=DATE:20171111
DTSTAMP:20260422T064039
CREATED:20171102T102906Z
LAST-MODIFIED:20171102T102913Z
UID:3542-1510272000-1510358399@www.williampatten.hackney.sch.uk
SUMMARY:Nursery Parent Evening (pm)
DESCRIPTION:
URL:https://www.williampatten.hackney.sch.uk/event/nursery-parent-evening-pm/
END:VEVENT
BEGIN:VEVENT
DTSTART;VALUE=DATE:20171108
DTEND;VALUE=DATE:20171109
DTSTAMP:20260422T064039
CREATED:20170802T103248Z
LAST-MODIFIED:20170802T103248Z
UID:3283-1510099200-1510185599@www.williampatten.hackney.sch.uk
SUMMARY:Parents Evening 5.00 - 7.30pm
DESCRIPTION:
URL:https://www.williampatten.hackney.sch.uk/event/parents-evening-5-00-7-30pm/
END:VEVENT
BEGIN:VEVENT
DTSTART;VALUE=DATE:20171107
DTEND;VALUE=DATE:20171108
DTSTAMP:20260422T064039
CREATED:20170802T103146Z
LAST-MODIFIED:20170802T103146Z
UID:3281-1510012800-1510099199@www.williampatten.hackney.sch.uk
SUMMARY:Year 6 to Millfields Theatre
DESCRIPTION:
URL:https://www.williampatten.hackney.sch.uk/event/year-6-to-millfields-theatre/
END:VEVENT
BEGIN:VEVENT
DTSTART;VALUE=DATE:20171106
DTEND;VALUE=DATE:20171107
DTSTAMP:20260422T064039
CREATED:20171102T102039Z
LAST-MODIFIED:20171102T102758Z
UID:3540-1509926400-1510012799@www.williampatten.hackney.sch.uk
SUMMARY:Invisible Flash Theatre Company visiting Year 2
DESCRIPTION:
URL:https://www.williampatten.hackney.sch.uk/event/invisible-flash-theatre-company-visiting-year-2/
END:VEVENT
BEGIN:VEVENT
DTSTART;TZID=Europe/London:20171102T080000
DTEND;TZID=Europe/London:20171102T170000
DTSTAMP:20260422T064039
CREATED:20171102T115152Z
LAST-MODIFIED:20171102T115152Z
UID:3565-1509609600-1509642000@www.williampatten.hackney.sch.uk
SUMMARY:EYFS Nativity for nursery & reception 1.45pm
DESCRIPTION:
URL:https://www.williampatten.hackney.sch.uk/event/eyfs-nativity-for-nursery-reception-1-45pm/
END:VEVENT
BEGIN:VEVENT
DTSTART;VALUE=DATE:20171101
DTEND;VALUE=DATE:20171102
DTSTAMP:20260422T064039
CREATED:20171102T101933Z
LAST-MODIFIED:20171102T101933Z
UID:3538-1509494400-1509580799@www.williampatten.hackney.sch.uk
SUMMARY:PTFA Winter Fair planning meeting 3.45pm
DESCRIPTION:
URL:https://www.williampatten.hackney.sch.uk/event/ptfa-winter-fair-planning-meeting-3-45pm/
END:VEVENT
BEGIN:VEVENT
DTSTART;VALUE=DATE:20171030
DTEND;VALUE=DATE:20171031
DTSTAMP:20260422T064039
CREATED:20170802T103056Z
LAST-MODIFIED:20170802T103056Z
UID:3279-1509321600-1509407999@www.williampatten.hackney.sch.uk
SUMMARY:Children return to school
DESCRIPTION:
URL:https://www.williampatten.hackney.sch.uk/event/children-return-to-school-8/
END:VEVENT
BEGIN:VEVENT
DTSTART;VALUE=DATE:20171020
DTEND;VALUE=DATE:20171021
DTSTAMP:20260422T064039
CREATED:20170802T102947Z
LAST-MODIFIED:20170802T102947Z
UID:3277-1508457600-1508543999@www.williampatten.hackney.sch.uk
SUMMARY:Break up for half term
DESCRIPTION:
URL:https://www.williampatten.hackney.sch.uk/event/break-up-for-half-term-5/
END:VEVENT
BEGIN:VEVENT
DTSTART;VALUE=DATE:20171019
DTEND;VALUE=DATE:20171020
DTSTAMP:20260422T064039
CREATED:20170802T102858Z
LAST-MODIFIED:20170802T102858Z
UID:3275-1508371200-1508457599@www.williampatten.hackney.sch.uk
SUMMARY:Young Shakespeare workshops for Year 6
DESCRIPTION:
URL:https://www.williampatten.hackney.sch.uk/event/young-shakespeare-workshops-for-year-6/
END:VEVENT
BEGIN:VEVENT
DTSTART;VALUE=DATE:20171018
DTEND;VALUE=DATE:20171019
DTSTAMP:20260422T064039
CREATED:20170802T102750Z
LAST-MODIFIED:20170802T102750Z
UID:3273-1508284800-1508371199@www.williampatten.hackney.sch.uk
SUMMARY:No Pens Wednesday
DESCRIPTION:
URL:https://www.williampatten.hackney.sch.uk/event/no-pens-wednesday/
END:VEVENT
END:VCALENDAR