BEGIN:VCALENDAR
VERSION:2.0
PRODID:-//William Patten Primary School - ECPv6.15.20//NONSGML v1.0//EN
CALSCALE:GREGORIAN
METHOD:PUBLISH
X-WR-CALNAME:William Patten Primary School
X-ORIGINAL-URL:https://www.williampatten.hackney.sch.uk
X-WR-CALDESC:Events for William Patten Primary School
REFRESH-INTERVAL;VALUE=DURATION:PT1H
X-Robots-Tag:noindex
X-PUBLISHED-TTL:PT1H
BEGIN:VTIMEZONE
TZID:Europe/London
BEGIN:DAYLIGHT
TZOFFSETFROM:+0000
TZOFFSETTO:+0100
TZNAME:BST
DTSTART:20160327T010000
END:DAYLIGHT
BEGIN:STANDARD
TZOFFSETFROM:+0100
TZOFFSETTO:+0000
TZNAME:GMT
DTSTART:20161030T010000
END:STANDARD
BEGIN:DAYLIGHT
TZOFFSETFROM:+0000
TZOFFSETTO:+0100
TZNAME:BST
DTSTART:20170326T010000
END:DAYLIGHT
BEGIN:STANDARD
TZOFFSETFROM:+0100
TZOFFSETTO:+0000
TZNAME:GMT
DTSTART:20171029T010000
END:STANDARD
BEGIN:DAYLIGHT
TZOFFSETFROM:+0000
TZOFFSETTO:+0100
TZNAME:BST
DTSTART:20180325T010000
END:DAYLIGHT
BEGIN:STANDARD
TZOFFSETFROM:+0100
TZOFFSETTO:+0000
TZNAME:GMT
DTSTART:20181028T010000
END:STANDARD
END:VTIMEZONE
BEGIN:VEVENT
DTSTART;VALUE=DATE:20171110
DTEND;VALUE=DATE:20171111
DTSTAMP:20260422T110034
CREATED:20171102T102906Z
LAST-MODIFIED:20171102T102913Z
UID:3542-1510272000-1510358399@www.williampatten.hackney.sch.uk
SUMMARY:Nursery Parent Evening (pm)
DESCRIPTION:
URL:https://www.williampatten.hackney.sch.uk/event/nursery-parent-evening-pm/
END:VEVENT
BEGIN:VEVENT
DTSTART;VALUE=DATE:20171108
DTEND;VALUE=DATE:20171109
DTSTAMP:20260422T110034
CREATED:20170802T103248Z
LAST-MODIFIED:20170802T103248Z
UID:3283-1510099200-1510185599@www.williampatten.hackney.sch.uk
SUMMARY:Parents Evening 5.00 - 7.30pm
DESCRIPTION:
URL:https://www.williampatten.hackney.sch.uk/event/parents-evening-5-00-7-30pm/
END:VEVENT
BEGIN:VEVENT
DTSTART;VALUE=DATE:20171107
DTEND;VALUE=DATE:20171108
DTSTAMP:20260422T110034
CREATED:20170802T103146Z
LAST-MODIFIED:20170802T103146Z
UID:3281-1510012800-1510099199@www.williampatten.hackney.sch.uk
SUMMARY:Year 6 to Millfields Theatre
DESCRIPTION:
URL:https://www.williampatten.hackney.sch.uk/event/year-6-to-millfields-theatre/
END:VEVENT
BEGIN:VEVENT
DTSTART;VALUE=DATE:20171106
DTEND;VALUE=DATE:20171107
DTSTAMP:20260422T110034
CREATED:20171102T102039Z
LAST-MODIFIED:20171102T102758Z
UID:3540-1509926400-1510012799@www.williampatten.hackney.sch.uk
SUMMARY:Invisible Flash Theatre Company visiting Year 2
DESCRIPTION:
URL:https://www.williampatten.hackney.sch.uk/event/invisible-flash-theatre-company-visiting-year-2/
END:VEVENT
BEGIN:VEVENT
DTSTART;TZID=Europe/London:20171102T080000
DTEND;TZID=Europe/London:20171102T170000
DTSTAMP:20260422T110034
CREATED:20171102T115152Z
LAST-MODIFIED:20171102T115152Z
UID:3565-1509609600-1509642000@www.williampatten.hackney.sch.uk
SUMMARY:EYFS Nativity for nursery & reception 1.45pm
DESCRIPTION:
URL:https://www.williampatten.hackney.sch.uk/event/eyfs-nativity-for-nursery-reception-1-45pm/
END:VEVENT
BEGIN:VEVENT
DTSTART;VALUE=DATE:20171101
DTEND;VALUE=DATE:20171102
DTSTAMP:20260422T110034
CREATED:20171102T101933Z
LAST-MODIFIED:20171102T101933Z
UID:3538-1509494400-1509580799@www.williampatten.hackney.sch.uk
SUMMARY:PTFA Winter Fair planning meeting 3.45pm
DESCRIPTION:
URL:https://www.williampatten.hackney.sch.uk/event/ptfa-winter-fair-planning-meeting-3-45pm/
END:VEVENT
BEGIN:VEVENT
DTSTART;VALUE=DATE:20171030
DTEND;VALUE=DATE:20171031
DTSTAMP:20260422T110034
CREATED:20170802T103056Z
LAST-MODIFIED:20170802T103056Z
UID:3279-1509321600-1509407999@www.williampatten.hackney.sch.uk
SUMMARY:Children return to school
DESCRIPTION:
URL:https://www.williampatten.hackney.sch.uk/event/children-return-to-school-8/
END:VEVENT
BEGIN:VEVENT
DTSTART;VALUE=DATE:20171020
DTEND;VALUE=DATE:20171021
DTSTAMP:20260422T110034
CREATED:20170802T102947Z
LAST-MODIFIED:20170802T102947Z
UID:3277-1508457600-1508543999@www.williampatten.hackney.sch.uk
SUMMARY:Break up for half term
DESCRIPTION:
URL:https://www.williampatten.hackney.sch.uk/event/break-up-for-half-term-5/
END:VEVENT
BEGIN:VEVENT
DTSTART;VALUE=DATE:20171019
DTEND;VALUE=DATE:20171020
DTSTAMP:20260422T110034
CREATED:20170802T102858Z
LAST-MODIFIED:20170802T102858Z
UID:3275-1508371200-1508457599@www.williampatten.hackney.sch.uk
SUMMARY:Young Shakespeare workshops for Year 6
DESCRIPTION:
URL:https://www.williampatten.hackney.sch.uk/event/young-shakespeare-workshops-for-year-6/
END:VEVENT
BEGIN:VEVENT
DTSTART;VALUE=DATE:20171018
DTEND;VALUE=DATE:20171019
DTSTAMP:20260422T110034
CREATED:20170802T102750Z
LAST-MODIFIED:20170802T102750Z
UID:3273-1508284800-1508371199@www.williampatten.hackney.sch.uk
SUMMARY:No Pens Wednesday
DESCRIPTION:
URL:https://www.williampatten.hackney.sch.uk/event/no-pens-wednesday/
END:VEVENT
BEGIN:VEVENT
DTSTART;VALUE=DATE:20171017
DTEND;VALUE=DATE:20171018
DTSTAMP:20260422T110034
CREATED:20170925T100351Z
LAST-MODIFIED:20170925T100351Z
UID:3415-1508198400-1508284799@www.williampatten.hackney.sch.uk
SUMMARY:Great Fire of London Show for Year 2
DESCRIPTION:
URL:https://www.williampatten.hackney.sch.uk/event/great-fire-of-london-show-for-year-2/
END:VEVENT
BEGIN:VEVENT
DTSTART;VALUE=DATE:20171017
DTEND;VALUE=DATE:20171018
DTSTAMP:20260422T110034
CREATED:20170802T102617Z
LAST-MODIFIED:20170802T102617Z
UID:3271-1508198400-1508284799@www.williampatten.hackney.sch.uk
SUMMARY:Nursery storytelling workshop 2.30pm
DESCRIPTION:
URL:https://www.williampatten.hackney.sch.uk/event/nursery-storytelling-workshop-2-30pm/
END:VEVENT
BEGIN:VEVENT
DTSTART;VALUE=DATE:20171016
DTEND;VALUE=DATE:20171017
DTSTAMP:20260422T110034
CREATED:20170925T100040Z
LAST-MODIFIED:20170925T100040Z
UID:3413-1508112000-1508198399@www.williampatten.hackney.sch.uk
SUMMARY:Equaliteach visiting Year 5
DESCRIPTION:
URL:https://www.williampatten.hackney.sch.uk/event/equaliteach-visiting-year-5/
END:VEVENT
BEGIN:VEVENT
DTSTART;VALUE=DATE:20171013
DTEND;VALUE=DATE:20171014
DTSTAMP:20260422T110034
CREATED:20170802T102520Z
LAST-MODIFIED:20170802T102520Z
UID:3269-1507852800-1507939199@www.williampatten.hackney.sch.uk
SUMMARY:Claytime workshop for EYFS
DESCRIPTION:
URL:https://www.williampatten.hackney.sch.uk/event/claytime-workshop-for-eyfs/
END:VEVENT
BEGIN:VEVENT
DTSTART;VALUE=DATE:20171013
DTEND;VALUE=DATE:20171014
DTSTAMP:20260422T110034
CREATED:20170802T102428Z
LAST-MODIFIED:20170802T102428Z
UID:3267-1507852800-1507939199@www.williampatten.hackney.sch.uk
SUMMARY:Year 2 to London Zoo
DESCRIPTION:
URL:https://www.williampatten.hackney.sch.uk/event/year-2-to-london-zoo/
END:VEVENT
BEGIN:VEVENT
DTSTART;VALUE=DATE:20171006
DTEND;VALUE=DATE:20171007
DTSTAMP:20260422T110034
CREATED:20170802T102346Z
LAST-MODIFIED:20170912T181006Z
UID:3265-1507248000-1507334399@www.williampatten.hackney.sch.uk
SUMMARY:Teddy bears picnic for nursery 1.30pm
DESCRIPTION:
URL:https://www.williampatten.hackney.sch.uk/event/teddy-bears-picnic-for-nursery-1-45pm/
END:VEVENT
BEGIN:VEVENT
DTSTART;VALUE=DATE:20171006
DTEND;VALUE=DATE:20171007
DTSTAMP:20260422T110034
CREATED:20170802T102212Z
LAST-MODIFIED:20170802T102212Z
UID:3263-1507248000-1507334399@www.williampatten.hackney.sch.uk
SUMMARY:Reception parents RWI meeting 9.20am
DESCRIPTION:
URL:https://www.williampatten.hackney.sch.uk/event/reception-parents-rwi-meeting-9-20am/
END:VEVENT
BEGIN:VEVENT
DTSTART;VALUE=DATE:20171003
DTEND;VALUE=DATE:20171004
DTSTAMP:20260422T110034
CREATED:20170802T101958Z
LAST-MODIFIED:20170802T101958Z
UID:3258-1506988800-1507075199@www.williampatten.hackney.sch.uk
SUMMARY:Year 6 secondary transfer meetings
DESCRIPTION:
URL:https://www.williampatten.hackney.sch.uk/event/year-6-secondary-transfer-meetings-2/
END:VEVENT
BEGIN:VEVENT
DTSTART;VALUE=DATE:20170928
DTEND;VALUE=DATE:20170929
DTSTAMP:20260422T110034
CREATED:20170802T101913Z
LAST-MODIFIED:20170802T101913Z
UID:3256-1506556800-1506643199@www.williampatten.hackney.sch.uk
SUMMARY:Year 6 secondary transfer meetings
DESCRIPTION:
URL:https://www.williampatten.hackney.sch.uk/event/year-6-secondary-transfer-meetings/
END:VEVENT
BEGIN:VEVENT
DTSTART;VALUE=DATE:20170928
DTEND;VALUE=DATE:20170929
DTSTAMP:20260422T110034
CREATED:20170802T101817Z
LAST-MODIFIED:20170912T180952Z
UID:3254-1506556800-1506643199@www.williampatten.hackney.sch.uk
SUMMARY:Reception Teddy Bears Picnic 1.30pm
DESCRIPTION:
URL:https://www.williampatten.hackney.sch.uk/event/reception-teddy-bears-picnic/
END:VEVENT
BEGIN:VEVENT
DTSTART;VALUE=DATE:20170921
DTEND;VALUE=DATE:20170922
DTSTAMP:20260422T110034
CREATED:20170802T101526Z
LAST-MODIFIED:20170905T091417Z
UID:3250-1505952000-1506038399@www.williampatten.hackney.sch.uk
SUMMARY:RWI meeting for Year 1 parents 9.20am
DESCRIPTION:
URL:https://www.williampatten.hackney.sch.uk/event/rwi-meeting-for-year-1-parents-9-20am/
END:VEVENT
BEGIN:VEVENT
DTSTART;VALUE=DATE:20170918
DTEND;VALUE=DATE:20170919
DTSTAMP:20260422T110034
CREATED:20170802T101721Z
LAST-MODIFIED:20170802T101721Z
UID:3252-1505692800-1505779199@www.williampatten.hackney.sch.uk
SUMMARY:London Fire Brigade workshops for Years 2 & 5
DESCRIPTION:
URL:https://www.williampatten.hackney.sch.uk/event/london-fire-brigade-workshops-for-years-2-5/
END:VEVENT
BEGIN:VEVENT
DTSTART;VALUE=DATE:20170913
DTEND;VALUE=DATE:20170914
DTSTAMP:20260422T110034
CREATED:20170802T101441Z
LAST-MODIFIED:20170802T101441Z
UID:3248-1505260800-1505347199@www.williampatten.hackney.sch.uk
SUMMARY:Nursery children starting (staggered starts)
DESCRIPTION:
URL:https://www.williampatten.hackney.sch.uk/event/nursery-children-starting-staggered-starts/
END:VEVENT
BEGIN:VEVENT
DTSTART;VALUE=DATE:20170912
DTEND;VALUE=DATE:20170913
DTSTAMP:20260422T110034
CREATED:20170802T100858Z
LAST-MODIFIED:20170802T100858Z
UID:3242-1505174400-1505260799@www.williampatten.hackney.sch.uk
SUMMARY:Year 1 parents 'Meet the Teacher' 9.30am
DESCRIPTION:
URL:https://www.williampatten.hackney.sch.uk/event/year-1-parents-meet-the-teacher-9-30am/
END:VEVENT
BEGIN:VEVENT
DTSTART;VALUE=DATE:20170911
DTEND;VALUE=DATE:20170912
DTSTAMP:20260422T110034
CREATED:20170802T101155Z
LAST-MODIFIED:20170802T101155Z
UID:3246-1505088000-1505174399@www.williampatten.hackney.sch.uk
SUMMARY:Reception children starting (staggered starts)
DESCRIPTION:
URL:https://www.williampatten.hackney.sch.uk/event/reception-children-starting-staggered-starts/
END:VEVENT
BEGIN:VEVENT
DTSTART;VALUE=DATE:20170911
DTEND;VALUE=DATE:20170912
DTSTAMP:20260422T110034
CREATED:20170802T100812Z
LAST-MODIFIED:20170802T100812Z
UID:3240-1505088000-1505174399@www.williampatten.hackney.sch.uk
SUMMARY:Year 2 parents 'Meet the Teacher' 9.30am
DESCRIPTION:
URL:https://www.williampatten.hackney.sch.uk/event/year-2-parents-meet-the-teacher-9-30am/
END:VEVENT
BEGIN:VEVENT
DTSTART;VALUE=DATE:20170908
DTEND;VALUE=DATE:20170909
DTSTAMP:20260422T110034
CREATED:20170802T100233Z
LAST-MODIFIED:20170802T100233Z
UID:3238-1504828800-1504915199@www.williampatten.hackney.sch.uk
SUMMARY:Year 3 parents 'Meet the Teacher' 9.30am
DESCRIPTION:
URL:https://www.williampatten.hackney.sch.uk/event/year-3-parents-meet-the-teacher-9-30am/
END:VEVENT
BEGIN:VEVENT
DTSTART;VALUE=DATE:20170907
DTEND;VALUE=DATE:20170908
DTSTAMP:20260422T110034
CREATED:20170802T100005Z
LAST-MODIFIED:20170802T100005Z
UID:3235-1504742400-1504828799@www.williampatten.hackney.sch.uk
SUMMARY:Year 4 parents 'Meet the Teacher' 9.30am
DESCRIPTION:
URL:https://www.williampatten.hackney.sch.uk/event/year-4-parents-meet-the-teacher-9-30am/
END:VEVENT
BEGIN:VEVENT
DTSTART;VALUE=DATE:20170906
DTEND;VALUE=DATE:20170907
DTSTAMP:20260422T110034
CREATED:20170802T095900Z
LAST-MODIFIED:20170802T095900Z
UID:3233-1504656000-1504742399@www.williampatten.hackney.sch.uk
SUMMARY:Year 5 parents 'Meet the Teacher' 9.30am
DESCRIPTION:
URL:https://www.williampatten.hackney.sch.uk/event/year-5-parents-meet-the-teacher-9-30am/
END:VEVENT
BEGIN:VEVENT
DTSTART;VALUE=DATE:20170905
DTEND;VALUE=DATE:20170906
DTSTAMP:20260422T110034
CREATED:20170802T095755Z
LAST-MODIFIED:20170802T095755Z
UID:3231-1504569600-1504655999@www.williampatten.hackney.sch.uk
SUMMARY:Year 6 parents 'Meet the Teacher' 9.30am
DESCRIPTION:
URL:https://www.williampatten.hackney.sch.uk/event/year-6-parents-meet-the-teacher-9-30am/
END:VEVENT
END:VCALENDAR