BEGIN:VCALENDAR
VERSION:2.0
PRODID:-//William Patten Primary School - ECPv6.15.20//NONSGML v1.0//EN
CALSCALE:GREGORIAN
METHOD:PUBLISH
X-WR-CALNAME:William Patten Primary School
X-ORIGINAL-URL:https://www.williampatten.hackney.sch.uk
X-WR-CALDESC:Events for William Patten Primary School
REFRESH-INTERVAL;VALUE=DURATION:PT1H
X-Robots-Tag:noindex
X-PUBLISHED-TTL:PT1H
BEGIN:VTIMEZONE
TZID:Europe/London
BEGIN:DAYLIGHT
TZOFFSETFROM:+0000
TZOFFSETTO:+0100
TZNAME:BST
DTSTART:20160327T010000
END:DAYLIGHT
BEGIN:STANDARD
TZOFFSETFROM:+0100
TZOFFSETTO:+0000
TZNAME:GMT
DTSTART:20161030T010000
END:STANDARD
BEGIN:DAYLIGHT
TZOFFSETFROM:+0000
TZOFFSETTO:+0100
TZNAME:BST
DTSTART:20170326T010000
END:DAYLIGHT
BEGIN:STANDARD
TZOFFSETFROM:+0100
TZOFFSETTO:+0000
TZNAME:GMT
DTSTART:20171029T010000
END:STANDARD
BEGIN:DAYLIGHT
TZOFFSETFROM:+0000
TZOFFSETTO:+0100
TZNAME:BST
DTSTART:20180325T010000
END:DAYLIGHT
BEGIN:STANDARD
TZOFFSETFROM:+0100
TZOFFSETTO:+0000
TZNAME:GMT
DTSTART:20181028T010000
END:STANDARD
END:VTIMEZONE
BEGIN:VEVENT
DTSTART;VALUE=DATE:20170709
DTEND;VALUE=DATE:20170710
DTSTAMP:20260422T180218
CREATED:20161010T103800Z
LAST-MODIFIED:20161010T103800Z
UID:2165-1499558400-1499644799@www.williampatten.hackney.sch.uk
SUMMARY:Summer Fair
DESCRIPTION:
URL:https://www.williampatten.hackney.sch.uk/event/summer-fair-2/
END:VEVENT
BEGIN:VEVENT
DTSTART;VALUE=DATE:20170707
DTEND;VALUE=DATE:20170708
DTSTAMP:20260422T180218
CREATED:20161010T103729Z
LAST-MODIFIED:20170511T145547Z
UID:2164-1499385600-1499471999@www.williampatten.hackney.sch.uk
SUMMARY:Nursery Sports Day
DESCRIPTION:
URL:https://www.williampatten.hackney.sch.uk/event/nursery-sport-day/
END:VEVENT
BEGIN:VEVENT
DTSTART;VALUE=DATE:20170706
DTEND;VALUE=DATE:20170707
DTSTAMP:20260422T180218
CREATED:20161010T103657Z
LAST-MODIFIED:20161010T103657Z
UID:2163-1499299200-1499385599@www.williampatten.hackney.sch.uk
SUMMARY:Y6 Transition Day
DESCRIPTION:
URL:https://www.williampatten.hackney.sch.uk/event/y6-transition-day-2/
END:VEVENT
BEGIN:VEVENT
DTSTART;VALUE=DATE:20170627
DTEND;VALUE=DATE:20170628
DTSTAMP:20260422T180218
CREATED:20161010T102542Z
LAST-MODIFIED:20161010T102542Z
UID:2162-1498521600-1498607999@www.williampatten.hackney.sch.uk
SUMMARY:KS2 Sports Day
DESCRIPTION:
URL:https://www.williampatten.hackney.sch.uk/event/ks2-sports-day-2/
END:VEVENT
BEGIN:VEVENT
DTSTART;VALUE=DATE:20170626
DTEND;VALUE=DATE:20170627
DTSTAMP:20260422T180218
CREATED:20161010T102406Z
LAST-MODIFIED:20161010T102406Z
UID:2160-1498435200-1498521599@www.williampatten.hackney.sch.uk
SUMMARY:Hispanic Week
DESCRIPTION:
URL:https://www.williampatten.hackney.sch.uk/event/hispanic-week-2/
END:VEVENT
BEGIN:VEVENT
DTSTART;VALUE=DATE:20170619
DTEND;VALUE=DATE:20170620
DTSTAMP:20260422T180218
CREATED:20161010T102333Z
LAST-MODIFIED:20161010T102333Z
UID:2159-1497830400-1497916799@www.williampatten.hackney.sch.uk
SUMMARY:Science Week
DESCRIPTION:
URL:https://www.williampatten.hackney.sch.uk/event/science-week-2/
END:VEVENT
BEGIN:VEVENT
DTSTART;VALUE=DATE:20170616
DTEND;VALUE=DATE:20170617
DTSTAMP:20260422T180218
CREATED:20161010T102227Z
LAST-MODIFIED:20161010T102227Z
UID:2158-1497571200-1497657599@www.williampatten.hackney.sch.uk
SUMMARY:Music Concert (Orchestra & Instrumentals)
DESCRIPTION:
URL:https://www.williampatten.hackney.sch.uk/event/music-concert-orchestra-instrumentals/
END:VEVENT
BEGIN:VEVENT
DTSTART;VALUE=DATE:20170616
DTEND;VALUE=DATE:20170617
DTSTAMP:20260422T180218
CREATED:20161010T102050Z
LAST-MODIFIED:20161010T102050Z
UID:2157-1497571200-1497657599@www.williampatten.hackney.sch.uk
SUMMARY:Class photographs
DESCRIPTION:
URL:https://www.williampatten.hackney.sch.uk/event/class-photographs-2/
END:VEVENT
BEGIN:VEVENT
DTSTART;VALUE=DATE:20170612
DTEND;VALUE=DATE:20170613
DTSTAMP:20260422T180218
CREATED:20161010T101738Z
LAST-MODIFIED:20161010T101839Z
UID:2156-1497225600-1497311999@www.williampatten.hackney.sch.uk
SUMMARY:Music Concert (Steel Pans\, Choir & Violins) 2pm
DESCRIPTION:
URL:https://www.williampatten.hackney.sch.uk/event/music-concert-steel-pans-choir-violins-2pm/
END:VEVENT
BEGIN:VEVENT
DTSTART;VALUE=DATE:20170607
DTEND;VALUE=DATE:20170608
DTSTAMP:20260422T180218
CREATED:20161010T101622Z
LAST-MODIFIED:20161010T101622Z
UID:2155-1496793600-1496879999@www.williampatten.hackney.sch.uk
SUMMARY:PTFA Meeting 3.45pm
DESCRIPTION:
URL:https://www.williampatten.hackney.sch.uk/event/ptfa-meeting-3-45pm-2/
END:VEVENT
BEGIN:VEVENT
DTSTART;VALUE=DATE:20170606
DTEND;VALUE=DATE:20170607
DTSTAMP:20260422T180218
CREATED:20161010T101431Z
LAST-MODIFIED:20161010T101431Z
UID:2154-1496707200-1496793599@www.williampatten.hackney.sch.uk
SUMMARY:Back to school
DESCRIPTION:
URL:https://www.williampatten.hackney.sch.uk/event/back-to-school-2/
END:VEVENT
BEGIN:VEVENT
DTSTART;VALUE=DATE:20170605
DTEND;VALUE=DATE:20170610
DTSTAMP:20260422T180218
CREATED:20161010T101130Z
LAST-MODIFIED:20170511T145724Z
UID:2153-1496620800-1497052799@www.williampatten.hackney.sch.uk
SUMMARY:Year 6 Residential trip
DESCRIPTION:
URL:https://www.williampatten.hackney.sch.uk/event/y6-residential-trip/
END:VEVENT
BEGIN:VEVENT
DTSTART;VALUE=DATE:20170605
DTEND;VALUE=DATE:20170606
DTSTAMP:20260422T180218
CREATED:20161010T101053Z
LAST-MODIFIED:20161010T101053Z
UID:2152-1496620800-1496707199@www.williampatten.hackney.sch.uk
SUMMARY:INSET Day
DESCRIPTION:
URL:https://www.williampatten.hackney.sch.uk/event/inset-day-6/
END:VEVENT
BEGIN:VEVENT
DTSTART;VALUE=DATE:20170526
DTEND;VALUE=DATE:20170527
DTSTAMP:20260422T180218
CREATED:20161010T100944Z
LAST-MODIFIED:20161010T100944Z
UID:2151-1495756800-1495843199@www.williampatten.hackney.sch.uk
SUMMARY:Break up for half term
DESCRIPTION:
URL:https://www.williampatten.hackney.sch.uk/event/break-up-for-half-term-4/
END:VEVENT
BEGIN:VEVENT
DTSTART;VALUE=DATE:20170523
DTEND;VALUE=DATE:20170524
DTSTAMP:20260422T180218
CREATED:20170511T142856Z
LAST-MODIFIED:20170511T142856Z
UID:3027-1495497600-1495583999@www.williampatten.hackney.sch.uk
SUMMARY:Year 2 class to Woodberry Wetlands
DESCRIPTION:
URL:https://www.williampatten.hackney.sch.uk/event/year-2-class-to-woodberry-wetlands-2/
END:VEVENT
BEGIN:VEVENT
DTSTART;VALUE=DATE:20170522
DTEND;VALUE=DATE:20170523
DTSTAMP:20260422T180218
CREATED:20170511T142629Z
LAST-MODIFIED:20170511T142629Z
UID:3025-1495411200-1495497599@www.williampatten.hackney.sch.uk
SUMMARY:Year 2 class to Woodberry Wetlands
DESCRIPTION:
URL:https://www.williampatten.hackney.sch.uk/event/year-2-class-to-woodberry-wetlands/
END:VEVENT
BEGIN:VEVENT
DTSTART;VALUE=DATE:20170519
DTEND;VALUE=DATE:20170520
DTSTAMP:20260422T180218
CREATED:20170511T142403Z
LAST-MODIFIED:20170517T134031Z
UID:3023-1495152000-1495238399@www.williampatten.hackney.sch.uk
SUMMARY:Y2 Music Performance for parents (2T 2.15pm\, 2V 3pm)
DESCRIPTION:
URL:https://www.williampatten.hackney.sch.uk/event/year-2-music-performance-for-parents/
END:VEVENT
BEGIN:VEVENT
DTSTART;VALUE=DATE:20170518
DTEND;VALUE=DATE:20170519
DTSTAMP:20260422T180219
CREATED:20170511T142314Z
LAST-MODIFIED:20170511T142314Z
UID:3021-1495065600-1495151999@www.williampatten.hackney.sch.uk
SUMMARY:Year 4 Viking Animation Project
DESCRIPTION:
URL:https://www.williampatten.hackney.sch.uk/event/year-4-viking-animation-project/
END:VEVENT
BEGIN:VEVENT
DTSTART;VALUE=DATE:20170517
DTEND;VALUE=DATE:20170518
DTSTAMP:20260422T180219
CREATED:20170511T142042Z
LAST-MODIFIED:20170511T142042Z
UID:3019-1494979200-1495065599@www.williampatten.hackney.sch.uk
SUMMARY:Year 6 trip to Islington Boat Club
DESCRIPTION:
URL:https://www.williampatten.hackney.sch.uk/event/year-6-trip-to-islington-boat-club/
END:VEVENT
BEGIN:VEVENT
DTSTART;VALUE=DATE:20170516
DTEND;VALUE=DATE:20170517
DTSTAMP:20260422T180219
CREATED:20170314T134727Z
LAST-MODIFIED:20170314T134727Z
UID:2874-1494892800-1494979199@www.williampatten.hackney.sch.uk
SUMMARY:Year 5 trip to the British Museum
DESCRIPTION:
URL:https://www.williampatten.hackney.sch.uk/event/year-5-trip-to-the-british-museum/
END:VEVENT
BEGIN:VEVENT
DTSTART;VALUE=DATE:20170512
DTEND;VALUE=DATE:20170513
DTSTAMP:20260422T180219
CREATED:20170314T134542Z
LAST-MODIFIED:20170314T134542Z
UID:2873-1494547200-1494633599@www.williampatten.hackney.sch.uk
SUMMARY:Dynevor Road playstreet
DESCRIPTION:
URL:https://www.williampatten.hackney.sch.uk/event/dynevor-road-playstreet-3/
END:VEVENT
BEGIN:VEVENT
DTSTART;VALUE=DATE:20170508
DTEND;VALUE=DATE:20170513
DTSTAMP:20260422T180219
CREATED:20161010T100908Z
LAST-MODIFIED:20161010T100908Z
UID:2150-1494201600-1494633599@www.williampatten.hackney.sch.uk
SUMMARY:KS2 SATS Week
DESCRIPTION:
URL:https://www.williampatten.hackney.sch.uk/event/ks2-sats-week-2/
END:VEVENT
BEGIN:VEVENT
DTSTART;VALUE=DATE:20170505
DTEND;VALUE=DATE:20170506
DTSTAMP:20260422T180219
CREATED:20170314T134252Z
LAST-MODIFIED:20170314T134252Z
UID:2870-1493942400-1494028799@www.williampatten.hackney.sch.uk
SUMMARY:EYFS Reptile Workshop
DESCRIPTION:
URL:https://www.williampatten.hackney.sch.uk/event/eyfs-reptile-workshop/
END:VEVENT
BEGIN:VEVENT
DTSTART;VALUE=DATE:20170505
DTEND;VALUE=DATE:20170506
DTSTAMP:20260422T180219
CREATED:20161010T100807Z
LAST-MODIFIED:20170303T104024Z
UID:2149-1493942400-1494028799@www.williampatten.hackney.sch.uk
SUMMARY:International Evening
DESCRIPTION:
URL:https://www.williampatten.hackney.sch.uk/event/international-evening-2/
END:VEVENT
BEGIN:VEVENT
DTSTART;VALUE=DATE:20170427
DTEND;VALUE=DATE:20170428
DTSTAMP:20260422T180219
CREATED:20170314T131923Z
LAST-MODIFIED:20170314T131923Z
UID:2869-1493251200-1493337599@www.williampatten.hackney.sch.uk
SUMMARY:School 'Keep Clear' Workshops
DESCRIPTION:
URL:https://www.williampatten.hackney.sch.uk/event/school-keep-clear-workshops/
END:VEVENT
BEGIN:VEVENT
DTSTART;VALUE=DATE:20170424
DTEND;VALUE=DATE:20170425
DTSTAMP:20260422T180219
CREATED:20170314T131826Z
LAST-MODIFIED:20170314T131826Z
UID:2868-1492992000-1493078399@www.williampatten.hackney.sch.uk
SUMMARY:Tennis taster sessions for Years 1 & 2
DESCRIPTION:
URL:https://www.williampatten.hackney.sch.uk/event/tennis-taster-sessions-for-years-1-2/
END:VEVENT
BEGIN:VEVENT
DTSTART;VALUE=DATE:20170421
DTEND;VALUE=DATE:20170422
DTSTAMP:20260422T180219
CREATED:20170314T114120Z
LAST-MODIFIED:20170314T114120Z
UID:2867-1492732800-1492819199@www.williampatten.hackney.sch.uk
SUMMARY:Year 5 trip - Two Temple Place
DESCRIPTION:
URL:https://www.williampatten.hackney.sch.uk/event/year-5-trip-two-temple-place/
END:VEVENT
BEGIN:VEVENT
DTSTART;VALUE=DATE:20170420
DTEND;VALUE=DATE:20170421
DTSTAMP:20260422T180219
CREATED:20170314T114022Z
LAST-MODIFIED:20170314T114022Z
UID:2866-1492646400-1492732799@www.williampatten.hackney.sch.uk
SUMMARY:Year 4 trip - Two Temple Place
DESCRIPTION:
URL:https://www.williampatten.hackney.sch.uk/event/year-4-trip-two-temple-place/
END:VEVENT
BEGIN:VEVENT
DTSTART;VALUE=DATE:20170419
DTEND;VALUE=DATE:20170422
DTSTAMP:20260422T180219
CREATED:20170314T113913Z
LAST-MODIFIED:20170314T113913Z
UID:2865-1492560000-1492819199@www.williampatten.hackney.sch.uk
SUMMARY:Country dancing sessions
DESCRIPTION:
URL:https://www.williampatten.hackney.sch.uk/event/country-dancing-sessions/
END:VEVENT
BEGIN:VEVENT
DTSTART;VALUE=DATE:20170418
DTEND;VALUE=DATE:20170419
DTSTAMP:20260422T180219
CREATED:20161010T100437Z
LAST-MODIFIED:20161010T100437Z
UID:2146-1492473600-1492559999@www.williampatten.hackney.sch.uk
SUMMARY:Children return to school
DESCRIPTION:
URL:https://www.williampatten.hackney.sch.uk/event/children-return-to-school-6/
END:VEVENT
END:VCALENDAR