BEGIN:VCALENDAR
VERSION:2.0
PRODID:-//William Patten Primary School - ECPv6.15.20//NONSGML v1.0//EN
CALSCALE:GREGORIAN
METHOD:PUBLISH
X-WR-CALNAME:William Patten Primary School
X-ORIGINAL-URL:https://www.williampatten.hackney.sch.uk
X-WR-CALDESC:Events for William Patten Primary School
REFRESH-INTERVAL;VALUE=DURATION:PT1H
X-Robots-Tag:noindex
X-PUBLISHED-TTL:PT1H
BEGIN:VTIMEZONE
TZID:Europe/London
BEGIN:DAYLIGHT
TZOFFSETFROM:+0000
TZOFFSETTO:+0100
TZNAME:BST
DTSTART:20160327T010000
END:DAYLIGHT
BEGIN:STANDARD
TZOFFSETFROM:+0100
TZOFFSETTO:+0000
TZNAME:GMT
DTSTART:20161030T010000
END:STANDARD
BEGIN:DAYLIGHT
TZOFFSETFROM:+0000
TZOFFSETTO:+0100
TZNAME:BST
DTSTART:20170326T010000
END:DAYLIGHT
BEGIN:STANDARD
TZOFFSETFROM:+0100
TZOFFSETTO:+0000
TZNAME:GMT
DTSTART:20171029T010000
END:STANDARD
BEGIN:DAYLIGHT
TZOFFSETFROM:+0000
TZOFFSETTO:+0100
TZNAME:BST
DTSTART:20180325T010000
END:DAYLIGHT
BEGIN:STANDARD
TZOFFSETFROM:+0100
TZOFFSETTO:+0000
TZNAME:GMT
DTSTART:20181028T010000
END:STANDARD
END:VTIMEZONE
BEGIN:VEVENT
DTSTART;VALUE=DATE:20170331
DTEND;VALUE=DATE:20170401
DTSTAMP:20260422T233732
CREATED:20161010T100351Z
LAST-MODIFIED:20161010T100351Z
UID:2145-1490918400-1491004799@www.williampatten.hackney.sch.uk
SUMMARY:Break up for Easter
DESCRIPTION:
URL:https://www.williampatten.hackney.sch.uk/event/break-up-for-easter/
END:VEVENT
BEGIN:VEVENT
DTSTART;VALUE=DATE:20170330
DTEND;VALUE=DATE:20170331
DTSTAMP:20260422T233732
CREATED:20170314T112207Z
LAST-MODIFIED:20170314T112207Z
UID:2864-1490832000-1490918399@www.williampatten.hackney.sch.uk
SUMMARY:Puzzle Challenge Family Workshop 3.40pm
DESCRIPTION:
URL:https://www.williampatten.hackney.sch.uk/event/puzzle-challenge-family-workshop-3-40pm/
END:VEVENT
BEGIN:VEVENT
DTSTART;VALUE=DATE:20170330
DTEND;VALUE=DATE:20170331
DTSTAMP:20260422T233732
CREATED:20170314T112114Z
LAST-MODIFIED:20170314T112114Z
UID:2863-1490832000-1490918399@www.williampatten.hackney.sch.uk
SUMMARY:4A trip to British Museum
DESCRIPTION:
URL:https://www.williampatten.hackney.sch.uk/event/4a-trip-to-british-museum/
END:VEVENT
BEGIN:VEVENT
DTSTART;VALUE=DATE:20170330
DTEND;VALUE=DATE:20170331
DTSTAMP:20260422T233732
CREATED:20170103T120516Z
LAST-MODIFIED:20170103T120516Z
UID:2624-1490832000-1490918399@www.williampatten.hackney.sch.uk
SUMMARY:Puzzle Challenge Day
DESCRIPTION:
URL:https://www.williampatten.hackney.sch.uk/event/puzzle-challenge-day-2/
END:VEVENT
BEGIN:VEVENT
DTSTART;VALUE=DATE:20170329
DTEND;VALUE=DATE:20170330
DTSTAMP:20260422T233732
CREATED:20161010T100253Z
LAST-MODIFIED:20161010T100302Z
UID:2144-1490745600-1490831999@www.williampatten.hackney.sch.uk
SUMMARY:Deborah Reade Art Award Assembly
DESCRIPTION:
URL:https://www.williampatten.hackney.sch.uk/event/deborah-reade-art-award-assembly-2/
END:VEVENT
BEGIN:VEVENT
DTSTART;VALUE=DATE:20170327
DTEND;VALUE=DATE:20170328
DTSTAMP:20260422T233732
CREATED:20170314T111848Z
LAST-MODIFIED:20170314T111848Z
UID:2861-1490572800-1490659199@www.williampatten.hackney.sch.uk
SUMMARY:Parents meeting re. air pollution 3.45pm
DESCRIPTION:
URL:https://www.williampatten.hackney.sch.uk/event/parents-meeting-re-air-pollution-3-45pm/
END:VEVENT
BEGIN:VEVENT
DTSTART;VALUE=DATE:20170327
DTEND;VALUE=DATE:20170328
DTSTAMP:20260422T233732
CREATED:20170314T111801Z
LAST-MODIFIED:20170314T111801Z
UID:2860-1490572800-1490659199@www.williampatten.hackney.sch.uk
SUMMARY:NSPCC workshops for Years 5 & 6
DESCRIPTION:
URL:https://www.williampatten.hackney.sch.uk/event/nspcc-workshops-for-years-5-6/
END:VEVENT
BEGIN:VEVENT
DTSTART;VALUE=DATE:20170327
DTEND;VALUE=DATE:20170328
DTSTAMP:20260422T233732
CREATED:20170314T111648Z
LAST-MODIFIED:20170314T111648Z
UID:2859-1490572800-1490659199@www.williampatten.hackney.sch.uk
SUMMARY:3C visiting Olive School
DESCRIPTION:
URL:https://www.williampatten.hackney.sch.uk/event/3c-visiting-olive-school/
END:VEVENT
BEGIN:VEVENT
DTSTART;VALUE=DATE:20170327
DTEND;VALUE=DATE:20170328
DTSTAMP:20260422T233732
CREATED:20170103T120437Z
LAST-MODIFIED:20170103T120437Z
UID:2623-1490572800-1490659199@www.williampatten.hackney.sch.uk
SUMMARY:Green Project Celebration Week
DESCRIPTION:
URL:https://www.williampatten.hackney.sch.uk/event/green-project-celebration-week/
END:VEVENT
BEGIN:VEVENT
DTSTART;VALUE=DATE:20170324
DTEND;VALUE=DATE:20170325
DTSTAMP:20260422T233732
CREATED:20170314T111415Z
LAST-MODIFIED:20170314T111415Z
UID:2858-1490313600-1490399999@www.williampatten.hackney.sch.uk
SUMMARY:Year 5 - Hackney Empire (Michael Morpurgo workshops)
DESCRIPTION:
URL:https://www.williampatten.hackney.sch.uk/event/year-5-hackney-empire-michael-morpurgo-workshops/
END:VEVENT
BEGIN:VEVENT
DTSTART;VALUE=DATE:20170324
DTEND;VALUE=DATE:20170325
DTSTAMP:20260422T233732
CREATED:20170314T111107Z
LAST-MODIFIED:20170314T111107Z
UID:2856-1490313600-1490399999@www.williampatten.hackney.sch.uk
SUMMARY:Red Nose Family Fun Run
DESCRIPTION:
URL:https://www.williampatten.hackney.sch.uk/event/red-nose-family-fun-run/
END:VEVENT
BEGIN:VEVENT
DTSTART;VALUE=DATE:20170324
DTEND;VALUE=DATE:20170325
DTSTAMP:20260422T233732
CREATED:20161010T100219Z
LAST-MODIFIED:20161010T100219Z
UID:2143-1490313600-1490399999@www.williampatten.hackney.sch.uk
SUMMARY:Great Stokey Bake Off
DESCRIPTION:
URL:https://www.williampatten.hackney.sch.uk/event/great-stokey-bake-off/
END:VEVENT
BEGIN:VEVENT
DTSTART;VALUE=DATE:20170323
DTEND;VALUE=DATE:20170324
DTSTAMP:20260422T233732
CREATED:20170314T110819Z
LAST-MODIFIED:20170314T110819Z
UID:2855-1490227200-1490313599@www.williampatten.hackney.sch.uk
SUMMARY:2T Ocean Maths Workshops 9.30am
DESCRIPTION:
URL:https://www.williampatten.hackney.sch.uk/event/2t-ocean-maths-workshops-9-30am/
END:VEVENT
BEGIN:VEVENT
DTSTART;VALUE=DATE:20170323
DTEND;VALUE=DATE:20170324
DTSTAMP:20260422T233732
CREATED:20170314T105941Z
LAST-MODIFIED:20170314T110430Z
UID:2853-1490227200-1490313599@www.williampatten.hackney.sch.uk
SUMMARY:Nursery pm and RCN to King Henry's Walk Garden
DESCRIPTION:
URL:https://www.williampatten.hackney.sch.uk/event/afternoon-nursery-and-rcn-to-king-henrys-walk-garden/
END:VEVENT
BEGIN:VEVENT
DTSTART;VALUE=DATE:20170323
DTEND;VALUE=DATE:20170324
DTSTAMP:20260422T233732
CREATED:20170207T144118Z
LAST-MODIFIED:20170314T103359Z
UID:2699-1490227200-1490313599@www.williampatten.hackney.sch.uk
SUMMARY:3B visiting Olive School
DESCRIPTION:
URL:https://www.williampatten.hackney.sch.uk/event/3b-to-olive-school/
END:VEVENT
BEGIN:VEVENT
DTSTART;VALUE=DATE:20170322
DTEND;VALUE=DATE:20170323
DTSTAMP:20260422T233732
CREATED:20170314T105248Z
LAST-MODIFIED:20170314T110133Z
UID:2852-1490140800-1490227199@www.williampatten.hackney.sch.uk
SUMMARY:Nursery am and RCH to King Henry's Walk Garden
DESCRIPTION:
URL:https://www.williampatten.hackney.sch.uk/event/morning-nursery-and-reception-class-to-king-henrys-walk-garden/
END:VEVENT
BEGIN:VEVENT
DTSTART;VALUE=DATE:20170322
DTEND;VALUE=DATE:20170323
DTSTAMP:20260422T233732
CREATED:20170103T120227Z
LAST-MODIFIED:20170103T120227Z
UID:2622-1490140800-1490227199@www.williampatten.hackney.sch.uk
SUMMARY:Art award judging 3.45pm
DESCRIPTION:
URL:https://www.williampatten.hackney.sch.uk/event/art-award-judging-3-45pm/
END:VEVENT
BEGIN:VEVENT
DTSTART;VALUE=DATE:20170321
DTEND;VALUE=DATE:20170322
DTSTAMP:20260422T233732
CREATED:20170314T111207Z
LAST-MODIFIED:20170314T111207Z
UID:2857-1490054400-1490140799@www.williampatten.hackney.sch.uk
SUMMARY:2V Ocean Maths Workshops 9.30am
DESCRIPTION:
URL:https://www.williampatten.hackney.sch.uk/event/2v-ocean-maths-workshops-9-30am/
END:VEVENT
BEGIN:VEVENT
DTSTART;VALUE=DATE:20170317
DTEND;VALUE=DATE:20170318
DTSTAMP:20260422T233732
CREATED:20170314T103142Z
LAST-MODIFIED:20170314T103142Z
UID:2851-1489708800-1489795199@www.williampatten.hackney.sch.uk
SUMMARY:St Patricks Day assembly
DESCRIPTION:
URL:https://www.williampatten.hackney.sch.uk/event/st-patricks-day-assembly/
END:VEVENT
BEGIN:VEVENT
DTSTART;VALUE=DATE:20170316
DTEND;VALUE=DATE:20170317
DTSTAMP:20260422T233732
CREATED:20161010T100113Z
LAST-MODIFIED:20161010T100113Z
UID:2141-1489622400-1489708799@www.williampatten.hackney.sch.uk
SUMMARY:Parents Evening 4.00-6.30pm
DESCRIPTION:
URL:https://www.williampatten.hackney.sch.uk/event/parents-evening-4-00-6-30pm-2/
END:VEVENT
BEGIN:VEVENT
DTSTART;VALUE=DATE:20170315
DTEND;VALUE=DATE:20170316
DTSTAMP:20260422T233732
CREATED:20170207T144038Z
LAST-MODIFIED:20170314T102919Z
UID:2698-1489536000-1489622399@www.williampatten.hackney.sch.uk
SUMMARY:3B trip to St Pauls
DESCRIPTION:
URL:https://www.williampatten.hackney.sch.uk/event/3c-to-olive-school/
END:VEVENT
BEGIN:VEVENT
DTSTART;VALUE=DATE:20170313
DTEND;VALUE=DATE:20170314
DTSTAMP:20260422T233732
CREATED:20170103T120049Z
LAST-MODIFIED:20170103T120049Z
UID:2620-1489363200-1489449599@www.williampatten.hackney.sch.uk
SUMMARY:Green project workshop week
DESCRIPTION:
URL:https://www.williampatten.hackney.sch.uk/event/green-project-workshop-week/
END:VEVENT
BEGIN:VEVENT
DTSTART;VALUE=DATE:20170309
DTEND;VALUE=DATE:20170310
DTSTAMP:20260422T233732
CREATED:20161010T100040Z
LAST-MODIFIED:20161010T100040Z
UID:2140-1489017600-1489103999@www.williampatten.hackney.sch.uk
SUMMARY:Parents Evening 5.00-7.30pm
DESCRIPTION:
URL:https://www.williampatten.hackney.sch.uk/event/parents-evening-5-00-7-30pm-2/
END:VEVENT
BEGIN:VEVENT
DTSTART;VALUE=DATE:20170308
DTEND;VALUE=DATE:20170309
DTSTAMP:20260422T233732
CREATED:20170103T120014Z
LAST-MODIFIED:20170103T120014Z
UID:2619-1488931200-1489017599@www.williampatten.hackney.sch.uk
SUMMARY:Chain Reaction Assembly (Years 4-6)
DESCRIPTION:
URL:https://www.williampatten.hackney.sch.uk/event/chain-reaction-assembly-years-4-6/
END:VEVENT
BEGIN:VEVENT
DTSTART;VALUE=DATE:20170307
DTEND;VALUE=DATE:20170308
DTSTAMP:20260422T233732
CREATED:20170103T115837Z
LAST-MODIFIED:20170103T115837Z
UID:2618-1488844800-1488931199@www.williampatten.hackney.sch.uk
SUMMARY:KS1 Come Dine with Us
DESCRIPTION:
URL:https://www.williampatten.hackney.sch.uk/event/ks1-come-dine-with-us-3/
END:VEVENT
BEGIN:VEVENT
DTSTART;VALUE=DATE:20170302
DTEND;VALUE=DATE:20170303
DTSTAMP:20260422T233732
CREATED:20161010T095747Z
LAST-MODIFIED:20161010T095902Z
UID:2138-1488412800-1488499199@www.williampatten.hackney.sch.uk
SUMMARY:World Book Day
DESCRIPTION:
URL:https://www.williampatten.hackney.sch.uk/event/world-book-day-2/
END:VEVENT
BEGIN:VEVENT
DTSTART;VALUE=DATE:20170227
DTEND;VALUE=DATE:20170228
DTSTAMP:20260422T233732
CREATED:20170103T115722Z
LAST-MODIFIED:20170103T115722Z
UID:2617-1488153600-1488239999@www.williampatten.hackney.sch.uk
SUMMARY:National Dutch Student Orchestra 1.30pm
DESCRIPTION:
URL:https://www.williampatten.hackney.sch.uk/event/national-dutch-student-orchestra-1-30pm/
END:VEVENT
BEGIN:VEVENT
DTSTART;VALUE=DATE:20170227
DTEND;VALUE=DATE:20170228
DTSTAMP:20260422T233732
CREATED:20170103T115622Z
LAST-MODIFIED:20170103T115622Z
UID:2616-1488153600-1488239999@www.williampatten.hackney.sch.uk
SUMMARY:Green Project starts
DESCRIPTION:
URL:https://www.williampatten.hackney.sch.uk/event/green-project-starts/
END:VEVENT
BEGIN:VEVENT
DTSTART;VALUE=DATE:20170220
DTEND;VALUE=DATE:20170221
DTSTAMP:20260422T233732
CREATED:20161010T095553Z
LAST-MODIFIED:20161010T095553Z
UID:2137-1487548800-1487635199@www.williampatten.hackney.sch.uk
SUMMARY:Children return to school
DESCRIPTION:
URL:https://www.williampatten.hackney.sch.uk/event/children-return-to-school-5/
END:VEVENT
BEGIN:VEVENT
DTSTART;VALUE=DATE:20170210
DTEND;VALUE=DATE:20170211
DTSTAMP:20260422T233732
CREATED:20170207T112255Z
LAST-MODIFIED:20170207T112255Z
UID:2697-1486684800-1486771199@www.williampatten.hackney.sch.uk
SUMMARY:Afternoon nursery visiting S/N library 2pm
DESCRIPTION:
URL:https://www.williampatten.hackney.sch.uk/event/afternoon-nursery-visiting-sn-library-2pm/
END:VEVENT
END:VCALENDAR