BEGIN:VCALENDAR
VERSION:2.0
PRODID:-//William Patten Primary School - ECPv6.15.20//NONSGML v1.0//EN
CALSCALE:GREGORIAN
METHOD:PUBLISH
X-WR-CALNAME:William Patten Primary School
X-ORIGINAL-URL:https://www.williampatten.hackney.sch.uk
X-WR-CALDESC:Events for William Patten Primary School
REFRESH-INTERVAL;VALUE=DURATION:PT1H
X-Robots-Tag:noindex
X-PUBLISHED-TTL:PT1H
BEGIN:VTIMEZONE
TZID:Europe/London
BEGIN:DAYLIGHT
TZOFFSETFROM:+0000
TZOFFSETTO:+0100
TZNAME:BST
DTSTART:20150329T010000
END:DAYLIGHT
BEGIN:STANDARD
TZOFFSETFROM:+0100
TZOFFSETTO:+0000
TZNAME:GMT
DTSTART:20151025T010000
END:STANDARD
BEGIN:DAYLIGHT
TZOFFSETFROM:+0000
TZOFFSETTO:+0100
TZNAME:BST
DTSTART:20160327T010000
END:DAYLIGHT
BEGIN:STANDARD
TZOFFSETFROM:+0100
TZOFFSETTO:+0000
TZNAME:GMT
DTSTART:20161030T010000
END:STANDARD
BEGIN:DAYLIGHT
TZOFFSETFROM:+0000
TZOFFSETTO:+0100
TZNAME:BST
DTSTART:20170326T010000
END:DAYLIGHT
BEGIN:STANDARD
TZOFFSETFROM:+0100
TZOFFSETTO:+0000
TZNAME:GMT
DTSTART:20171029T010000
END:STANDARD
BEGIN:DAYLIGHT
TZOFFSETFROM:+0000
TZOFFSETTO:+0100
TZNAME:BST
DTSTART:20180325T010000
END:DAYLIGHT
BEGIN:STANDARD
TZOFFSETFROM:+0100
TZOFFSETTO:+0000
TZNAME:GMT
DTSTART:20181028T010000
END:STANDARD
END:VTIMEZONE
BEGIN:VEVENT
DTSTART;VALUE=DATE:20170210
DTEND;VALUE=DATE:20170211
DTSTAMP:20260423T051007
CREATED:20170207T112158Z
LAST-MODIFIED:20170207T112222Z
UID:2696-1486684800-1486771199@www.williampatten.hackney.sch.uk
SUMMARY:Morning nursery visiting S/N library 11am
DESCRIPTION:
URL:https://www.williampatten.hackney.sch.uk/event/morning-nursery-visiting-sn-library/
END:VEVENT
BEGIN:VEVENT
DTSTART;VALUE=DATE:20170210
DTEND;VALUE=DATE:20170211
DTSTAMP:20260423T051007
CREATED:20161010T095509Z
LAST-MODIFIED:20161010T095509Z
UID:2136-1486684800-1486771199@www.williampatten.hackney.sch.uk
SUMMARY:Break up for half term
DESCRIPTION:
URL:https://www.williampatten.hackney.sch.uk/event/break-up-for-half-term-3/
END:VEVENT
BEGIN:VEVENT
DTSTART;VALUE=DATE:20170209
DTEND;VALUE=DATE:20170210
DTSTAMP:20260423T051007
CREATED:20170207T112008Z
LAST-MODIFIED:20170207T112028Z
UID:2695-1486598400-1486684799@www.williampatten.hackney.sch.uk
SUMMARY:Cake Sale
DESCRIPTION:
URL:https://www.williampatten.hackney.sch.uk/event/giant-cake-sale/
END:VEVENT
BEGIN:VEVENT
DTSTART;VALUE=DATE:20170209
DTEND;VALUE=DATE:20170210
DTSTAMP:20260423T051007
CREATED:20170103T115256Z
LAST-MODIFIED:20170103T115256Z
UID:2615-1486598400-1486684799@www.williampatten.hackney.sch.uk
SUMMARY:London Fire Brigade - Y2 & 5
DESCRIPTION:
URL:https://www.williampatten.hackney.sch.uk/event/london-fire-brigade-y2-5/
END:VEVENT
BEGIN:VEVENT
DTSTART;VALUE=DATE:20170208
DTEND;VALUE=DATE:20170209
DTSTAMP:20260423T051007
CREATED:20161010T095436Z
LAST-MODIFIED:20161010T095436Z
UID:2135-1486512000-1486598399@www.williampatten.hackney.sch.uk
SUMMARY:PTFA Meeting 3.45pm
DESCRIPTION:
URL:https://www.williampatten.hackney.sch.uk/event/ptfa-meeting-3-45pm/
END:VEVENT
BEGIN:VEVENT
DTSTART;VALUE=DATE:20170207
DTEND;VALUE=DATE:20170208
DTSTAMP:20260423T051007
CREATED:20170103T115208Z
LAST-MODIFIED:20170103T115208Z
UID:2614-1486425600-1486511999@www.williampatten.hackney.sch.uk
SUMMARY:6C - City Careers Open House
DESCRIPTION:
URL:https://www.williampatten.hackney.sch.uk/event/6c-city-careers-open-house/
END:VEVENT
BEGIN:VEVENT
DTSTART;VALUE=DATE:20170207
DTEND;VALUE=DATE:20170208
DTSTAMP:20260423T051007
CREATED:20161010T095345Z
LAST-MODIFIED:20161010T095345Z
UID:2134-1486425600-1486511999@www.williampatten.hackney.sch.uk
SUMMARY:KS2 Come Dine With Us
DESCRIPTION:
URL:https://www.williampatten.hackney.sch.uk/event/ks2-come-dine-with-us/
END:VEVENT
BEGIN:VEVENT
DTSTART;VALUE=DATE:20170202
DTEND;VALUE=DATE:20170203
DTSTAMP:20260423T051007
CREATED:20170103T115020Z
LAST-MODIFIED:20170103T115020Z
UID:2613-1485993600-1486079999@www.williampatten.hackney.sch.uk
SUMMARY:Y6 River workshop
DESCRIPTION:
URL:https://www.williampatten.hackney.sch.uk/event/y6-river-workshop/
END:VEVENT
BEGIN:VEVENT
DTSTART;VALUE=DATE:20170126
DTEND;VALUE=DATE:20170127
DTSTAMP:20260423T051007
CREATED:20170103T114407Z
LAST-MODIFIED:20170103T114407Z
UID:2612-1485388800-1485475199@www.williampatten.hackney.sch.uk
SUMMARY:Y3 Ages of Man workshop
DESCRIPTION:
URL:https://www.williampatten.hackney.sch.uk/event/y3-ages-of-man-workshop/
END:VEVENT
BEGIN:VEVENT
DTSTART;VALUE=DATE:20170126
DTEND;VALUE=DATE:20170127
DTSTAMP:20260423T051007
CREATED:20161220T132717Z
LAST-MODIFIED:20161220T135644Z
UID:2606-1485388800-1485475199@www.williampatten.hackney.sch.uk
SUMMARY:2V to Florence Nightingale Museum
DESCRIPTION:
URL:https://www.williampatten.hackney.sch.uk/event/2v-to-florence-nightingale-museum/
END:VEVENT
BEGIN:VEVENT
DTSTART;VALUE=DATE:20170124
DTEND;VALUE=DATE:20170125
DTSTAMP:20260423T051007
CREATED:20170103T114332Z
LAST-MODIFIED:20170103T114332Z
UID:2611-1485216000-1485302399@www.williampatten.hackney.sch.uk
SUMMARY:Spanish App Launch KS2
DESCRIPTION:
URL:https://www.williampatten.hackney.sch.uk/event/spanish-app-launch-ks2/
END:VEVENT
BEGIN:VEVENT
DTSTART;VALUE=DATE:20170124
DTEND;VALUE=DATE:20170125
DTSTAMP:20260423T051007
CREATED:20161220T125143Z
LAST-MODIFIED:20161220T132453Z
UID:2605-1485216000-1485302399@www.williampatten.hackney.sch.uk
SUMMARY:2T to Florence Nightingale Museum
DESCRIPTION:
URL:https://www.williampatten.hackney.sch.uk/event/2t-to-florence-nightingale-museum/
END:VEVENT
BEGIN:VEVENT
DTSTART;VALUE=DATE:20170123
DTEND;VALUE=DATE:20170124
DTSTAMP:20260423T051007
CREATED:20170103T114203Z
LAST-MODIFIED:20170103T114203Z
UID:2610-1485129600-1485215999@www.williampatten.hackney.sch.uk
SUMMARY:Spanish App Launch EYFS & KS1
DESCRIPTION:
URL:https://www.williampatten.hackney.sch.uk/event/spanish-app-launch-eyfs-ks1/
END:VEVENT
BEGIN:VEVENT
DTSTART;VALUE=DATE:20170123
DTEND;VALUE=DATE:20170124
DTSTAMP:20260423T051007
CREATED:20161010T094557Z
LAST-MODIFIED:20161010T094557Z
UID:2129-1485129600-1485215999@www.williampatten.hackney.sch.uk
SUMMARY:Music Concert (Choir\, Steel Pans\, Violins) 2pm
DESCRIPTION:
URL:https://www.williampatten.hackney.sch.uk/event/music-concert-choir-steel-pans-violins-2pm/
END:VEVENT
BEGIN:VEVENT
DTSTART;VALUE=DATE:20170120
DTEND;VALUE=DATE:20170121
DTSTAMP:20260423T051007
CREATED:20161010T094453Z
LAST-MODIFIED:20161010T094453Z
UID:2128-1484870400-1484956799@www.williampatten.hackney.sch.uk
SUMMARY:Y6 to Hackney Museum
DESCRIPTION:
URL:https://www.williampatten.hackney.sch.uk/event/y6-to-hackney-museum/
END:VEVENT
BEGIN:VEVENT
DTSTART;VALUE=DATE:20170119
DTEND;VALUE=DATE:20170120
DTSTAMP:20260423T051007
CREATED:20161220T123909Z
LAST-MODIFIED:20161220T123909Z
UID:2604-1484784000-1484870399@www.williampatten.hackney.sch.uk
SUMMARY:Year 2 Mary Seacole workshop
DESCRIPTION:
URL:https://www.williampatten.hackney.sch.uk/event/year-2-mary-seacole-workshop/
END:VEVENT
BEGIN:VEVENT
DTSTART;VALUE=DATE:20170113
DTEND;VALUE=DATE:20170114
DTSTAMP:20260423T051007
CREATED:20161220T123335Z
LAST-MODIFIED:20161220T123335Z
UID:2603-1484265600-1484351999@www.williampatten.hackney.sch.uk
SUMMARY:Y6 trip to Centre of the Cell (2nd class)
DESCRIPTION:
URL:https://www.williampatten.hackney.sch.uk/event/y6-trip-to-centre-of-the-cell-2nd-class/
END:VEVENT
BEGIN:VEVENT
DTSTART;VALUE=DATE:20170111
DTEND;VALUE=DATE:20170112
DTSTAMP:20260423T051007
CREATED:20161010T094323Z
LAST-MODIFIED:20161010T094323Z
UID:2126-1484092800-1484179199@www.williampatten.hackney.sch.uk
SUMMARY:School photographer (individual and family groups)
DESCRIPTION:
URL:https://www.williampatten.hackney.sch.uk/event/school-photographer-individual-and-family-groups/
END:VEVENT
BEGIN:VEVENT
DTSTART;VALUE=DATE:20170110
DTEND;VALUE=DATE:20170111
DTSTAMP:20260423T051007
CREATED:20161010T094233Z
LAST-MODIFIED:20161010T094233Z
UID:2125-1484006400-1484092799@www.williampatten.hackney.sch.uk
SUMMARY:EYFS Come Dine With Us
DESCRIPTION:
URL:https://www.williampatten.hackney.sch.uk/event/eyfs-come-dine-with-us/
END:VEVENT
BEGIN:VEVENT
DTSTART;VALUE=DATE:20170106
DTEND;VALUE=DATE:20170107
DTSTAMP:20260423T051007
CREATED:20161220T123206Z
LAST-MODIFIED:20161220T123302Z
UID:2602-1483660800-1483747199@www.williampatten.hackney.sch.uk
SUMMARY:Y6 trip to Centre of the Cell (1st class)
DESCRIPTION:
URL:https://www.williampatten.hackney.sch.uk/event/y6-trip-to-centre-of-the-cell/
END:VEVENT
BEGIN:VEVENT
DTSTART;VALUE=DATE:20170104
DTEND;VALUE=DATE:20170105
DTSTAMP:20260423T051007
CREATED:20160916T093459Z
LAST-MODIFIED:20160916T093459Z
UID:2097-1483488000-1483574399@www.williampatten.hackney.sch.uk
SUMMARY:Children return to school
DESCRIPTION:
URL:https://www.williampatten.hackney.sch.uk/event/children-return-to-school-4/
END:VEVENT
BEGIN:VEVENT
DTSTART;VALUE=DATE:20170103
DTEND;VALUE=DATE:20170104
DTSTAMP:20260423T051007
CREATED:20160916T093720Z
LAST-MODIFIED:20160916T093720Z
UID:2098-1483401600-1483487999@www.williampatten.hackney.sch.uk
SUMMARY:INSET Day
DESCRIPTION:
URL:https://www.williampatten.hackney.sch.uk/event/inset-day-5/
END:VEVENT
BEGIN:VEVENT
DTSTART;VALUE=DATE:20161221
DTEND;VALUE=DATE:20161222
DTSTAMP:20260423T051007
CREATED:20160913T140825Z
LAST-MODIFIED:20160913T140825Z
UID:2090-1482278400-1482364799@www.williampatten.hackney.sch.uk
SUMMARY:INSET Day
DESCRIPTION:
URL:https://www.williampatten.hackney.sch.uk/event/inset-day-4/
END:VEVENT
BEGIN:VEVENT
DTSTART;VALUE=DATE:20161220
DTEND;VALUE=DATE:20161221
DTSTAMP:20260423T051007
CREATED:20160913T140757Z
LAST-MODIFIED:20160913T140757Z
UID:2089-1482192000-1482278399@www.williampatten.hackney.sch.uk
SUMMARY:Break up for Christmas 1.30pm
DESCRIPTION:
URL:https://www.williampatten.hackney.sch.uk/event/break-up-for-christmas-1-30pm/
END:VEVENT
BEGIN:VEVENT
DTSTART;VALUE=DATE:20161219
DTEND;VALUE=DATE:20161220
DTSTAMP:20260423T051007
CREATED:20160913T140705Z
LAST-MODIFIED:20161102T133548Z
UID:2088-1482105600-1482191999@www.williampatten.hackney.sch.uk
SUMMARY:Class parties
DESCRIPTION:
URL:https://www.williampatten.hackney.sch.uk/event/christmas-parties/
END:VEVENT
BEGIN:VEVENT
DTSTART;VALUE=DATE:20161215
DTEND;VALUE=DATE:20161216
DTSTAMP:20260423T051007
CREATED:20161102T134116Z
LAST-MODIFIED:20161102T134116Z
UID:2446-1481760000-1481846399@www.williampatten.hackney.sch.uk
SUMMARY:Carol concert - 6.30pm
DESCRIPTION:
URL:https://www.williampatten.hackney.sch.uk/event/carol-concert-6-30pm/
END:VEVENT
BEGIN:VEVENT
DTSTART;VALUE=DATE:20161215
DTEND;VALUE=DATE:20161216
DTSTAMP:20260423T051007
CREATED:20160913T140627Z
LAST-MODIFIED:20160913T140901Z
UID:2087-1481760000-1481846399@www.williampatten.hackney.sch.uk
SUMMARY:Christmas dinner
DESCRIPTION:
URL:https://www.williampatten.hackney.sch.uk/event/christmas-dinner/
END:VEVENT
BEGIN:VEVENT
DTSTART;VALUE=DATE:20161214
DTEND;VALUE=DATE:20161215
DTSTAMP:20260423T051007
CREATED:20160913T140507Z
LAST-MODIFIED:20160913T140558Z
UID:2086-1481673600-1481759999@www.williampatten.hackney.sch.uk
SUMMARY:Deborah Reade Art Award assembly 1.30pm
DESCRIPTION:
URL:https://www.williampatten.hackney.sch.uk/event/deborah-reade-art-award-assembly-1-30pm-2/
END:VEVENT
BEGIN:VEVENT
DTSTART;VALUE=DATE:20161213
DTEND;VALUE=DATE:20161214
DTSTAMP:20260423T051007
CREATED:20160913T140326Z
LAST-MODIFIED:20160913T140933Z
UID:2085-1481587200-1481673599@www.williampatten.hackney.sch.uk
SUMMARY:Year 6 Christmas Show 2.30pm
DESCRIPTION:
URL:https://www.williampatten.hackney.sch.uk/event/christmas-show-year-6-2-30pm/
END:VEVENT
BEGIN:VEVENT
DTSTART;VALUE=DATE:20161212
DTEND;VALUE=DATE:20161213
DTSTAMP:20260423T051007
CREATED:20160913T140212Z
LAST-MODIFIED:20160913T140946Z
UID:2084-1481500800-1481587199@www.williampatten.hackney.sch.uk
SUMMARY:Year 4 Christmas Show 2.30pm
DESCRIPTION:
URL:https://www.williampatten.hackney.sch.uk/event/christmas-show-year-4-2-30pm/
END:VEVENT
END:VCALENDAR