BEGIN:VCALENDAR
VERSION:2.0
PRODID:-//William Patten Primary School - ECPv6.15.20//NONSGML v1.0//EN
CALSCALE:GREGORIAN
METHOD:PUBLISH
X-WR-CALNAME:William Patten Primary School
X-ORIGINAL-URL:https://www.williampatten.hackney.sch.uk
X-WR-CALDESC:Events for William Patten Primary School
REFRESH-INTERVAL;VALUE=DURATION:PT1H
X-Robots-Tag:noindex
X-PUBLISHED-TTL:PT1H
BEGIN:VTIMEZONE
TZID:Europe/London
BEGIN:DAYLIGHT
TZOFFSETFROM:+0000
TZOFFSETTO:+0100
TZNAME:BST
DTSTART:20150329T010000
END:DAYLIGHT
BEGIN:STANDARD
TZOFFSETFROM:+0100
TZOFFSETTO:+0000
TZNAME:GMT
DTSTART:20151025T010000
END:STANDARD
BEGIN:DAYLIGHT
TZOFFSETFROM:+0000
TZOFFSETTO:+0100
TZNAME:BST
DTSTART:20160327T010000
END:DAYLIGHT
BEGIN:STANDARD
TZOFFSETFROM:+0100
TZOFFSETTO:+0000
TZNAME:GMT
DTSTART:20161030T010000
END:STANDARD
BEGIN:DAYLIGHT
TZOFFSETFROM:+0000
TZOFFSETTO:+0100
TZNAME:BST
DTSTART:20170326T010000
END:DAYLIGHT
BEGIN:STANDARD
TZOFFSETFROM:+0100
TZOFFSETTO:+0000
TZNAME:GMT
DTSTART:20171029T010000
END:STANDARD
END:VTIMEZONE
BEGIN:VEVENT
DTSTART;VALUE=DATE:20161124
DTEND;VALUE=DATE:20161125
DTSTAMP:20260423T123136
CREATED:20161010T093949Z
LAST-MODIFIED:20161010T093949Z
UID:2124-1479945600-1480031999@www.williampatten.hackney.sch.uk
SUMMARY:Ocean Maths workshops for Y2 parents (am)
DESCRIPTION:
URL:https://www.williampatten.hackney.sch.uk/event/ocean-maths-workshops-for-y2-parents-am/
END:VEVENT
BEGIN:VEVENT
DTSTART;VALUE=DATE:20161122
DTEND;VALUE=DATE:20161123
DTSTAMP:20260423T123136
CREATED:20160913T135136Z
LAST-MODIFIED:20160913T135136Z
UID:2073-1479772800-1479859199@www.williampatten.hackney.sch.uk
SUMMARY:Tastes of the World
DESCRIPTION:
URL:https://www.williampatten.hackney.sch.uk/event/tastes-of-the-world/
END:VEVENT
BEGIN:VEVENT
DTSTART;VALUE=DATE:20161115
DTEND;VALUE=DATE:20161116
DTSTAMP:20260423T123136
CREATED:20160913T135100Z
LAST-MODIFIED:20160913T135100Z
UID:2072-1479168000-1479254399@www.williampatten.hackney.sch.uk
SUMMARY:Y2 to Museum of London
DESCRIPTION:
URL:https://www.williampatten.hackney.sch.uk/event/y2-to-museum-of-london/
END:VEVENT
BEGIN:VEVENT
DTSTART;VALUE=DATE:20161114
DTEND;VALUE=DATE:20161119
DTSTAMP:20260423T123136
CREATED:20160913T135031Z
LAST-MODIFIED:20160913T135031Z
UID:2071-1479081600-1479513599@www.williampatten.hackney.sch.uk
SUMMARY:Anti Bullying Week
DESCRIPTION:
URL:https://www.williampatten.hackney.sch.uk/event/anti-bullying-week/
END:VEVENT
BEGIN:VEVENT
DTSTART;VALUE=DATE:20161110
DTEND;VALUE=DATE:20161111
DTSTAMP:20260423T123136
CREATED:20160913T134956Z
LAST-MODIFIED:20161031T151559Z
UID:2070-1478736000-1478822399@www.williampatten.hackney.sch.uk
SUMMARY:Parents Evening 4.00-6.30pm
DESCRIPTION:
URL:https://www.williampatten.hackney.sch.uk/event/parents-evening-4-00-6-30pm-3/
END:VEVENT
BEGIN:VEVENT
DTSTART;VALUE=DATE:20161109
DTEND;VALUE=DATE:20161110
DTSTAMP:20260423T123136
CREATED:20160913T134750Z
LAST-MODIFIED:20160916T093112Z
UID:2067-1478649600-1478735999@www.williampatten.hackney.sch.uk
SUMMARY:London Fire Brigade visit for Y2 & 5
DESCRIPTION:
URL:https://www.williampatten.hackney.sch.uk/event/london-fire-brigade-for-y2-5/
END:VEVENT
BEGIN:VEVENT
DTSTART;VALUE=DATE:20161108
DTEND;VALUE=DATE:20161109
DTSTAMP:20260423T123136
CREATED:20160913T134924Z
LAST-MODIFIED:20160913T134924Z
UID:2069-1478563200-1478649599@www.williampatten.hackney.sch.uk
SUMMARY:Y6 to Millfields Theatre
DESCRIPTION:
URL:https://www.williampatten.hackney.sch.uk/event/y6-to-millfields-theatre/
END:VEVENT
BEGIN:VEVENT
DTSTART;VALUE=DATE:20161103
DTEND;VALUE=DATE:20161104
DTSTAMP:20260423T123136
CREATED:20160913T134834Z
LAST-MODIFIED:20161031T151516Z
UID:2068-1478131200-1478217599@www.williampatten.hackney.sch.uk
SUMMARY:Parents Evening 5.00-7.30pm
DESCRIPTION:
URL:https://www.williampatten.hackney.sch.uk/event/parents-evening-4-00-6-30pm/
END:VEVENT
BEGIN:VEVENT
DTSTART;VALUE=DATE:20161031
DTEND;VALUE=DATE:20161101
DTSTAMP:20260423T123136
CREATED:20160913T134709Z
LAST-MODIFIED:20160913T134709Z
UID:2066-1477872000-1477958399@www.williampatten.hackney.sch.uk
SUMMARY:Children return to school
DESCRIPTION:
URL:https://www.williampatten.hackney.sch.uk/event/children-return-to-school-3/
END:VEVENT
BEGIN:VEVENT
DTSTART;VALUE=DATE:20161021
DTEND;VALUE=DATE:20161022
DTSTAMP:20260423T123136
CREATED:20160908T093810Z
LAST-MODIFIED:20160908T093810Z
UID:2033-1477008000-1477094399@www.williampatten.hackney.sch.uk
SUMMARY:Break up for half term
DESCRIPTION:
URL:https://www.williampatten.hackney.sch.uk/event/break-up-for-half-term-2/
END:VEVENT
BEGIN:VEVENT
DTSTART;VALUE=DATE:20161020
DTEND;VALUE=DATE:20161021
DTSTAMP:20260423T123136
CREATED:20160908T093646Z
LAST-MODIFIED:20160908T093849Z
UID:2032-1476921600-1477007999@www.williampatten.hackney.sch.uk
SUMMARY:Year 6 workshops (Young Shakespeare Company)
DESCRIPTION:
URL:https://www.williampatten.hackney.sch.uk/event/year-6-workshops-young-shakespeare-co/
END:VEVENT
BEGIN:VEVENT
DTSTART;VALUE=DATE:20161019
DTEND;VALUE=DATE:20161020
DTSTAMP:20260423T123136
CREATED:20160913T133518Z
LAST-MODIFIED:20160916T093012Z
UID:2065-1476835200-1476921599@www.williampatten.hackney.sch.uk
SUMMARY:Enabling Enterprise challenge day for Y1-6 ' A Day in Politics'
DESCRIPTION:
URL:https://www.williampatten.hackney.sch.uk/event/ee-day-for-whole-school/
END:VEVENT
BEGIN:VEVENT
DTSTART;VALUE=DATE:20161019
DTEND;VALUE=DATE:20161020
DTSTAMP:20260423T123136
CREATED:20160908T093338Z
LAST-MODIFIED:20160908T093338Z
UID:2031-1476835200-1476921599@www.williampatten.hackney.sch.uk
SUMMARY:Reception RWI meeting and brunch - 9.30am
DESCRIPTION:
URL:https://www.williampatten.hackney.sch.uk/event/reception-rwi-meeting-and-brunch-9-30am/
END:VEVENT
BEGIN:VEVENT
DTSTART;VALUE=DATE:20161019
DTEND;VALUE=DATE:20161020
DTSTAMP:20260423T123136
CREATED:20160908T093227Z
LAST-MODIFIED:20160908T094347Z
UID:2030-1476835200-1476921599@www.williampatten.hackney.sch.uk
SUMMARY:PTFA meeting 7.30pm
DESCRIPTION:
URL:https://www.williampatten.hackney.sch.uk/event/ptfa-meeting-7-30pm/
END:VEVENT
BEGIN:VEVENT
DTSTART;VALUE=DATE:20161017
DTEND;VALUE=DATE:20161018
DTSTAMP:20260423T123136
CREATED:20160916T095027Z
LAST-MODIFIED:20160916T102830Z
UID:2099-1476662400-1476748799@www.williampatten.hackney.sch.uk
SUMMARY:Year 4 Roman Day
DESCRIPTION:
URL:https://www.williampatten.hackney.sch.uk/event/roman-day/
END:VEVENT
BEGIN:VEVENT
DTSTART;VALUE=DATE:20161013
DTEND;VALUE=DATE:20161014
DTSTAMP:20260423T123136
CREATED:20160908T093108Z
LAST-MODIFIED:20160908T093108Z
UID:2029-1476316800-1476403199@www.williampatten.hackney.sch.uk
SUMMARY:6B to Hackney Museum
DESCRIPTION:
URL:https://www.williampatten.hackney.sch.uk/event/6b-to-hackney-museum/
END:VEVENT
BEGIN:VEVENT
DTSTART;VALUE=DATE:20161012
DTEND;VALUE=DATE:20161013
DTSTAMP:20260423T123136
CREATED:20160916T095118Z
LAST-MODIFIED:20160916T095118Z
UID:2100-1476230400-1476316799@www.williampatten.hackney.sch.uk
SUMMARY:Secondary transfer meetings for Y6 parents
DESCRIPTION:
URL:https://www.williampatten.hackney.sch.uk/event/secondary-transfer-meetings-for-y6-parents-4/
END:VEVENT
BEGIN:VEVENT
DTSTART;VALUE=DATE:20161012
DTEND;VALUE=DATE:20161013
DTSTAMP:20260423T123136
CREATED:20160908T093025Z
LAST-MODIFIED:20160908T093025Z
UID:2028-1476230400-1476316799@www.williampatten.hackney.sch.uk
SUMMARY:KS1 Mini Olympics
DESCRIPTION:
URL:https://www.williampatten.hackney.sch.uk/event/ks1-mini-olympics-2/
END:VEVENT
BEGIN:VEVENT
DTSTART;VALUE=DATE:20161012
DTEND;VALUE=DATE:20161013
DTSTAMP:20260423T123136
CREATED:20160908T092935Z
LAST-MODIFIED:20160908T092935Z
UID:2027-1476230400-1476316799@www.williampatten.hackney.sch.uk
SUMMARY:5M to Hackney Museum
DESCRIPTION:
URL:https://www.williampatten.hackney.sch.uk/event/5m-to-hackney-museum/
END:VEVENT
BEGIN:VEVENT
DTSTART;VALUE=DATE:20161011
DTEND;VALUE=DATE:20161012
DTSTAMP:20260423T123136
CREATED:20160908T092856Z
LAST-MODIFIED:20160908T092856Z
UID:2026-1476144000-1476230399@www.williampatten.hackney.sch.uk
SUMMARY:KS2 Mini Olympics
DESCRIPTION:
URL:https://www.williampatten.hackney.sch.uk/event/ks2-mini-olympics-2/
END:VEVENT
BEGIN:VEVENT
DTSTART;VALUE=DATE:20161011
DTEND;VALUE=DATE:20161012
DTSTAMP:20260423T123136
CREATED:20160908T092818Z
LAST-MODIFIED:20160908T092818Z
UID:2025-1476144000-1476230399@www.williampatten.hackney.sch.uk
SUMMARY:2V to Hackney Museum
DESCRIPTION:
URL:https://www.williampatten.hackney.sch.uk/event/2v-to-hackney-museum/
END:VEVENT
BEGIN:VEVENT
DTSTART;VALUE=DATE:20161007
DTEND;VALUE=DATE:20161008
DTSTAMP:20260423T123136
CREATED:20160908T092733Z
LAST-MODIFIED:20160908T092733Z
UID:2024-1475798400-1475884799@www.williampatten.hackney.sch.uk
SUMMARY:2T to Hackney Museum
DESCRIPTION:
URL:https://www.williampatten.hackney.sch.uk/event/2t-to-hackney-museum/
END:VEVENT
BEGIN:VEVENT
DTSTART;VALUE=DATE:20161007
DTEND;VALUE=DATE:20161008
DTSTAMP:20260423T123136
CREATED:20160908T092700Z
LAST-MODIFIED:20160908T092700Z
UID:2023-1475798400-1475884799@www.williampatten.hackney.sch.uk
SUMMARY:1I to Hackney Museum
DESCRIPTION:
URL:https://www.williampatten.hackney.sch.uk/event/1i-to-hackney-museum/
END:VEVENT
BEGIN:VEVENT
DTSTART;VALUE=DATE:20161006
DTEND;VALUE=DATE:20161007
DTSTAMP:20260423T123136
CREATED:20160908T092623Z
LAST-MODIFIED:20160908T092623Z
UID:2022-1475712000-1475798399@www.williampatten.hackney.sch.uk
SUMMARY:6C to Hackney Museum
DESCRIPTION:
URL:https://www.williampatten.hackney.sch.uk/event/6c-to-hackney-museum/
END:VEVENT
BEGIN:VEVENT
DTSTART;VALUE=DATE:20161006
DTEND;VALUE=DATE:20161007
DTSTAMP:20260423T123136
CREATED:20160908T092552Z
LAST-MODIFIED:20160916T092826Z
UID:2021-1475712000-1475798399@www.williampatten.hackney.sch.uk
SUMMARY:Year 4 to Hackney Museum
DESCRIPTION:
URL:https://www.williampatten.hackney.sch.uk/event/4d-to-hackney-museum/
END:VEVENT
BEGIN:VEVENT
DTSTART;VALUE=DATE:20161005
DTEND;VALUE=DATE:20161006
DTSTAMP:20260423T123136
CREATED:20160908T092343Z
LAST-MODIFIED:20160908T092343Z
UID:2019-1475625600-1475711999@www.williampatten.hackney.sch.uk
SUMMARY:5J to Hackney Museum
DESCRIPTION:
URL:https://www.williampatten.hackney.sch.uk/event/5j-to-hackney-museum/
END:VEVENT
BEGIN:VEVENT
DTSTART;VALUE=DATE:20161005
DTEND;VALUE=DATE:20161006
DTSTAMP:20260423T123136
CREATED:20160908T092113Z
LAST-MODIFIED:20160916T092713Z
UID:2018-1475625600-1475711999@www.williampatten.hackney.sch.uk
SUMMARY:Year 3 to Hackney Museum
DESCRIPTION:
URL:https://www.williampatten.hackney.sch.uk/event/3c-to-hackney-museum/
END:VEVENT
BEGIN:VEVENT
DTSTART;VALUE=DATE:20161004
DTEND;VALUE=DATE:20161005
DTSTAMP:20260423T123136
CREATED:20160913T125737Z
LAST-MODIFIED:20160913T125737Z
UID:2064-1475539200-1475625599@www.williampatten.hackney.sch.uk
SUMMARY:Secondary transfer meetings for Y6 parents
DESCRIPTION:
URL:https://www.williampatten.hackney.sch.uk/event/secondary-transfer-meetings-for-y6-parents-3/
END:VEVENT
BEGIN:VEVENT
DTSTART;VALUE=DATE:20161004
DTEND;VALUE=DATE:20161005
DTSTAMP:20260423T123136
CREATED:20160908T091505Z
LAST-MODIFIED:20160908T091505Z
UID:2015-1475539200-1475625599@www.williampatten.hackney.sch.uk
SUMMARY:Year 2 to St Pauls Cathedral
DESCRIPTION:
URL:https://www.williampatten.hackney.sch.uk/event/year-2-to-st-pauls-cathedral/
END:VEVENT
BEGIN:VEVENT
DTSTART;VALUE=DATE:20161004
DTEND;VALUE=DATE:20161005
DTSTAMP:20260423T123136
CREATED:20160908T091230Z
LAST-MODIFIED:20160908T091230Z
UID:2014-1475539200-1475625599@www.williampatten.hackney.sch.uk
SUMMARY:1A to Hackney Museum
DESCRIPTION:
URL:https://www.williampatten.hackney.sch.uk/event/1a-to-hackney-museum/
END:VEVENT
END:VCALENDAR