BEGIN:VCALENDAR
VERSION:2.0
PRODID:-//William Patten Primary School - ECPv6.15.20//NONSGML v1.0//EN
CALSCALE:GREGORIAN
METHOD:PUBLISH
X-WR-CALNAME:William Patten Primary School
X-ORIGINAL-URL:https://www.williampatten.hackney.sch.uk
X-WR-CALDESC:Events for William Patten Primary School
REFRESH-INTERVAL;VALUE=DURATION:PT1H
X-Robots-Tag:noindex
X-PUBLISHED-TTL:PT1H
BEGIN:VTIMEZONE
TZID:Europe/London
BEGIN:DAYLIGHT
TZOFFSETFROM:+0000
TZOFFSETTO:+0100
TZNAME:BST
DTSTART:20150329T010000
END:DAYLIGHT
BEGIN:STANDARD
TZOFFSETFROM:+0100
TZOFFSETTO:+0000
TZNAME:GMT
DTSTART:20151025T010000
END:STANDARD
BEGIN:DAYLIGHT
TZOFFSETFROM:+0000
TZOFFSETTO:+0100
TZNAME:BST
DTSTART:20160327T010000
END:DAYLIGHT
BEGIN:STANDARD
TZOFFSETFROM:+0100
TZOFFSETTO:+0000
TZNAME:GMT
DTSTART:20161030T010000
END:STANDARD
BEGIN:DAYLIGHT
TZOFFSETFROM:+0000
TZOFFSETTO:+0100
TZNAME:BST
DTSTART:20170326T010000
END:DAYLIGHT
BEGIN:STANDARD
TZOFFSETFROM:+0100
TZOFFSETTO:+0000
TZNAME:GMT
DTSTART:20171029T010000
END:STANDARD
END:VTIMEZONE
BEGIN:VEVENT
DTSTART;VALUE=DATE:20161011
DTEND;VALUE=DATE:20161012
DTSTAMP:20260423T162941
CREATED:20160908T092818Z
LAST-MODIFIED:20160908T092818Z
UID:2025-1476144000-1476230399@www.williampatten.hackney.sch.uk
SUMMARY:2V to Hackney Museum
DESCRIPTION:
URL:https://www.williampatten.hackney.sch.uk/event/2v-to-hackney-museum/
END:VEVENT
BEGIN:VEVENT
DTSTART;VALUE=DATE:20161007
DTEND;VALUE=DATE:20161008
DTSTAMP:20260423T162941
CREATED:20160908T092733Z
LAST-MODIFIED:20160908T092733Z
UID:2024-1475798400-1475884799@www.williampatten.hackney.sch.uk
SUMMARY:2T to Hackney Museum
DESCRIPTION:
URL:https://www.williampatten.hackney.sch.uk/event/2t-to-hackney-museum/
END:VEVENT
BEGIN:VEVENT
DTSTART;VALUE=DATE:20161007
DTEND;VALUE=DATE:20161008
DTSTAMP:20260423T162941
CREATED:20160908T092700Z
LAST-MODIFIED:20160908T092700Z
UID:2023-1475798400-1475884799@www.williampatten.hackney.sch.uk
SUMMARY:1I to Hackney Museum
DESCRIPTION:
URL:https://www.williampatten.hackney.sch.uk/event/1i-to-hackney-museum/
END:VEVENT
BEGIN:VEVENT
DTSTART;VALUE=DATE:20161006
DTEND;VALUE=DATE:20161007
DTSTAMP:20260423T162941
CREATED:20160908T092623Z
LAST-MODIFIED:20160908T092623Z
UID:2022-1475712000-1475798399@www.williampatten.hackney.sch.uk
SUMMARY:6C to Hackney Museum
DESCRIPTION:
URL:https://www.williampatten.hackney.sch.uk/event/6c-to-hackney-museum/
END:VEVENT
BEGIN:VEVENT
DTSTART;VALUE=DATE:20161006
DTEND;VALUE=DATE:20161007
DTSTAMP:20260423T162941
CREATED:20160908T092552Z
LAST-MODIFIED:20160916T092826Z
UID:2021-1475712000-1475798399@www.williampatten.hackney.sch.uk
SUMMARY:Year 4 to Hackney Museum
DESCRIPTION:
URL:https://www.williampatten.hackney.sch.uk/event/4d-to-hackney-museum/
END:VEVENT
BEGIN:VEVENT
DTSTART;VALUE=DATE:20161005
DTEND;VALUE=DATE:20161006
DTSTAMP:20260423T162941
CREATED:20160908T092343Z
LAST-MODIFIED:20160908T092343Z
UID:2019-1475625600-1475711999@www.williampatten.hackney.sch.uk
SUMMARY:5J to Hackney Museum
DESCRIPTION:
URL:https://www.williampatten.hackney.sch.uk/event/5j-to-hackney-museum/
END:VEVENT
BEGIN:VEVENT
DTSTART;VALUE=DATE:20161005
DTEND;VALUE=DATE:20161006
DTSTAMP:20260423T162941
CREATED:20160908T092113Z
LAST-MODIFIED:20160916T092713Z
UID:2018-1475625600-1475711999@www.williampatten.hackney.sch.uk
SUMMARY:Year 3 to Hackney Museum
DESCRIPTION:
URL:https://www.williampatten.hackney.sch.uk/event/3c-to-hackney-museum/
END:VEVENT
BEGIN:VEVENT
DTSTART;VALUE=DATE:20161004
DTEND;VALUE=DATE:20161005
DTSTAMP:20260423T162941
CREATED:20160913T125737Z
LAST-MODIFIED:20160913T125737Z
UID:2064-1475539200-1475625599@www.williampatten.hackney.sch.uk
SUMMARY:Secondary transfer meetings for Y6 parents
DESCRIPTION:
URL:https://www.williampatten.hackney.sch.uk/event/secondary-transfer-meetings-for-y6-parents-3/
END:VEVENT
BEGIN:VEVENT
DTSTART;VALUE=DATE:20161004
DTEND;VALUE=DATE:20161005
DTSTAMP:20260423T162941
CREATED:20160908T091505Z
LAST-MODIFIED:20160908T091505Z
UID:2015-1475539200-1475625599@www.williampatten.hackney.sch.uk
SUMMARY:Year 2 to St Pauls Cathedral
DESCRIPTION:
URL:https://www.williampatten.hackney.sch.uk/event/year-2-to-st-pauls-cathedral/
END:VEVENT
BEGIN:VEVENT
DTSTART;VALUE=DATE:20161004
DTEND;VALUE=DATE:20161005
DTSTAMP:20260423T162941
CREATED:20160908T091230Z
LAST-MODIFIED:20160908T091230Z
UID:2014-1475539200-1475625599@www.williampatten.hackney.sch.uk
SUMMARY:1A to Hackney Museum
DESCRIPTION:
URL:https://www.williampatten.hackney.sch.uk/event/1a-to-hackney-museum/
END:VEVENT
BEGIN:VEVENT
DTSTART;VALUE=DATE:20161003
DTEND;VALUE=DATE:20161004
DTSTAMP:20260423T162941
CREATED:20160908T091048Z
LAST-MODIFIED:20160908T091048Z
UID:2011-1475452800-1475539199@www.williampatten.hackney.sch.uk
SUMMARY:Secondary transfer meetings for Y6 parents
DESCRIPTION:
URL:https://www.williampatten.hackney.sch.uk/event/secondary-transfer-meetings-for-y6-parents-2/
END:VEVENT
BEGIN:VEVENT
DTSTART;VALUE=DATE:20160930
DTEND;VALUE=DATE:20161001
DTSTAMP:20260423T162941
CREATED:20160907T161201Z
LAST-MODIFIED:20160907T161201Z
UID:2008-1475193600-1475279999@www.williampatten.hackney.sch.uk
SUMMARY:RWI Meeting for Y1 parents - 9.30am
DESCRIPTION:
URL:https://www.williampatten.hackney.sch.uk/event/rwi-meeting-for-y1-parents-9-30am/
END:VEVENT
BEGIN:VEVENT
DTSTART;VALUE=DATE:20160930
DTEND;VALUE=DATE:20161001
DTSTAMP:20260423T162941
CREATED:20160907T161052Z
LAST-MODIFIED:20160907T161052Z
UID:2007-1475193600-1475279999@www.williampatten.hackney.sch.uk
SUMMARY:Reception Teddy Bears Picnic - 1.30pm
DESCRIPTION:
URL:https://www.williampatten.hackney.sch.uk/event/reception-teddy-bears-picnic-1-30pm/
END:VEVENT
BEGIN:VEVENT
DTSTART;VALUE=DATE:20160921
DTEND;VALUE=DATE:20160923
DTSTAMP:20260423T162941
CREATED:20160916T092512Z
LAST-MODIFIED:20160916T092534Z
UID:2096-1474416000-1474588799@www.williampatten.hackney.sch.uk
SUMMARY:Year 1 - 6 Dance Workshops
DESCRIPTION:
URL:https://www.williampatten.hackney.sch.uk/event/year-1-6-dance-workshops/
END:VEVENT
BEGIN:VEVENT
DTSTART;VALUE=DATE:20160916
DTEND;VALUE=DATE:20160917
DTSTAMP:20260423T162941
CREATED:20160907T160930Z
LAST-MODIFIED:20160907T160930Z
UID:2006-1473984000-1474070399@www.williampatten.hackney.sch.uk
SUMMARY:Dynevor Road playstreet
DESCRIPTION:
URL:https://www.williampatten.hackney.sch.uk/event/dynevor-road-playstreet/
END:VEVENT
BEGIN:VEVENT
DTSTART;VALUE=DATE:20160914
DTEND;VALUE=DATE:20160915
DTSTAMP:20260423T162941
CREATED:20160907T160831Z
LAST-MODIFIED:20160907T160831Z
UID:2005-1473811200-1473897599@www.williampatten.hackney.sch.uk
SUMMARY:Y1 Meet the teacher meeting - 2.45pm
DESCRIPTION:
URL:https://www.williampatten.hackney.sch.uk/event/y1-meet-the-teacher-meeting-2-45pm/
END:VEVENT
BEGIN:VEVENT
DTSTART;VALUE=DATE:20160914
DTEND;VALUE=DATE:20160915
DTSTAMP:20260423T162941
CREATED:20160907T160734Z
LAST-MODIFIED:20160907T160734Z
UID:2004-1473811200-1473897599@www.williampatten.hackney.sch.uk
SUMMARY:Y2 Meet the teacher meeting - 9.30am
DESCRIPTION:
URL:https://www.williampatten.hackney.sch.uk/event/y2-meet-the-teacher-meeting-9-30am/
END:VEVENT
BEGIN:VEVENT
DTSTART;VALUE=DATE:20160913
DTEND;VALUE=DATE:20160914
DTSTAMP:20260423T162941
CREATED:20160907T160557Z
LAST-MODIFIED:20160907T160557Z
UID:2003-1473724800-1473811199@www.williampatten.hackney.sch.uk
SUMMARY:Y4 Meet the teacher meeting - 2.45pm
DESCRIPTION:
URL:https://www.williampatten.hackney.sch.uk/event/y4-meet-the-teacher-meeting-2-45pm/
END:VEVENT
BEGIN:VEVENT
DTSTART;VALUE=DATE:20160913
DTEND;VALUE=DATE:20160914
DTSTAMP:20260423T162941
CREATED:20160907T155032Z
LAST-MODIFIED:20160907T155032Z
UID:2002-1473724800-1473811199@www.williampatten.hackney.sch.uk
SUMMARY:Y5 Meet the teacher meeting - 9.30am
DESCRIPTION:
URL:https://www.williampatten.hackney.sch.uk/event/y5-meet-the-teacher-meeting-9-30am/
END:VEVENT
BEGIN:VEVENT
DTSTART;VALUE=DATE:20160912
DTEND;VALUE=DATE:20160913
DTSTAMP:20260423T162941
CREATED:20160907T153534Z
LAST-MODIFIED:20160907T153534Z
UID:2001-1473638400-1473724799@www.williampatten.hackney.sch.uk
SUMMARY:Y3 Meet the teacher meeting - 2.45pm
DESCRIPTION:
URL:https://www.williampatten.hackney.sch.uk/event/y3-meet-the-teacher-meeting-2-45pm/
END:VEVENT
BEGIN:VEVENT
DTSTART;VALUE=DATE:20160912
DTEND;VALUE=DATE:20160913
DTSTAMP:20260423T162941
CREATED:20160907T152600Z
LAST-MODIFIED:20160907T153450Z
UID:1999-1473638400-1473724799@www.williampatten.hackney.sch.uk
SUMMARY:Y6 Meet the teacher meeting - 9.30am
DESCRIPTION:
URL:https://www.williampatten.hackney.sch.uk/event/year-2-meet-the-teacher-meeting-9-30am/
END:VEVENT
BEGIN:VEVENT
DTSTART;TZID=Europe/London:20160906T080000
DTEND;TZID=Europe/London:20160906T170000
DTSTAMP:20260423T162941
CREATED:20160907T152405Z
LAST-MODIFIED:20160907T152405Z
UID:1998-1473148800-1473181200@www.williampatten.hackney.sch.uk
SUMMARY:INSET Day
DESCRIPTION:
URL:https://www.williampatten.hackney.sch.uk/event/inset-day-3/
END:VEVENT
BEGIN:VEVENT
DTSTART;VALUE=DATE:20160905
DTEND;VALUE=DATE:20160906
DTSTAMP:20260423T162941
CREATED:20160907T152201Z
LAST-MODIFIED:20160907T152201Z
UID:1997-1473033600-1473119999@www.williampatten.hackney.sch.uk
SUMMARY:INSET Day
DESCRIPTION:
URL:https://www.williampatten.hackney.sch.uk/event/inset-day-2/
END:VEVENT
BEGIN:VEVENT
DTSTART;VALUE=DATE:20160722
DTEND;VALUE=DATE:20160723
DTSTAMP:20260423T162941
CREATED:20160301T145804Z
LAST-MODIFIED:20160425T123918Z
UID:1687-1469145600-1469231999@www.williampatten.hackney.sch.uk
SUMMARY:Break up for Summer 1.30pm
DESCRIPTION:
URL:https://www.williampatten.hackney.sch.uk/event/break-up-for-summer/
END:VEVENT
BEGIN:VEVENT
DTSTART;VALUE=DATE:20160722
DTEND;VALUE=DATE:20160723
DTSTAMP:20260423T162941
CREATED:20160301T145748Z
LAST-MODIFIED:20160301T145748Z
UID:1686-1469145600-1469231999@www.williampatten.hackney.sch.uk
SUMMARY:Year 6 Graduation
DESCRIPTION:
URL:https://www.williampatten.hackney.sch.uk/event/year-6-graduation/
END:VEVENT
BEGIN:VEVENT
DTSTART;TZID=Europe/London:20160721T183000
DTEND;TZID=Europe/London:20160721T200000
DTSTAMP:20260423T162941
CREATED:20160301T145733Z
LAST-MODIFIED:20160607T111235Z
UID:1685-1469125800-1469131200@www.williampatten.hackney.sch.uk
SUMMARY:Year 6 BBQ 6.30pm
DESCRIPTION:
URL:https://www.williampatten.hackney.sch.uk/event/year-6-bbq/
END:VEVENT
BEGIN:VEVENT
DTSTART;VALUE=DATE:20160715
DTEND;VALUE=DATE:20160716
DTSTAMP:20260423T162941
CREATED:20160415T144139Z
LAST-MODIFIED:20160415T144139Z
UID:1787-1468540800-1468627199@www.williampatten.hackney.sch.uk
SUMMARY:Dynevor Road playstreet
DESCRIPTION:
URL:https://www.williampatten.hackney.sch.uk/event/dynevor-road-playstreet-2/
END:VEVENT
BEGIN:VEVENT
DTSTART;VALUE=DATE:20160714
DTEND;VALUE=DATE:20160715
DTSTAMP:20260423T162941
CREATED:20160415T144037Z
LAST-MODIFIED:20160415T144037Z
UID:1786-1468454400-1468540799@www.williampatten.hackney.sch.uk
SUMMARY:Deborah Reade Art Award Assembly 1.30pm
DESCRIPTION:
URL:https://www.williampatten.hackney.sch.uk/event/deborah-reade-art-award-assembly-1-30pm/
END:VEVENT
BEGIN:VEVENT
DTSTART;VALUE=DATE:20160713
DTEND;VALUE=DATE:20160714
DTSTAMP:20260423T162941
CREATED:20160415T143733Z
LAST-MODIFIED:20160706T075139Z
UID:1785-1468368000-1468454399@www.williampatten.hackney.sch.uk
SUMMARY:Year 3 Gymnastics Display - 3pm
DESCRIPTION:
URL:https://www.williampatten.hackney.sch.uk/event/gymnastics-display-y2-3/
END:VEVENT
BEGIN:VEVENT
DTSTART;TZID=Europe/London:20160712T183000
DTEND;TZID=Europe/London:20160712T193000
DTSTAMP:20260423T162941
CREATED:20160301T145703Z
LAST-MODIFIED:20160607T111143Z
UID:1684-1468348200-1468351800@www.williampatten.hackney.sch.uk
SUMMARY:Year 6 Show for parents 6.30pm
DESCRIPTION:
URL:https://www.williampatten.hackney.sch.uk/event/year-6-show/
END:VEVENT
END:VCALENDAR