BEGIN:VCALENDAR
VERSION:2.0
PRODID:-//William Patten Primary School - ECPv6.15.20//NONSGML v1.0//EN
CALSCALE:GREGORIAN
METHOD:PUBLISH
X-WR-CALNAME:William Patten Primary School
X-ORIGINAL-URL:https://www.williampatten.hackney.sch.uk
X-WR-CALDESC:Events for William Patten Primary School
REFRESH-INTERVAL;VALUE=DURATION:PT1H
X-Robots-Tag:noindex
X-PUBLISHED-TTL:PT1H
BEGIN:VTIMEZONE
TZID:Europe/London
BEGIN:DAYLIGHT
TZOFFSETFROM:+0000
TZOFFSETTO:+0100
TZNAME:BST
DTSTART:20150329T010000
END:DAYLIGHT
BEGIN:STANDARD
TZOFFSETFROM:+0100
TZOFFSETTO:+0000
TZNAME:GMT
DTSTART:20151025T010000
END:STANDARD
BEGIN:DAYLIGHT
TZOFFSETFROM:+0000
TZOFFSETTO:+0100
TZNAME:BST
DTSTART:20160327T010000
END:DAYLIGHT
BEGIN:STANDARD
TZOFFSETFROM:+0100
TZOFFSETTO:+0000
TZNAME:GMT
DTSTART:20161030T010000
END:STANDARD
BEGIN:DAYLIGHT
TZOFFSETFROM:+0000
TZOFFSETTO:+0100
TZNAME:BST
DTSTART:20170326T010000
END:DAYLIGHT
BEGIN:STANDARD
TZOFFSETFROM:+0100
TZOFFSETTO:+0000
TZNAME:GMT
DTSTART:20171029T010000
END:STANDARD
END:VTIMEZONE
BEGIN:VEVENT
DTSTART;VALUE=DATE:20160912
DTEND;VALUE=DATE:20160913
DTSTAMP:20260423T195725
CREATED:20160907T152600Z
LAST-MODIFIED:20160907T153450Z
UID:1999-1473638400-1473724799@www.williampatten.hackney.sch.uk
SUMMARY:Y6 Meet the teacher meeting - 9.30am
DESCRIPTION:
URL:https://www.williampatten.hackney.sch.uk/event/year-2-meet-the-teacher-meeting-9-30am/
END:VEVENT
BEGIN:VEVENT
DTSTART;TZID=Europe/London:20160906T080000
DTEND;TZID=Europe/London:20160906T170000
DTSTAMP:20260423T195725
CREATED:20160907T152405Z
LAST-MODIFIED:20160907T152405Z
UID:1998-1473148800-1473181200@www.williampatten.hackney.sch.uk
SUMMARY:INSET Day
DESCRIPTION:
URL:https://www.williampatten.hackney.sch.uk/event/inset-day-3/
END:VEVENT
BEGIN:VEVENT
DTSTART;VALUE=DATE:20160905
DTEND;VALUE=DATE:20160906
DTSTAMP:20260423T195725
CREATED:20160907T152201Z
LAST-MODIFIED:20160907T152201Z
UID:1997-1473033600-1473119999@www.williampatten.hackney.sch.uk
SUMMARY:INSET Day
DESCRIPTION:
URL:https://www.williampatten.hackney.sch.uk/event/inset-day-2/
END:VEVENT
BEGIN:VEVENT
DTSTART;VALUE=DATE:20160722
DTEND;VALUE=DATE:20160723
DTSTAMP:20260423T195725
CREATED:20160301T145804Z
LAST-MODIFIED:20160425T123918Z
UID:1687-1469145600-1469231999@www.williampatten.hackney.sch.uk
SUMMARY:Break up for Summer 1.30pm
DESCRIPTION:
URL:https://www.williampatten.hackney.sch.uk/event/break-up-for-summer/
END:VEVENT
BEGIN:VEVENT
DTSTART;VALUE=DATE:20160722
DTEND;VALUE=DATE:20160723
DTSTAMP:20260423T195725
CREATED:20160301T145748Z
LAST-MODIFIED:20160301T145748Z
UID:1686-1469145600-1469231999@www.williampatten.hackney.sch.uk
SUMMARY:Year 6 Graduation
DESCRIPTION:
URL:https://www.williampatten.hackney.sch.uk/event/year-6-graduation/
END:VEVENT
BEGIN:VEVENT
DTSTART;TZID=Europe/London:20160721T183000
DTEND;TZID=Europe/London:20160721T200000
DTSTAMP:20260423T195725
CREATED:20160301T145733Z
LAST-MODIFIED:20160607T111235Z
UID:1685-1469125800-1469131200@www.williampatten.hackney.sch.uk
SUMMARY:Year 6 BBQ 6.30pm
DESCRIPTION:
URL:https://www.williampatten.hackney.sch.uk/event/year-6-bbq/
END:VEVENT
BEGIN:VEVENT
DTSTART;VALUE=DATE:20160715
DTEND;VALUE=DATE:20160716
DTSTAMP:20260423T195725
CREATED:20160415T144139Z
LAST-MODIFIED:20160415T144139Z
UID:1787-1468540800-1468627199@www.williampatten.hackney.sch.uk
SUMMARY:Dynevor Road playstreet
DESCRIPTION:
URL:https://www.williampatten.hackney.sch.uk/event/dynevor-road-playstreet-2/
END:VEVENT
BEGIN:VEVENT
DTSTART;VALUE=DATE:20160714
DTEND;VALUE=DATE:20160715
DTSTAMP:20260423T195725
CREATED:20160415T144037Z
LAST-MODIFIED:20160415T144037Z
UID:1786-1468454400-1468540799@www.williampatten.hackney.sch.uk
SUMMARY:Deborah Reade Art Award Assembly 1.30pm
DESCRIPTION:
URL:https://www.williampatten.hackney.sch.uk/event/deborah-reade-art-award-assembly-1-30pm/
END:VEVENT
BEGIN:VEVENT
DTSTART;VALUE=DATE:20160713
DTEND;VALUE=DATE:20160714
DTSTAMP:20260423T195725
CREATED:20160415T143733Z
LAST-MODIFIED:20160706T075139Z
UID:1785-1468368000-1468454399@www.williampatten.hackney.sch.uk
SUMMARY:Year 3 Gymnastics Display - 3pm
DESCRIPTION:
URL:https://www.williampatten.hackney.sch.uk/event/gymnastics-display-y2-3/
END:VEVENT
BEGIN:VEVENT
DTSTART;TZID=Europe/London:20160712T183000
DTEND;TZID=Europe/London:20160712T193000
DTSTAMP:20260423T195725
CREATED:20160301T145703Z
LAST-MODIFIED:20160607T111143Z
UID:1684-1468348200-1468351800@www.williampatten.hackney.sch.uk
SUMMARY:Year 6 Show for parents 6.30pm
DESCRIPTION:
URL:https://www.williampatten.hackney.sch.uk/event/year-6-show/
END:VEVENT
BEGIN:VEVENT
DTSTART;VALUE=DATE:20160710
DTEND;VALUE=DATE:20160711
DTSTAMP:20260423T195725
CREATED:20160301T145632Z
LAST-MODIFIED:20160301T145632Z
UID:1683-1468108800-1468195199@www.williampatten.hackney.sch.uk
SUMMARY:Summer Fair
DESCRIPTION:
URL:https://www.williampatten.hackney.sch.uk/event/summer-fair/
END:VEVENT
BEGIN:VEVENT
DTSTART;VALUE=DATE:20160707
DTEND;VALUE=DATE:20160708
DTSTAMP:20260423T195725
CREATED:20160614T104626Z
LAST-MODIFIED:20160614T104626Z
UID:1932-1467849600-1467935999@www.williampatten.hackney.sch.uk
SUMMARY:Afternoon nursery to Geffrye Museum
DESCRIPTION:
URL:https://www.williampatten.hackney.sch.uk/event/afternoon-nursery-to-geffrye-museum/
END:VEVENT
BEGIN:VEVENT
DTSTART;VALUE=DATE:20160706
DTEND;VALUE=DATE:20160707
DTSTAMP:20260423T195725
CREATED:20160614T104706Z
LAST-MODIFIED:20160614T104706Z
UID:1933-1467763200-1467849599@www.williampatten.hackney.sch.uk
SUMMARY:Reception to Geffrye Museum
DESCRIPTION:
URL:https://www.williampatten.hackney.sch.uk/event/reception-to-geffrye-museum/
END:VEVENT
BEGIN:VEVENT
DTSTART;VALUE=DATE:20160706
DTEND;VALUE=DATE:20160707
DTSTAMP:20260423T195725
CREATED:20160607T143947Z
LAST-MODIFIED:20160607T143947Z
UID:1926-1467763200-1467849599@www.williampatten.hackney.sch.uk
SUMMARY:Reception trip to Geffrye Museum
DESCRIPTION:
URL:https://www.williampatten.hackney.sch.uk/event/reception-trip-to-geffrye-museum/
END:VEVENT
BEGIN:VEVENT
DTSTART;VALUE=DATE:20160706
DTEND;VALUE=DATE:20160707
DTSTAMP:20260423T195725
CREATED:20160415T143639Z
LAST-MODIFIED:20160415T143639Z
UID:1784-1467763200-1467849599@www.williampatten.hackney.sch.uk
SUMMARY:Deborah Reade Art Award submission
DESCRIPTION:
URL:https://www.williampatten.hackney.sch.uk/event/deborah-reade-art-award-submission/
END:VEVENT
BEGIN:VEVENT
DTSTART;VALUE=DATE:20160706
DTEND;VALUE=DATE:20160707
DTSTAMP:20260423T195725
CREATED:20160415T143422Z
LAST-MODIFIED:20160415T145733Z
UID:1783-1467763200-1467849599@www.williampatten.hackney.sch.uk
SUMMARY:Year 6 Transition Day
DESCRIPTION:
URL:https://www.williampatten.hackney.sch.uk/event/y6-transition-day/
END:VEVENT
BEGIN:VEVENT
DTSTART;VALUE=DATE:20160705
DTEND;VALUE=DATE:20160706
DTSTAMP:20260423T195725
CREATED:20160614T104817Z
LAST-MODIFIED:20160614T104817Z
UID:1934-1467676800-1467763199@www.williampatten.hackney.sch.uk
SUMMARY:Year 1 to Geffrye Museum
DESCRIPTION:
URL:https://www.williampatten.hackney.sch.uk/event/year-1-to-geffrye-museum/
END:VEVENT
BEGIN:VEVENT
DTSTART;VALUE=DATE:20160705
DTEND;VALUE=DATE:20160706
DTSTAMP:20260423T195725
CREATED:20160614T104550Z
LAST-MODIFIED:20160614T104550Z
UID:1931-1467676800-1467763199@www.williampatten.hackney.sch.uk
SUMMARY:Morning nursery to Geffrye Museum
DESCRIPTION:
URL:https://www.williampatten.hackney.sch.uk/event/morning-nursery-to-geffrye-museum/
END:VEVENT
BEGIN:VEVENT
DTSTART;VALUE=DATE:20160705
DTEND;VALUE=DATE:20160706
DTSTAMP:20260423T195725
CREATED:20160607T143054Z
LAST-MODIFIED:20160607T143054Z
UID:1925-1467676800-1467763199@www.williampatten.hackney.sch.uk
SUMMARY:Year 1 trip to Geffrye Museum
DESCRIPTION:
URL:https://www.williampatten.hackney.sch.uk/event/year-1-trip-to-geffrye-museum/
END:VEVENT
BEGIN:VEVENT
DTSTART;VALUE=DATE:20160705
DTEND;VALUE=DATE:20160706
DTSTAMP:20260423T195725
CREATED:20160607T112336Z
LAST-MODIFIED:20160607T112457Z
UID:1924-1467676800-1467763199@www.williampatten.hackney.sch.uk
SUMMARY:Y5 Primary Futures workshops
DESCRIPTION:
URL:https://www.williampatten.hackney.sch.uk/event/y5-primary-futures-workshops/
END:VEVENT
BEGIN:VEVENT
DTSTART;VALUE=DATE:20160705
DTEND;VALUE=DATE:20160706
DTSTAMP:20260423T195725
CREATED:20160415T143051Z
LAST-MODIFIED:20160622T085954Z
UID:1782-1467676800-1467763199@www.williampatten.hackney.sch.uk
SUMMARY:2K Dance event at Round Chapel 10.15am
DESCRIPTION:
URL:https://www.williampatten.hackney.sch.uk/event/2t-dance-event-at-round-chapel/
END:VEVENT
BEGIN:VEVENT
DTSTART;VALUE=DATE:20160701
DTEND;VALUE=DATE:20160702
DTSTAMP:20260423T195725
CREATED:20160607T110850Z
LAST-MODIFIED:20160607T110850Z
UID:1921-1467331200-1467417599@www.williampatten.hackney.sch.uk
SUMMARY:Year 2 trip to Little Angel Theatre
DESCRIPTION:
URL:https://www.williampatten.hackney.sch.uk/event/year-2-trip-to-little-angel-theatre/
END:VEVENT
BEGIN:VEVENT
DTSTART;VALUE=DATE:20160701
DTEND;VALUE=DATE:20160702
DTSTAMP:20260423T195725
CREATED:20160607T110745Z
LAST-MODIFIED:20160607T110810Z
UID:1920-1467331200-1467417599@www.williampatten.hackney.sch.uk
SUMMARY:Southend trip for chess club
DESCRIPTION:
URL:https://www.williampatten.hackney.sch.uk/event/southend-trip-for-chess-club-children/
END:VEVENT
BEGIN:VEVENT
DTSTART;VALUE=DATE:20160701
DTEND;VALUE=DATE:20160702
DTSTAMP:20260423T195725
CREATED:20160415T143002Z
LAST-MODIFIED:20160415T145808Z
UID:1781-1467331200-1467417599@www.williampatten.hackney.sch.uk
SUMMARY:Dance Days workshops for Years 2 - 6
DESCRIPTION:
URL:https://www.williampatten.hackney.sch.uk/event/dance-days-workshop-y2-6/
END:VEVENT
BEGIN:VEVENT
DTSTART;VALUE=DATE:20160630
DTEND;VALUE=DATE:20160701
DTSTAMP:20260423T195725
CREATED:20160415T142914Z
LAST-MODIFIED:20160622T094937Z
UID:1780-1467244800-1467331199@www.williampatten.hackney.sch.uk
SUMMARY:KS2 Choir to Round Chapel 5pm
DESCRIPTION:
URL:https://www.williampatten.hackney.sch.uk/event/ks2-singing-event-at-round-chapel/
END:VEVENT
BEGIN:VEVENT
DTSTART;VALUE=DATE:20160630
DTEND;VALUE=DATE:20160701
DTSTAMP:20260423T195725
CREATED:20160415T142812Z
LAST-MODIFIED:20160415T145753Z
UID:1779-1467244800-1467331199@www.williampatten.hackney.sch.uk
SUMMARY:Dance Days workshops for Years 2 - 6
DESCRIPTION:
URL:https://www.williampatten.hackney.sch.uk/event/dance-days-workshop-for-y2-6/
END:VEVENT
BEGIN:VEVENT
DTSTART;VALUE=DATE:20160629
DTEND;VALUE=DATE:20160630
DTSTAMP:20260423T195725
CREATED:20160415T142642Z
LAST-MODIFIED:20160415T145849Z
UID:1778-1467158400-1467244799@www.williampatten.hackney.sch.uk
SUMMARY:Personal Best Final - Year 4
DESCRIPTION:
URL:https://www.williampatten.hackney.sch.uk/event/y4-personal-best-final/
END:VEVENT
BEGIN:VEVENT
DTSTART;VALUE=DATE:20160628
DTEND;VALUE=DATE:20160629
DTSTAMP:20260423T195725
CREATED:20160415T142441Z
LAST-MODIFIED:20160622T095047Z
UID:1777-1467072000-1467158399@www.williampatten.hackney.sch.uk
SUMMARY:KS1 Choir to Round Chapel 10.45am
DESCRIPTION:
URL:https://www.williampatten.hackney.sch.uk/event/ks1-singing-event-at-round-chapel/
END:VEVENT
BEGIN:VEVENT
DTSTART;VALUE=DATE:20160628
DTEND;VALUE=DATE:20160629
DTSTAMP:20260423T195725
CREATED:20160301T145604Z
LAST-MODIFIED:20160301T145604Z
UID:1681-1467072000-1467158399@www.williampatten.hackney.sch.uk
SUMMARY:KS2 Sports Day
DESCRIPTION:
URL:https://www.williampatten.hackney.sch.uk/event/ks2-sports-day/
END:VEVENT
BEGIN:VEVENT
DTSTART;VALUE=DATE:20160627
DTEND;VALUE=DATE:20160628
DTSTAMP:20260423T195725
CREATED:20160607T112156Z
LAST-MODIFIED:20160607T112156Z
UID:1923-1466985600-1467071999@www.williampatten.hackney.sch.uk
SUMMARY:Flamenco workshops for Years 3 & 4
DESCRIPTION:
URL:https://www.williampatten.hackney.sch.uk/event/flamenco-workshops-for-years-3-4/
END:VEVENT
END:VCALENDAR