BEGIN:VCALENDAR
VERSION:2.0
PRODID:-//William Patten Primary School - ECPv6.15.20//NONSGML v1.0//EN
CALSCALE:GREGORIAN
METHOD:PUBLISH
X-WR-CALNAME:William Patten Primary School
X-ORIGINAL-URL:https://www.williampatten.hackney.sch.uk
X-WR-CALDESC:Events for William Patten Primary School
REFRESH-INTERVAL;VALUE=DURATION:PT1H
X-Robots-Tag:noindex
X-PUBLISHED-TTL:PT1H
BEGIN:VTIMEZONE
TZID:Europe/London
BEGIN:DAYLIGHT
TZOFFSETFROM:+0000
TZOFFSETTO:+0100
TZNAME:BST
DTSTART:20150329T010000
END:DAYLIGHT
BEGIN:STANDARD
TZOFFSETFROM:+0100
TZOFFSETTO:+0000
TZNAME:GMT
DTSTART:20151025T010000
END:STANDARD
BEGIN:DAYLIGHT
TZOFFSETFROM:+0000
TZOFFSETTO:+0100
TZNAME:BST
DTSTART:20160327T010000
END:DAYLIGHT
BEGIN:STANDARD
TZOFFSETFROM:+0100
TZOFFSETTO:+0000
TZNAME:GMT
DTSTART:20161030T010000
END:STANDARD
BEGIN:DAYLIGHT
TZOFFSETFROM:+0000
TZOFFSETTO:+0100
TZNAME:BST
DTSTART:20170326T010000
END:DAYLIGHT
BEGIN:STANDARD
TZOFFSETFROM:+0100
TZOFFSETTO:+0000
TZNAME:GMT
DTSTART:20171029T010000
END:STANDARD
END:VTIMEZONE
BEGIN:VEVENT
DTSTART;VALUE=DATE:20160627
DTEND;VALUE=DATE:20160628
DTSTAMP:20260424T014057
CREATED:20160301T145545Z
LAST-MODIFIED:20160301T145545Z
UID:1680-1466985600-1467071999@www.williampatten.hackney.sch.uk
SUMMARY:Hispanic Week
DESCRIPTION:
URL:https://www.williampatten.hackney.sch.uk/event/hispanic-week/
END:VEVENT
BEGIN:VEVENT
DTSTART;VALUE=DATE:20160627
DTEND;VALUE=DATE:20160628
DTSTAMP:20260424T014057
CREATED:20160301T145529Z
LAST-MODIFIED:20160301T145529Z
UID:1679-1466985600-1467071999@www.williampatten.hackney.sch.uk
SUMMARY:KS1 Sports Day
DESCRIPTION:
URL:https://www.williampatten.hackney.sch.uk/event/ks1-sports-day/
END:VEVENT
BEGIN:VEVENT
DTSTART;VALUE=DATE:20160623
DTEND;VALUE=DATE:20160624
DTSTAMP:20260424T014057
CREATED:20160614T104503Z
LAST-MODIFIED:20160614T104503Z
UID:1930-1466640000-1466726399@www.williampatten.hackney.sch.uk
SUMMARY:2T Music Concert 3pm
DESCRIPTION:
URL:https://www.williampatten.hackney.sch.uk/event/2t-music-concert-3pm/
END:VEVENT
BEGIN:VEVENT
DTSTART;VALUE=DATE:20160623
DTEND;VALUE=DATE:20160624
DTSTAMP:20260424T014057
CREATED:20160614T104426Z
LAST-MODIFIED:20160614T104426Z
UID:1929-1466640000-1466726399@www.williampatten.hackney.sch.uk
SUMMARY:2K Music Concert 2.30pm
DESCRIPTION:
URL:https://www.williampatten.hackney.sch.uk/event/2k-music-concert-2-30pm/
END:VEVENT
BEGIN:VEVENT
DTSTART;VALUE=DATE:20160623
DTEND;VALUE=DATE:20160624
DTSTAMP:20260424T014057
CREATED:20160607T104452Z
LAST-MODIFIED:20160607T104453Z
UID:1919-1466640000-1466726399@www.williampatten.hackney.sch.uk
SUMMARY:Year 6 to Hackney Museum (for Refugee Week)
DESCRIPTION:
URL:https://www.williampatten.hackney.sch.uk/event/year-6-to-hackney-museum-for-refugee-week/
END:VEVENT
BEGIN:VEVENT
DTSTART;VALUE=DATE:20160623
DTEND;VALUE=DATE:20160624
DTSTAMP:20260424T014057
CREATED:20160607T104323Z
LAST-MODIFIED:20160607T104323Z
UID:1918-1466640000-1466726399@www.williampatten.hackney.sch.uk
SUMMARY:Years 4 & 5 EE Challenge Day (Moonbase)
DESCRIPTION:
URL:https://www.williampatten.hackney.sch.uk/event/years-4-5-ee-challenge-day-moonbase/
END:VEVENT
BEGIN:VEVENT
DTSTART;VALUE=DATE:20160620
DTEND;VALUE=DATE:20160621
DTSTAMP:20260424T014057
CREATED:20160607T104230Z
LAST-MODIFIED:20160607T104230Z
UID:1917-1466380800-1466467199@www.williampatten.hackney.sch.uk
SUMMARY:Years 4 & 5 Tour De Hackney (Clissold Park)
DESCRIPTION:
URL:https://www.williampatten.hackney.sch.uk/event/years-4-5-tour-de-hackney-clissold-park/
END:VEVENT
BEGIN:VEVENT
DTSTART;VALUE=DATE:20160617
DTEND;VALUE=DATE:20160618
DTSTAMP:20260424T014057
CREATED:20160301T145456Z
LAST-MODIFIED:20160301T145513Z
UID:1678-1466121600-1466207999@www.williampatten.hackney.sch.uk
SUMMARY:Class photographs
DESCRIPTION:
URL:https://www.williampatten.hackney.sch.uk/event/class-photographs/
END:VEVENT
BEGIN:VEVENT
DTSTART;VALUE=DATE:20160615
DTEND;VALUE=DATE:20160616
DTSTAMP:20260424T014057
CREATED:20160301T145442Z
LAST-MODIFIED:20160301T145442Z
UID:1677-1465948800-1466035199@www.williampatten.hackney.sch.uk
SUMMARY:2T - Pizza Express
DESCRIPTION:
URL:https://www.williampatten.hackney.sch.uk/event/2t-pizza-express/
END:VEVENT
BEGIN:VEVENT
DTSTART;VALUE=DATE:20160614
DTEND;VALUE=DATE:20160615
DTSTAMP:20260424T014057
CREATED:20160301T145425Z
LAST-MODIFIED:20160301T145425Z
UID:1676-1465862400-1465948799@www.williampatten.hackney.sch.uk
SUMMARY:2K - Pizza Express
DESCRIPTION:
URL:https://www.williampatten.hackney.sch.uk/event/2k-pizza-express/
END:VEVENT
BEGIN:VEVENT
DTSTART;VALUE=DATE:20160613
DTEND;VALUE=DATE:20160618
DTSTAMP:20260424T014057
CREATED:20160415T141322Z
LAST-MODIFIED:20160415T141322Z
UID:1769-1465776000-1466207999@www.williampatten.hackney.sch.uk
SUMMARY:Phonics Test week
DESCRIPTION:
URL:https://www.williampatten.hackney.sch.uk/event/phonics-test-week/
END:VEVENT
BEGIN:VEVENT
DTSTART;VALUE=DATE:20160609
DTEND;VALUE=DATE:20160610
DTSTAMP:20260424T014057
CREATED:20160415T141141Z
LAST-MODIFIED:20160517T142011Z
UID:1768-1465430400-1465516799@www.williampatten.hackney.sch.uk
SUMMARY:Year 1 classes to Kings Henry's Walk Garden
DESCRIPTION:
URL:https://www.williampatten.hackney.sch.uk/event/year-1-classes-to-kings-henrys-walk-gardens/
END:VEVENT
BEGIN:VEVENT
DTSTART;VALUE=DATE:20160608
DTEND;VALUE=DATE:20160609
DTSTAMP:20260424T014057
CREATED:20160415T140933Z
LAST-MODIFIED:20160415T140933Z
UID:1767-1465344000-1465430399@www.williampatten.hackney.sch.uk
SUMMARY:Reception classes to Kings Henry's Walk Garden
DESCRIPTION:
URL:https://www.williampatten.hackney.sch.uk/event/reception-classes-to-kings-henrys-walk-garden/
END:VEVENT
BEGIN:VEVENT
DTSTART;TZID=Europe/London:20160607T080000
DTEND;TZID=Europe/London:20160607T170000
DTSTAMP:20260424T014057
CREATED:20160607T111416Z
LAST-MODIFIED:20160607T111416Z
UID:1922-1465286400-1465318800@www.williampatten.hackney.sch.uk
SUMMARY:Fencing Competition 2.30pm
DESCRIPTION:
URL:https://www.williampatten.hackney.sch.uk/event/fencing-competition-2-30pm/
END:VEVENT
BEGIN:VEVENT
DTSTART;VALUE=DATE:20160607
DTEND;VALUE=DATE:20160610
DTSTAMP:20260424T014057
CREATED:20160301T145410Z
LAST-MODIFIED:20160415T150022Z
UID:1675-1465257600-1465516799@www.williampatten.hackney.sch.uk
SUMMARY:Science Week
DESCRIPTION:
URL:https://www.williampatten.hackney.sch.uk/event/science-week/
END:VEVENT
BEGIN:VEVENT
DTSTART;VALUE=DATE:20160607
DTEND;VALUE=DATE:20160608
DTSTAMP:20260424T014057
CREATED:20160301T145351Z
LAST-MODIFIED:20160301T145351Z
UID:1674-1465257600-1465343999@www.williampatten.hackney.sch.uk
SUMMARY:Back to school
DESCRIPTION:
URL:https://www.williampatten.hackney.sch.uk/event/back-to-school/
END:VEVENT
BEGIN:VEVENT
DTSTART;VALUE=DATE:20160606
DTEND;VALUE=DATE:20160607
DTSTAMP:20260424T014057
CREATED:20160301T145336Z
LAST-MODIFIED:20160301T145336Z
UID:1673-1465171200-1465257599@www.williampatten.hackney.sch.uk
SUMMARY:INSET Day
DESCRIPTION:
URL:https://www.williampatten.hackney.sch.uk/event/inset-day/
END:VEVENT
BEGIN:VEVENT
DTSTART;VALUE=DATE:20160603
DTEND;VALUE=DATE:20160605
DTSTAMP:20260424T014057
CREATED:20160415T140740Z
LAST-MODIFIED:20220516T094753Z
UID:1765-1464912000-1465084799@www.williampatten.hackney.sch.uk
SUMMARY:Stoke Newington Literary Festival
DESCRIPTION:
URL:https://www.williampatten.hackney.sch.uk/event/stoke-newington-literary-festival/
END:VEVENT
BEGIN:VEVENT
DTSTART;VALUE=DATE:20160527
DTEND;VALUE=DATE:20160528
DTSTAMP:20260424T014057
CREATED:20160301T145255Z
LAST-MODIFIED:20160301T145255Z
UID:1672-1464307200-1464393599@www.williampatten.hackney.sch.uk
SUMMARY:Break up for half term
DESCRIPTION:
URL:https://www.williampatten.hackney.sch.uk/event/break-up-for-half-term/
END:VEVENT
BEGIN:VEVENT
DTSTART;VALUE=DATE:20160526
DTEND;VALUE=DATE:20160527
DTSTAMP:20260424T014057
CREATED:20160415T140511Z
LAST-MODIFIED:20160517T140623Z
UID:1763-1464220800-1464307199@www.williampatten.hackney.sch.uk
SUMMARY:Stoke Newington Literary Festival (Kids Day)
DESCRIPTION:
URL:https://www.williampatten.hackney.sch.uk/event/stoke-newington-literary-festival-kids/
END:VEVENT
BEGIN:VEVENT
DTSTART;VALUE=DATE:20160523
DTEND;VALUE=DATE:20160528
DTSTAMP:20260424T014057
CREATED:20160301T145238Z
LAST-MODIFIED:20160415T133306Z
UID:1671-1463961600-1464393599@www.williampatten.hackney.sch.uk
SUMMARY:Year 6 residential trip - Newlands Park
DESCRIPTION:
URL:https://www.williampatten.hackney.sch.uk/event/year-6-residential-trip-newland-park/
END:VEVENT
BEGIN:VEVENT
DTSTART;VALUE=DATE:20160520
DTEND;VALUE=DATE:20160521
DTSTAMP:20260424T014057
CREATED:20160415T140426Z
LAST-MODIFIED:20160415T140426Z
UID:1762-1463702400-1463788799@www.williampatten.hackney.sch.uk
SUMMARY:Y6 Placard Parade
DESCRIPTION:
URL:https://www.williampatten.hackney.sch.uk/event/y6-placard-parade/
END:VEVENT
BEGIN:VEVENT
DTSTART;VALUE=DATE:20160513
DTEND;VALUE=DATE:20160514
DTSTAMP:20260424T014057
CREATED:20160415T140038Z
LAST-MODIFIED:20160415T140038Z
UID:1760-1463097600-1463183999@www.williampatten.hackney.sch.uk
SUMMARY:Dynevor Rd playstreet
DESCRIPTION:
URL:https://www.williampatten.hackney.sch.uk/event/dynevor-rd-playstreet/
END:VEVENT
BEGIN:VEVENT
DTSTART;VALUE=DATE:20160511
DTEND;VALUE=DATE:20160512
DTSTAMP:20260424T014057
CREATED:20160415T140001Z
LAST-MODIFIED:20160415T140001Z
UID:1759-1462924800-1463011199@www.williampatten.hackney.sch.uk
SUMMARY:Both nursery classes to the Garden Classroom
DESCRIPTION:
URL:https://www.williampatten.hackney.sch.uk/event/both-nursery-classes-to-the-garden-classroom/
END:VEVENT
BEGIN:VEVENT
DTSTART;VALUE=DATE:20160509
DTEND;VALUE=DATE:20160514
DTSTAMP:20260424T014057
CREATED:20160301T145217Z
LAST-MODIFIED:20160301T145217Z
UID:1670-1462752000-1463183999@www.williampatten.hackney.sch.uk
SUMMARY:KS2 SATs Week
DESCRIPTION:
URL:https://www.williampatten.hackney.sch.uk/event/ks2-sats-week/
END:VEVENT
BEGIN:VEVENT
DTSTART;VALUE=DATE:20160508
DTEND;VALUE=DATE:20160509
DTSTAMP:20260424T014057
CREATED:20160415T135801Z
LAST-MODIFIED:20160415T135801Z
UID:1758-1462665600-1462751999@www.williampatten.hackney.sch.uk
SUMMARY:Run Hackney Final
DESCRIPTION:
URL:https://www.williampatten.hackney.sch.uk/event/run-hackney-final/
END:VEVENT
BEGIN:VEVENT
DTSTART;VALUE=DATE:20160504
DTEND;VALUE=DATE:20160505
DTSTAMP:20260424T014057
CREATED:20160301T145006Z
LAST-MODIFIED:20160301T145006Z
UID:1669-1462320000-1462406399@www.williampatten.hackney.sch.uk
SUMMARY:KS1 Mini Olympics
DESCRIPTION:
URL:https://www.williampatten.hackney.sch.uk/event/ks1-mini-olympics/
END:VEVENT
BEGIN:VEVENT
DTSTART;VALUE=DATE:20160503
DTEND;VALUE=DATE:20160504
DTSTAMP:20260424T014057
CREATED:20160301T144947Z
LAST-MODIFIED:20160301T144947Z
UID:1668-1462233600-1462319999@www.williampatten.hackney.sch.uk
SUMMARY:1AJ - Pizza Express
DESCRIPTION:
URL:https://www.williampatten.hackney.sch.uk/event/1aj-pizza-express/
END:VEVENT
BEGIN:VEVENT
DTSTART;VALUE=DATE:20160503
DTEND;VALUE=DATE:20160504
DTSTAMP:20260424T014057
CREATED:20160301T143104Z
LAST-MODIFIED:20160301T143104Z
UID:1667-1462233600-1462319999@www.williampatten.hackney.sch.uk
SUMMARY:KS2 Mini Olympics
DESCRIPTION:
URL:https://www.williampatten.hackney.sch.uk/event/ks2-mini-olympics/
END:VEVENT
BEGIN:VEVENT
DTSTART;VALUE=DATE:20160502
DTEND;VALUE=DATE:20160503
DTSTAMP:20260424T014057
CREATED:20160301T143042Z
LAST-MODIFIED:20160301T143042Z
UID:1666-1462147200-1462233599@www.williampatten.hackney.sch.uk
SUMMARY:Bank Holiday
DESCRIPTION:
URL:https://www.williampatten.hackney.sch.uk/event/bank-holiday/
END:VEVENT
END:VCALENDAR