BEGIN:VCALENDAR
VERSION:2.0
PRODID:-//William Patten Primary School - ECPv6.15.20//NONSGML v1.0//EN
CALSCALE:GREGORIAN
METHOD:PUBLISH
X-WR-CALNAME:William Patten Primary School
X-ORIGINAL-URL:https://www.williampatten.hackney.sch.uk
X-WR-CALDESC:Events for William Patten Primary School
REFRESH-INTERVAL;VALUE=DURATION:PT1H
X-Robots-Tag:noindex
X-PUBLISHED-TTL:PT1H
BEGIN:VTIMEZONE
TZID:Europe/London
BEGIN:DAYLIGHT
TZOFFSETFROM:+0000
TZOFFSETTO:+0100
TZNAME:BST
DTSTART:20150329T010000
END:DAYLIGHT
BEGIN:STANDARD
TZOFFSETFROM:+0100
TZOFFSETTO:+0000
TZNAME:GMT
DTSTART:20151025T010000
END:STANDARD
BEGIN:DAYLIGHT
TZOFFSETFROM:+0000
TZOFFSETTO:+0100
TZNAME:BST
DTSTART:20160327T010000
END:DAYLIGHT
BEGIN:STANDARD
TZOFFSETFROM:+0100
TZOFFSETTO:+0000
TZNAME:GMT
DTSTART:20161030T010000
END:STANDARD
BEGIN:DAYLIGHT
TZOFFSETFROM:+0000
TZOFFSETTO:+0100
TZNAME:BST
DTSTART:20170326T010000
END:DAYLIGHT
BEGIN:STANDARD
TZOFFSETFROM:+0100
TZOFFSETTO:+0000
TZNAME:GMT
DTSTART:20171029T010000
END:STANDARD
END:VTIMEZONE
BEGIN:VEVENT
DTSTART;VALUE=DATE:20160309
DTEND;VALUE=DATE:20160310
DTSTAMP:20260424T122430
CREATED:20160301T142656Z
LAST-MODIFIED:20160425T142920Z
UID:1655-1457481600-1457567999@www.williampatten.hackney.sch.uk
SUMMARY:Tour de Hackney
DESCRIPTION:
URL:https://www.williampatten.hackney.sch.uk/event/tour-de-hackney/
END:VEVENT
BEGIN:VEVENT
DTSTART;VALUE=DATE:20160308
DTEND;VALUE=DATE:20160309
DTSTAMP:20260424T122430
CREATED:20160301T142640Z
LAST-MODIFIED:20160425T142920Z
UID:1654-1457395200-1457481599@www.williampatten.hackney.sch.uk
SUMMARY:KS1 Come Dine with Us
DESCRIPTION:
URL:https://www.williampatten.hackney.sch.uk/event/ks1-come-dine-with-us/
END:VEVENT
BEGIN:VEVENT
DTSTART;VALUE=DATE:20160303
DTEND;VALUE=DATE:20160304
DTSTAMP:20260424T122430
CREATED:20160301T142627Z
LAST-MODIFIED:20160425T142920Z
UID:1653-1456963200-1457049599@www.williampatten.hackney.sch.uk
SUMMARY:World Book Day
DESCRIPTION:
URL:https://www.williampatten.hackney.sch.uk/event/world-book-day/
END:VEVENT
BEGIN:VEVENT
DTSTART;TZID=Europe/London:20160302T154500
DTEND;TZID=Europe/London:20160302T174500
DTSTAMP:20260424T122430
CREATED:20160301T142606Z
LAST-MODIFIED:20160425T142920Z
UID:1652-1456933500-1456940700@www.williampatten.hackney.sch.uk
SUMMARY:Family Puzzle Challenge
DESCRIPTION:
URL:https://www.williampatten.hackney.sch.uk/event/family-puzzle-challenge/
END:VEVENT
BEGIN:VEVENT
DTSTART;VALUE=DATE:20160302
DTEND;VALUE=DATE:20160303
DTSTAMP:20260424T122430
CREATED:20160301T142535Z
LAST-MODIFIED:20160425T142920Z
UID:1651-1456876800-1456963199@www.williampatten.hackney.sch.uk
SUMMARY:Puzzle Challenge Day
DESCRIPTION:
URL:https://www.williampatten.hackney.sch.uk/event/puzzle-challenge-day/
END:VEVENT
BEGIN:VEVENT
DTSTART;VALUE=DATE:20160224
DTEND;VALUE=DATE:20160225
DTSTAMP:20260424T122430
CREATED:20160301T142520Z
LAST-MODIFIED:20160425T142920Z
UID:1650-1456272000-1456358399@www.williampatten.hackney.sch.uk
SUMMARY:Year 1 - Geffrye Museum
DESCRIPTION:
URL:https://www.williampatten.hackney.sch.uk/event/year-1-geffrye-museum/
END:VEVENT
BEGIN:VEVENT
DTSTART;VALUE=DATE:20160223
DTEND;VALUE=DATE:20160224
DTSTAMP:20260424T122430
CREATED:20160301T142505Z
LAST-MODIFIED:20160425T142920Z
UID:1649-1456185600-1456271999@www.williampatten.hackney.sch.uk
SUMMARY:Country dancing
DESCRIPTION:
URL:https://www.williampatten.hackney.sch.uk/event/country-dancing/
END:VEVENT
BEGIN:VEVENT
DTSTART;VALUE=DATE:20160223
DTEND;VALUE=DATE:20160224
DTSTAMP:20260424T122431
CREATED:20160301T142416Z
LAST-MODIFIED:20160425T142921Z
UID:1648-1456185600-1456271999@www.williampatten.hackney.sch.uk
SUMMARY:Children return to school
DESCRIPTION:
URL:https://www.williampatten.hackney.sch.uk/event/children-return-to-school/
END:VEVENT
END:VCALENDAR