BEGIN:VCALENDAR
VERSION:2.0
PRODID:-//William Patten Primary School - ECPv6.15.20//NONSGML v1.0//EN
CALSCALE:GREGORIAN
METHOD:PUBLISH
X-WR-CALNAME:William Patten Primary School
X-ORIGINAL-URL:https://www.williampatten.hackney.sch.uk
X-WR-CALDESC:Events for William Patten Primary School
REFRESH-INTERVAL;VALUE=DURATION:PT1H
X-Robots-Tag:noindex
X-PUBLISHED-TTL:PT1H
BEGIN:VTIMEZONE
TZID:Europe/London
BEGIN:DAYLIGHT
TZOFFSETFROM:+0000
TZOFFSETTO:+0100
TZNAME:BST
DTSTART:20180325T010000
END:DAYLIGHT
BEGIN:STANDARD
TZOFFSETFROM:+0100
TZOFFSETTO:+0000
TZNAME:GMT
DTSTART:20181028T010000
END:STANDARD
BEGIN:DAYLIGHT
TZOFFSETFROM:+0000
TZOFFSETTO:+0100
TZNAME:BST
DTSTART:20190331T010000
END:DAYLIGHT
BEGIN:STANDARD
TZOFFSETFROM:+0100
TZOFFSETTO:+0000
TZNAME:GMT
DTSTART:20191027T010000
END:STANDARD
BEGIN:DAYLIGHT
TZOFFSETFROM:+0000
TZOFFSETTO:+0100
TZNAME:BST
DTSTART:20200329T010000
END:DAYLIGHT
BEGIN:STANDARD
TZOFFSETFROM:+0100
TZOFFSETTO:+0000
TZNAME:GMT
DTSTART:20201025T010000
END:STANDARD
END:VTIMEZONE
BEGIN:VEVENT
DTSTART;VALUE=DATE:20190523
DTEND;VALUE=DATE:20190524
DTSTAMP:20260420T073410
CREATED:20181218T135121Z
LAST-MODIFIED:20181218T135121Z
UID:5279-1558569600-1558655999@www.williampatten.hackney.sch.uk
SUMMARY:Stokey Lit Fest
DESCRIPTION:
URL:https://www.williampatten.hackney.sch.uk/event/stokey-lit-fest/
END:VEVENT
BEGIN:VEVENT
DTSTART;VALUE=DATE:20190522
DTEND;VALUE=DATE:20190523
DTSTAMP:20260420T073410
CREATED:20190520T122509Z
LAST-MODIFIED:20190520T123413Z
UID:5844-1558483200-1558569599@www.williampatten.hackney.sch.uk
SUMMARY:RW visit to Aziziye Mosque
DESCRIPTION:
URL:https://www.williampatten.hackney.sch.uk/event/rw-visit-to-aziziye-mosque/
END:VEVENT
BEGIN:VEVENT
DTSTART;VALUE=DATE:20190522
DTEND;VALUE=DATE:20190523
DTSTAMP:20260420T073410
CREATED:20190118T115408Z
LAST-MODIFIED:20190118T115408Z
UID:5349-1558483200-1558569599@www.williampatten.hackney.sch.uk
SUMMARY:2T visiting the Garden Classroom
DESCRIPTION:
URL:https://www.williampatten.hackney.sch.uk/event/2t-visiting-the-garden-classroom/
END:VEVENT
BEGIN:VEVENT
DTSTART;VALUE=DATE:20190521
DTEND;VALUE=DATE:20190522
DTSTAMP:20260420T073410
CREATED:20190520T122345Z
LAST-MODIFIED:20190520T122345Z
UID:5840-1558396800-1558483199@www.williampatten.hackney.sch.uk
SUMMARY:Nursery visit to Aziziye Mosque
DESCRIPTION:
URL:https://www.williampatten.hackney.sch.uk/event/nursery-visit-to-aziziye-mosque/
END:VEVENT
BEGIN:VEVENT
DTSTART;VALUE=DATE:20190521
DTEND;VALUE=DATE:20190522
DTSTAMP:20260420T073410
CREATED:20190520T080634Z
LAST-MODIFIED:20190520T080634Z
UID:5831-1558396800-1558483199@www.williampatten.hackney.sch.uk
SUMMARY:Year 1 to the Garden Classroom
DESCRIPTION:
URL:https://www.williampatten.hackney.sch.uk/event/year-1-to-the-garden-classroom/
END:VEVENT
BEGIN:VEVENT
DTSTART;VALUE=DATE:20190520
DTEND;VALUE=DATE:20190521
DTSTAMP:20260420T073410
CREATED:20190520T122426Z
LAST-MODIFIED:20190520T122426Z
UID:5842-1558310400-1558396799@www.williampatten.hackney.sch.uk
SUMMARY:Mindfulness sessions for classes (all week)
DESCRIPTION:
URL:https://www.williampatten.hackney.sch.uk/event/mindfulness-sessions-for-classes-all-week/
END:VEVENT
BEGIN:VEVENT
DTSTART;VALUE=DATE:20190519
DTEND;VALUE=DATE:20190520
DTSTAMP:20260420T073410
CREATED:20190426T085321Z
LAST-MODIFIED:20190426T085321Z
UID:5697-1558224000-1558310399@www.williampatten.hackney.sch.uk
SUMMARY:Run Hackney
DESCRIPTION:
URL:https://www.williampatten.hackney.sch.uk/event/run-hackney/
END:VEVENT
BEGIN:VEVENT
DTSTART;VALUE=DATE:20190517
DTEND;VALUE=DATE:20190518
DTSTAMP:20260420T073410
CREATED:20180927T135332Z
LAST-MODIFIED:20180927T135332Z
UID:4815-1558051200-1558137599@www.williampatten.hackney.sch.uk
SUMMARY:International Evening 6.30 - 9.00pm
DESCRIPTION:
URL:https://www.williampatten.hackney.sch.uk/event/international-evening-6-30-9-00pm/
END:VEVENT
BEGIN:VEVENT
DTSTART;VALUE=DATE:20190516
DTEND;VALUE=DATE:20190517
DTSTAMP:20260420T073410
CREATED:20190118T115111Z
LAST-MODIFIED:20190118T115111Z
UID:5347-1557964800-1558051199@www.williampatten.hackney.sch.uk
SUMMARY:Science Family Challenge
DESCRIPTION:
URL:https://www.williampatten.hackney.sch.uk/event/science-family-challenge/
END:VEVENT
BEGIN:VEVENT
DTSTART;VALUE=DATE:20190513
DTEND;VALUE=DATE:20190514
DTSTAMP:20260420T073410
CREATED:20190118T115042Z
LAST-MODIFIED:20190118T115042Z
UID:5345-1557705600-1557791999@www.williampatten.hackney.sch.uk
SUMMARY:Science Week
DESCRIPTION:
URL:https://www.williampatten.hackney.sch.uk/event/science-week-4/
END:VEVENT
BEGIN:VEVENT
DTSTART;VALUE=DATE:20190513
DTEND;VALUE=DATE:20190514
DTSTAMP:20260420T073410
CREATED:20180927T135245Z
LAST-MODIFIED:20180927T135245Z
UID:4813-1557705600-1557791999@www.williampatten.hackney.sch.uk
SUMMARY:KS2 SATs Week
DESCRIPTION:
URL:https://www.williampatten.hackney.sch.uk/event/ks2-sats-week-4/
END:VEVENT
BEGIN:VEVENT
DTSTART;VALUE=DATE:20190509
DTEND;VALUE=DATE:20190510
DTSTAMP:20260420T073410
CREATED:20190426T085134Z
LAST-MODIFIED:20190426T085134Z
UID:5693-1557360000-1557446399@www.williampatten.hackney.sch.uk
SUMMARY:1N visiting Olive School
DESCRIPTION:
URL:https://www.williampatten.hackney.sch.uk/event/1n-visiting-olive-school/
END:VEVENT
BEGIN:VEVENT
DTSTART;VALUE=DATE:20190506
DTEND;VALUE=DATE:20190507
DTSTAMP:20260420T073410
CREATED:20181009T135154Z
LAST-MODIFIED:20181009T135154Z
UID:4918-1557100800-1557187199@www.williampatten.hackney.sch.uk
SUMMARY:Bank Holiday
DESCRIPTION:
URL:https://www.williampatten.hackney.sch.uk/event/bank-holiday-3/
END:VEVENT
BEGIN:VEVENT
DTSTART;VALUE=DATE:20190502
DTEND;VALUE=DATE:20190503
DTSTAMP:20260420T073410
CREATED:20190118T114928Z
LAST-MODIFIED:20190320T162405Z
UID:5343-1556755200-1556841599@www.williampatten.hackney.sch.uk
SUMMARY:KS1 Come Dine With Us
DESCRIPTION:
URL:https://www.williampatten.hackney.sch.uk/event/ks1-come-dine-with-us-4/
END:VEVENT
BEGIN:VEVENT
DTSTART;VALUE=DATE:20190430
DTEND;VALUE=DATE:20190501
DTSTAMP:20260420T073410
CREATED:20190426T085008Z
LAST-MODIFIED:20190426T085008Z
UID:5691-1556582400-1556668799@www.williampatten.hackney.sch.uk
SUMMARY:Deborah Reade Art Award Assembly
DESCRIPTION:
URL:https://www.williampatten.hackney.sch.uk/event/deborah-reade-art-award-assembly-5/
END:VEVENT
BEGIN:VEVENT
DTSTART;VALUE=DATE:20190424
DTEND;VALUE=DATE:20190425
DTSTAMP:20260420T073410
CREATED:20190327T112941Z
LAST-MODIFIED:20190327T112941Z
UID:5605-1556064000-1556150399@www.williampatten.hackney.sch.uk
SUMMARY:Year 4 Pop Up Cafe
DESCRIPTION:
URL:https://www.williampatten.hackney.sch.uk/event/year-4-pop-up-cafe/
END:VEVENT
BEGIN:VEVENT
DTSTART;VALUE=DATE:20190423
DTEND;VALUE=DATE:20190424
DTSTAMP:20260420T073410
CREATED:20190118T114814Z
LAST-MODIFIED:20190118T114814Z
UID:5341-1555977600-1556063999@www.williampatten.hackney.sch.uk
SUMMARY:Clubs restart
DESCRIPTION:
URL:https://www.williampatten.hackney.sch.uk/event/clubs-restart-2/
END:VEVENT
BEGIN:VEVENT
DTSTART;VALUE=DATE:20190423
DTEND;VALUE=DATE:20190424
DTSTAMP:20260420T073410
CREATED:20181009T134949Z
LAST-MODIFIED:20181009T134949Z
UID:4916-1555977600-1556063999@www.williampatten.hackney.sch.uk
SUMMARY:Children return to school
DESCRIPTION:
URL:https://www.williampatten.hackney.sch.uk/event/children-return-to-school-15/
END:VEVENT
BEGIN:VEVENT
DTSTART;VALUE=DATE:20190405
DTEND;VALUE=DATE:20190406
DTSTAMP:20260420T073410
CREATED:20190118T114442Z
LAST-MODIFIED:20190118T114442Z
UID:5339-1554422400-1554508799@www.williampatten.hackney.sch.uk
SUMMARY:Concert for choir at St Matthias Church
DESCRIPTION:
URL:https://www.williampatten.hackney.sch.uk/event/concert-for-choir-at-st-matthias-church/
END:VEVENT
BEGIN:VEVENT
DTSTART;VALUE=DATE:20190405
DTEND;VALUE=DATE:20190406
DTSTAMP:20260420T073410
CREATED:20181214T135101Z
LAST-MODIFIED:20181214T135101Z
UID:5250-1554422400-1554508799@www.williampatten.hackney.sch.uk
SUMMARY:Break up for Easter
DESCRIPTION:
URL:https://www.williampatten.hackney.sch.uk/event/break-up-for-easter-2/
END:VEVENT
BEGIN:VEVENT
DTSTART;VALUE=DATE:20190402
DTEND;VALUE=DATE:20190403
DTSTAMP:20260420T073410
CREATED:20190402T103058Z
LAST-MODIFIED:20190402T103058Z
UID:5683-1554163200-1554249599@www.williampatten.hackney.sch.uk
SUMMARY:Year 1 - Spitalfields City Farm
DESCRIPTION:
URL:https://www.williampatten.hackney.sch.uk/event/year-1-spitalfields-city-farm/
END:VEVENT
BEGIN:VEVENT
DTSTART;VALUE=DATE:20190402
DTEND;VALUE=DATE:20190403
DTSTAMP:20260420T073410
CREATED:20181214T135035Z
LAST-MODIFIED:20181214T135035Z
UID:5248-1554163200-1554249599@www.williampatten.hackney.sch.uk
SUMMARY:Deborah Reade Art Award Assembly 11.30am
DESCRIPTION:
URL:https://www.williampatten.hackney.sch.uk/event/deborah-reade-art-award-assembly-11-30am-2/
END:VEVENT
BEGIN:VEVENT
DTSTART;VALUE=DATE:20190401
DTEND;VALUE=DATE:20190402
DTSTAMP:20260420T073410
CREATED:20190312T181132Z
LAST-MODIFIED:20190312T181132Z
UID:5530-1554076800-1554163199@www.williampatten.hackney.sch.uk
SUMMARY:Autism Awareness Week
DESCRIPTION:
URL:https://www.williampatten.hackney.sch.uk/event/autism-awareness-week/
END:VEVENT
BEGIN:VEVENT
DTSTART;VALUE=DATE:20190401
DTEND;VALUE=DATE:20190402
DTSTAMP:20260420T073410
CREATED:20190118T114027Z
LAST-MODIFIED:20190118T114027Z
UID:5336-1554076800-1554163199@www.williampatten.hackney.sch.uk
SUMMARY:Last week of clubs
DESCRIPTION:
URL:https://www.williampatten.hackney.sch.uk/event/last-week-of-clubs-2/
END:VEVENT
BEGIN:VEVENT
DTSTART;VALUE=DATE:20190401
DTEND;VALUE=DATE:20190402
DTSTAMP:20260420T073410
CREATED:20181218T134123Z
LAST-MODIFIED:20181218T134123Z
UID:5274-1554076800-1554163199@www.williampatten.hackney.sch.uk
SUMMARY:Visit from our Spanish partner school
DESCRIPTION:
URL:https://www.williampatten.hackney.sch.uk/event/visit-from-our-spanish-partner-school/
END:VEVENT
BEGIN:VEVENT
DTSTART;VALUE=DATE:20190328
DTEND;VALUE=DATE:20190329
DTSTAMP:20260420T073410
CREATED:20190312T181040Z
LAST-MODIFIED:20190312T181040Z
UID:5528-1553731200-1553817599@www.williampatten.hackney.sch.uk
SUMMARY:Dogs Trust visiting Reception and Year 5
DESCRIPTION:
URL:https://www.williampatten.hackney.sch.uk/event/dogs-trust-visiting-reception-and-year-5/
END:VEVENT
BEGIN:VEVENT
DTSTART;VALUE=DATE:20190328
DTEND;VALUE=DATE:20190329
DTSTAMP:20260420T073410
CREATED:20181214T134940Z
LAST-MODIFIED:20181214T134940Z
UID:5246-1553731200-1553817599@www.williampatten.hackney.sch.uk
SUMMARY:4M - Uke Fest
DESCRIPTION:
URL:https://www.williampatten.hackney.sch.uk/event/4m-uke-fest/
END:VEVENT
BEGIN:VEVENT
DTSTART;VALUE=DATE:20190327
DTEND;VALUE=DATE:20190328
DTSTAMP:20260420T073410
CREATED:20181214T134840Z
LAST-MODIFIED:20181214T134840Z
UID:5244-1553644800-1553731199@www.williampatten.hackney.sch.uk
SUMMARY:Gymnastics performance (Reception at 2.45pm / Year 4 at 3pm)
DESCRIPTION:
URL:https://www.williampatten.hackney.sch.uk/event/gymnastics-performance-reception-at-2-45pm-year-4-at-3pm/
END:VEVENT
BEGIN:VEVENT
DTSTART;VALUE=DATE:20190326
DTEND;VALUE=DATE:20190327
DTSTAMP:20260420T073410
CREATED:20190312T181000Z
LAST-MODIFIED:20190312T181000Z
UID:5526-1553558400-1553644799@www.williampatten.hackney.sch.uk
SUMMARY:Reception visiting Spitalfields City Farm
DESCRIPTION:
URL:https://www.williampatten.hackney.sch.uk/event/reception-visiting-spitalfields-city-farm/
END:VEVENT
BEGIN:VEVENT
DTSTART;VALUE=DATE:20190326
DTEND;VALUE=DATE:20190327
DTSTAMP:20260420T073410
CREATED:20181214T134059Z
LAST-MODIFIED:20181214T134420Z
UID:5242-1553558400-1553644799@www.williampatten.hackney.sch.uk
SUMMARY:Deborah Reade Art Award judging 3.45pm
DESCRIPTION:
URL:https://www.williampatten.hackney.sch.uk/event/deborah-reade-art-award-judging-3-45pm-4/
END:VEVENT
END:VCALENDAR