BEGIN:VCALENDAR
VERSION:2.0
PRODID:-//William Patten Primary School - ECPv6.15.20//NONSGML v1.0//EN
CALSCALE:GREGORIAN
METHOD:PUBLISH
X-WR-CALNAME:William Patten Primary School
X-ORIGINAL-URL:https://www.williampatten.hackney.sch.uk
X-WR-CALDESC:Events for William Patten Primary School
REFRESH-INTERVAL;VALUE=DURATION:PT1H
X-Robots-Tag:noindex
X-PUBLISHED-TTL:PT1H
BEGIN:VTIMEZONE
TZID:Europe/London
BEGIN:DAYLIGHT
TZOFFSETFROM:+0000
TZOFFSETTO:+0100
TZNAME:BST
DTSTART:20180325T010000
END:DAYLIGHT
BEGIN:STANDARD
TZOFFSETFROM:+0100
TZOFFSETTO:+0000
TZNAME:GMT
DTSTART:20181028T010000
END:STANDARD
BEGIN:DAYLIGHT
TZOFFSETFROM:+0000
TZOFFSETTO:+0100
TZNAME:BST
DTSTART:20190331T010000
END:DAYLIGHT
BEGIN:STANDARD
TZOFFSETFROM:+0100
TZOFFSETTO:+0000
TZNAME:GMT
DTSTART:20191027T010000
END:STANDARD
BEGIN:DAYLIGHT
TZOFFSETFROM:+0000
TZOFFSETTO:+0100
TZNAME:BST
DTSTART:20200329T010000
END:DAYLIGHT
BEGIN:STANDARD
TZOFFSETFROM:+0100
TZOFFSETTO:+0000
TZNAME:GMT
DTSTART:20201025T010000
END:STANDARD
END:VTIMEZONE
BEGIN:VEVENT
DTSTART;VALUE=DATE:20190315
DTEND;VALUE=DATE:20190316
DTSTAMP:20260420T145602
CREATED:20181214T132021Z
LAST-MODIFIED:20181214T132021Z
UID:5232-1552608000-1552694399@www.williampatten.hackney.sch.uk
SUMMARY:Red Nose Day
DESCRIPTION:
URL:https://www.williampatten.hackney.sch.uk/event/red-nose-day-2/
END:VEVENT
BEGIN:VEVENT
DTSTART;TZID=Europe/London:20190314T170000
DTEND;TZID=Europe/London:20190314T193000
DTSTAMP:20260420T145602
CREATED:20181214T131530Z
LAST-MODIFIED:20181218T131901Z
UID:5230-1552582800-1552591800@www.williampatten.hackney.sch.uk
SUMMARY:Parents Evening
DESCRIPTION:
URL:https://www.williampatten.hackney.sch.uk/event/parents-evening-5/
END:VEVENT
BEGIN:VEVENT
DTSTART;VALUE=DATE:20190313
DTEND;VALUE=DATE:20190314
DTSTAMP:20260420T145602
CREATED:20190207T175949Z
LAST-MODIFIED:20190207T180130Z
UID:5455-1552435200-1552521599@www.williampatten.hackney.sch.uk
SUMMARY:School Council visiting Frank Barnes School
DESCRIPTION:
URL:https://www.williampatten.hackney.sch.uk/event/school-council-visiting-frank-barnes-school/
END:VEVENT
BEGIN:VEVENT
DTSTART;VALUE=DATE:20190312
DTEND;VALUE=DATE:20190313
DTSTAMP:20260420T145602
CREATED:20190207T175846Z
LAST-MODIFIED:20190207T175846Z
UID:5453-1552348800-1552435199@www.williampatten.hackney.sch.uk
SUMMARY:Year 5 visiting London Metropolitan Archive
DESCRIPTION:
URL:https://www.williampatten.hackney.sch.uk/event/year-5-visiting-london-metropolitan-archive-2/
END:VEVENT
BEGIN:VEVENT
DTSTART;VALUE=DATE:20190308
DTEND;VALUE=DATE:20190309
DTSTAMP:20260420T145602
CREATED:20190227T111546Z
LAST-MODIFIED:20190227T111546Z
UID:5505-1552003200-1552089599@www.williampatten.hackney.sch.uk
SUMMARY:Modern slavery workshops for Years 5 & 6
DESCRIPTION:
URL:https://www.williampatten.hackney.sch.uk/event/modern-slavery-workshops-for-years-5-6/
END:VEVENT
BEGIN:VEVENT
DTSTART;VALUE=DATE:20190307
DTEND;VALUE=DATE:20190308
DTSTAMP:20260420T145602
CREATED:20181214T131029Z
LAST-MODIFIED:20181214T131029Z
UID:5222-1551916800-1552003199@www.williampatten.hackney.sch.uk
SUMMARY:PTFA Quiz Night
DESCRIPTION:
URL:https://www.williampatten.hackney.sch.uk/event/ptfa-quiz-night-3/
END:VEVENT
BEGIN:VEVENT
DTSTART;VALUE=DATE:20190307
DTEND;VALUE=DATE:20190308
DTSTAMP:20260420T145602
CREATED:20181009T142807Z
LAST-MODIFIED:20181009T142807Z
UID:4920-1551916800-1552003199@www.williampatten.hackney.sch.uk
SUMMARY:World Book Day
DESCRIPTION:
URL:https://www.williampatten.hackney.sch.uk/event/world-book-day-4/
END:VEVENT
BEGIN:VEVENT
DTSTART;VALUE=DATE:20190306
DTEND;VALUE=DATE:20190313
DTSTAMP:20260420T145602
CREATED:20181214T131210Z
LAST-MODIFIED:20190301T164118Z
UID:5226-1551830400-1552435199@www.williampatten.hackney.sch.uk
SUMMARY:Travelling Book Fair (one week)
DESCRIPTION:
URL:https://www.williampatten.hackney.sch.uk/event/travelling-book-fair-one-week/
END:VEVENT
BEGIN:VEVENT
DTSTART;VALUE=DATE:20190306
DTEND;VALUE=DATE:20190307
DTSTAMP:20260420T145602
CREATED:20181214T130934Z
LAST-MODIFIED:20181214T130934Z
UID:5218-1551830400-1551916799@www.williampatten.hackney.sch.uk
SUMMARY:2L visiting Florence Nightingale Museum
DESCRIPTION:
URL:https://www.williampatten.hackney.sch.uk/event/2l-visiting-florence-nightingale-museum/
END:VEVENT
BEGIN:VEVENT
DTSTART;VALUE=DATE:20190305
DTEND;VALUE=DATE:20190306
DTSTAMP:20260420T145602
CREATED:20181214T130900Z
LAST-MODIFIED:20181214T130900Z
UID:5216-1551744000-1551830399@www.williampatten.hackney.sch.uk
SUMMARY:2T visiting Florence Nightingale Museum
DESCRIPTION:
URL:https://www.williampatten.hackney.sch.uk/event/2t-visiting-florence-nightingale-museum/
END:VEVENT
BEGIN:VEVENT
DTSTART;VALUE=DATE:20190228
DTEND;VALUE=DATE:20190301
DTSTAMP:20260420T145602
CREATED:20190205T110317Z
LAST-MODIFIED:20190205T110317Z
UID:5440-1551312000-1551398399@www.williampatten.hackney.sch.uk
SUMMARY:PTFA Annual General Meeting 3.45pm
DESCRIPTION:
URL:https://www.williampatten.hackney.sch.uk/event/ptfa-annual-general-meeting-3-45pm/
END:VEVENT
BEGIN:VEVENT
DTSTART;VALUE=DATE:20190228
DTEND;VALUE=DATE:20190301
DTSTAMP:20260420T145602
CREATED:20181214T130815Z
LAST-MODIFIED:20190118T113238Z
UID:5214-1551312000-1551398399@www.williampatten.hackney.sch.uk
SUMMARY:EYFS Come Dine With Us
DESCRIPTION:
URL:https://www.williampatten.hackney.sch.uk/event/ks2-come-dine-with-us-3/
END:VEVENT
BEGIN:VEVENT
DTSTART;VALUE=DATE:20190227
DTEND;VALUE=DATE:20190228
DTSTAMP:20260420T145602
CREATED:20190118T113044Z
LAST-MODIFIED:20190118T113044Z
UID:5329-1551225600-1551311999@www.williampatten.hackney.sch.uk
SUMMARY:RWI Development Day
DESCRIPTION:
URL:https://www.williampatten.hackney.sch.uk/event/rwi-development-day/
END:VEVENT
BEGIN:VEVENT
DTSTART;VALUE=DATE:20190226
DTEND;VALUE=DATE:20190227
DTSTAMP:20260420T145602
CREATED:20181214T130532Z
LAST-MODIFIED:20181214T130532Z
UID:5212-1551139200-1551225599@www.williampatten.hackney.sch.uk
SUMMARY:Year 5 trip to the Science Museum
DESCRIPTION:
URL:https://www.williampatten.hackney.sch.uk/event/year-5-trip-to-the-science-museum/
END:VEVENT
BEGIN:VEVENT
DTSTART;VALUE=DATE:20190215
DTEND;VALUE=DATE:20190216
DTSTAMP:20260420T145602
CREATED:20181218T131516Z
LAST-MODIFIED:20181218T131516Z
UID:5268-1550188800-1550275199@www.williampatten.hackney.sch.uk
SUMMARY:Break up for half term
DESCRIPTION:
URL:https://www.williampatten.hackney.sch.uk/event/break-up-for-half-term-10/
END:VEVENT
BEGIN:VEVENT
DTSTART;VALUE=DATE:20190214
DTEND;VALUE=DATE:20190215
DTSTAMP:20260420T145602
CREATED:20190205T110344Z
LAST-MODIFIED:20190205T110344Z
UID:5442-1550102400-1550188799@www.williampatten.hackney.sch.uk
SUMMARY:Year 1 workshop - Zoolab
DESCRIPTION:
URL:https://www.williampatten.hackney.sch.uk/event/year-1-workshop-zoolab/
END:VEVENT
BEGIN:VEVENT
DTSTART;VALUE=DATE:20190213
DTEND;VALUE=DATE:20190214
DTSTAMP:20260420T145602
CREATED:20190118T112905Z
LAST-MODIFIED:20190118T112905Z
UID:5327-1550016000-1550102399@www.williampatten.hackney.sch.uk
SUMMARY:Chinese New Year dance workshops (whole school)
DESCRIPTION:
URL:https://www.williampatten.hackney.sch.uk/event/chinese-new-year-dance-workshops-whole-school/
END:VEVENT
BEGIN:VEVENT
DTSTART;VALUE=DATE:20190212
DTEND;VALUE=DATE:20190213
DTSTAMP:20260420T145602
CREATED:20190207T174835Z
LAST-MODIFIED:20190207T174835Z
UID:5451-1549929600-1550015999@www.williampatten.hackney.sch.uk
SUMMARY:5M visiting the Tomlinson Centre
DESCRIPTION:
URL:https://www.williampatten.hackney.sch.uk/event/5m-visiting-the-tomlinson-centre/
END:VEVENT
BEGIN:VEVENT
DTSTART;TZID=Europe/London:20190211T140000
DTEND;TZID=Europe/London:20190211T150000
DTSTAMP:20260420T145602
CREATED:20181214T130317Z
LAST-MODIFIED:20181214T130317Z
UID:5208-1549893600-1549897200@www.williampatten.hackney.sch.uk
SUMMARY:Music concert (violins\, steel pans)
DESCRIPTION:
URL:https://www.williampatten.hackney.sch.uk/event/music-concert-violins-steel-pans/
END:VEVENT
BEGIN:VEVENT
DTSTART;VALUE=DATE:20190211
DTEND;VALUE=DATE:20190212
DTSTAMP:20260420T145602
CREATED:20181214T130343Z
LAST-MODIFIED:20181214T130453Z
UID:5210-1549843200-1549929599@www.williampatten.hackney.sch.uk
SUMMARY:Year 5 visiting Parasol
DESCRIPTION:
URL:https://www.williampatten.hackney.sch.uk/event/year-5-visiting-parasol-2/
END:VEVENT
BEGIN:VEVENT
DTSTART;TZID=Europe/London:20190208T140000
DTEND;TZID=Europe/London:20190208T150000
DTSTAMP:20260420T145602
CREATED:20181214T130146Z
LAST-MODIFIED:20181214T130146Z
UID:5206-1549634400-1549638000@www.williampatten.hackney.sch.uk
SUMMARY:Music concert (brass\, keyboards\, wind instruments)
DESCRIPTION:
URL:https://www.williampatten.hackney.sch.uk/event/music-concert-brass-keyboards-wind-instruments/
END:VEVENT
BEGIN:VEVENT
DTSTART;VALUE=DATE:20190206
DTEND;VALUE=DATE:20190207
DTSTAMP:20260420T145602
CREATED:20190118T112748Z
LAST-MODIFIED:20190118T112748Z
UID:5325-1549411200-1549497599@www.williampatten.hackney.sch.uk
SUMMARY:Year 6 - Junior Citizenship Scheme
DESCRIPTION:
URL:https://www.williampatten.hackney.sch.uk/event/year-6-junior-citizenship-scheme/
END:VEVENT
BEGIN:VEVENT
DTSTART;VALUE=DATE:20190206
DTEND;VALUE=DATE:20190207
DTSTAMP:20260420T145602
CREATED:20181218T131213Z
LAST-MODIFIED:20181218T131213Z
UID:5266-1549411200-1549497599@www.williampatten.hackney.sch.uk
SUMMARY:Chinese New Year lunch
DESCRIPTION:
URL:https://www.williampatten.hackney.sch.uk/event/chinese-new-year-lunch/
END:VEVENT
BEGIN:VEVENT
DTSTART;VALUE=DATE:20190205
DTEND;VALUE=DATE:20190206
DTSTAMP:20260420T145602
CREATED:20181214T125952Z
LAST-MODIFIED:20181214T125952Z
UID:5204-1549324800-1549411199@www.williampatten.hackney.sch.uk
SUMMARY:Chinese New Year assembly
DESCRIPTION:
URL:https://www.williampatten.hackney.sch.uk/event/chinese-new-year-assembly/
END:VEVENT
BEGIN:VEVENT
DTSTART;TZID=Europe/London:20190204T092000
DTEND;TZID=Europe/London:20190204T100000
DTSTAMP:20260420T145602
CREATED:20181214T125613Z
LAST-MODIFIED:20181214T125613Z
UID:5202-1549272000-1549274400@www.williampatten.hackney.sch.uk
SUMMARY:RWI meeting for Reception parents 9.20am
DESCRIPTION:
URL:https://www.williampatten.hackney.sch.uk/event/rwi-meeting-for-reception-parents-9-20am/
END:VEVENT
BEGIN:VEVENT
DTSTART;VALUE=DATE:20190204
DTEND;VALUE=DATE:20190205
DTSTAMP:20260420T145602
CREATED:20181214T125532Z
LAST-MODIFIED:20181214T125532Z
UID:5200-1549238400-1549324799@www.williampatten.hackney.sch.uk
SUMMARY:Children's Mental Health Week
DESCRIPTION:
URL:https://www.williampatten.hackney.sch.uk/event/childrens-mental-health-week/
END:VEVENT
BEGIN:VEVENT
DTSTART;VALUE=DATE:20190204
DTEND;VALUE=DATE:20190205
DTSTAMP:20260420T145602
CREATED:20181214T125453Z
LAST-MODIFIED:20181214T125453Z
UID:5198-1549238400-1549324799@www.williampatten.hackney.sch.uk
SUMMARY:Year 5 visiting Parasol
DESCRIPTION:
URL:https://www.williampatten.hackney.sch.uk/event/year-5-visiting-parasol/
END:VEVENT
BEGIN:VEVENT
DTSTART;VALUE=DATE:20190131
DTEND;VALUE=DATE:20190201
DTSTAMP:20260420T145602
CREATED:20181214T125405Z
LAST-MODIFIED:20181214T125405Z
UID:5196-1548892800-1548979199@www.williampatten.hackney.sch.uk
SUMMARY:Talking Mental Health film/workshop (5M)
DESCRIPTION:
URL:https://www.williampatten.hackney.sch.uk/event/talking-mental-health-film-workshop-5m/
END:VEVENT
BEGIN:VEVENT
DTSTART;VALUE=DATE:20190130
DTEND;VALUE=DATE:20190131
DTSTAMP:20260420T145602
CREATED:20190118T111820Z
LAST-MODIFIED:20190118T112441Z
UID:5321-1548806400-1548892799@www.williampatten.hackney.sch.uk
SUMMARY:Power Maths lesson for Year 3 parents - 6.05pm
DESCRIPTION:
URL:https://www.williampatten.hackney.sch.uk/event/year-3-power-maths-lesson-for-parents-6-05pm/
END:VEVENT
BEGIN:VEVENT
DTSTART;VALUE=DATE:20190130
DTEND;VALUE=DATE:20190131
DTSTAMP:20260420T145602
CREATED:20181214T125342Z
LAST-MODIFIED:20181214T125342Z
UID:5194-1548806400-1548892799@www.williampatten.hackney.sch.uk
SUMMARY:Talking Mental Health film/workshop (5HE)
DESCRIPTION:
URL:https://www.williampatten.hackney.sch.uk/event/talking-mental-health-film-workshop-5he/
END:VEVENT
END:VCALENDAR