BEGIN:VCALENDAR
VERSION:2.0
PRODID:-//William Patten Primary School - ECPv6.15.20//NONSGML v1.0//EN
CALSCALE:GREGORIAN
METHOD:PUBLISH
X-WR-CALNAME:William Patten Primary School
X-ORIGINAL-URL:https://www.williampatten.hackney.sch.uk
X-WR-CALDESC:Events for William Patten Primary School
REFRESH-INTERVAL;VALUE=DURATION:PT1H
X-Robots-Tag:noindex
X-PUBLISHED-TTL:PT1H
BEGIN:VTIMEZONE
TZID:Europe/London
BEGIN:DAYLIGHT
TZOFFSETFROM:+0000
TZOFFSETTO:+0100
TZNAME:BST
DTSTART:20170326T010000
END:DAYLIGHT
BEGIN:STANDARD
TZOFFSETFROM:+0100
TZOFFSETTO:+0000
TZNAME:GMT
DTSTART:20171029T010000
END:STANDARD
BEGIN:DAYLIGHT
TZOFFSETFROM:+0000
TZOFFSETTO:+0100
TZNAME:BST
DTSTART:20180325T010000
END:DAYLIGHT
BEGIN:STANDARD
TZOFFSETFROM:+0100
TZOFFSETTO:+0000
TZNAME:GMT
DTSTART:20181028T010000
END:STANDARD
BEGIN:DAYLIGHT
TZOFFSETFROM:+0000
TZOFFSETTO:+0100
TZNAME:BST
DTSTART:20190331T010000
END:DAYLIGHT
BEGIN:STANDARD
TZOFFSETFROM:+0100
TZOFFSETTO:+0000
TZNAME:GMT
DTSTART:20191027T010000
END:STANDARD
BEGIN:DAYLIGHT
TZOFFSETFROM:+0000
TZOFFSETTO:+0100
TZNAME:BST
DTSTART:20200329T010000
END:DAYLIGHT
BEGIN:STANDARD
TZOFFSETFROM:+0100
TZOFFSETTO:+0000
TZNAME:GMT
DTSTART:20201025T010000
END:STANDARD
END:VTIMEZONE
BEGIN:VEVENT
DTSTART;VALUE=DATE:20190110
DTEND;VALUE=DATE:20190111
DTSTAMP:20260420T224238
CREATED:20181214T112549Z
LAST-MODIFIED:20181214T112549Z
UID:5179-1547078400-1547164799@www.williampatten.hackney.sch.uk
SUMMARY:October Gallery workshops for Year 3 & 4
DESCRIPTION:
URL:https://www.williampatten.hackney.sch.uk/event/october-gallery-workshops-for-year-3-4/
END:VEVENT
BEGIN:VEVENT
DTSTART;VALUE=DATE:20190109
DTEND;VALUE=DATE:20190110
DTSTAMP:20260420T224238
CREATED:20180927T133847Z
LAST-MODIFIED:20180927T133847Z
UID:4786-1546992000-1547078399@www.williampatten.hackney.sch.uk
SUMMARY:School photographer in - individual/family photos
DESCRIPTION:
URL:https://www.williampatten.hackney.sch.uk/event/school-photographer-in-individual-family-photos/
END:VEVENT
BEGIN:VEVENT
DTSTART;VALUE=DATE:20190108
DTEND;VALUE=DATE:20190109
DTSTAMP:20260420T224238
CREATED:20181214T112448Z
LAST-MODIFIED:20181214T112448Z
UID:5177-1546905600-1546991999@www.williampatten.hackney.sch.uk
SUMMARY:Tooth Friendly Nurseries workshop
DESCRIPTION:
URL:https://www.williampatten.hackney.sch.uk/event/tooth-friendly-nurseries-workshop/
END:VEVENT
BEGIN:VEVENT
DTSTART;VALUE=DATE:20190107
DTEND;VALUE=DATE:20190108
DTSTAMP:20260420T224238
CREATED:20181218T095816Z
LAST-MODIFIED:20181218T114404Z
UID:5262-1546819200-1546905599@www.williampatten.hackney.sch.uk
SUMMARY:Clubs resume
DESCRIPTION:
URL:https://www.williampatten.hackney.sch.uk/event/clubs-restart/
END:VEVENT
BEGIN:VEVENT
DTSTART;VALUE=DATE:20190107
DTEND;VALUE=DATE:20190108
DTSTAMP:20260420T224238
CREATED:20180830T132450Z
LAST-MODIFIED:20181218T095752Z
UID:4516-1546819200-1546905599@www.williampatten.hackney.sch.uk
SUMMARY:Children return to school
DESCRIPTION:
URL:https://www.williampatten.hackney.sch.uk/event/children-return-to-school-14/
END:VEVENT
BEGIN:VEVENT
DTSTART;VALUE=DATE:20181221
DTEND;VALUE=DATE:20181222
DTSTAMP:20260420T224238
CREATED:20180829T130817Z
LAST-MODIFIED:20180927T141220Z
UID:4479-1545350400-1545436799@www.williampatten.hackney.sch.uk
SUMMARY:Break up for Christmas - 1.30pm finish
DESCRIPTION:
URL:https://www.williampatten.hackney.sch.uk/event/break-up-for-christmas/
END:VEVENT
BEGIN:VEVENT
DTSTART;VALUE=DATE:20181220
DTEND;VALUE=DATE:20181221
DTSTAMP:20260420T224238
CREATED:20180829T130749Z
LAST-MODIFIED:20180829T130749Z
UID:4477-1545264000-1545350399@www.williampatten.hackney.sch.uk
SUMMARY:Christmas parties
DESCRIPTION:
URL:https://www.williampatten.hackney.sch.uk/event/christmas-parties-3/
END:VEVENT
BEGIN:VEVENT
DTSTART;VALUE=DATE:20181214
DTEND;VALUE=DATE:20181215
DTSTAMP:20260420T224238
CREATED:20181214T113142Z
LAST-MODIFIED:20181214T113142Z
UID:5183-1544745600-1544831999@www.williampatten.hackney.sch.uk
SUMMARY:Reception: Discover-Story World 11am
DESCRIPTION:
URL:https://www.williampatten.hackney.sch.uk/event/reception-discover-story-world-11am/
END:VEVENT
BEGIN:VEVENT
DTSTART;VALUE=DATE:20181214
DTEND;VALUE=DATE:20181215
DTSTAMP:20260420T224238
CREATED:20180829T130633Z
LAST-MODIFIED:20180829T130633Z
UID:4473-1544745600-1544831999@www.williampatten.hackney.sch.uk
SUMMARY:Year 5 & 6 Show 2.30pm
DESCRIPTION:
URL:https://www.williampatten.hackney.sch.uk/event/year-5-6-show-2-30pm/
END:VEVENT
BEGIN:VEVENT
DTSTART;VALUE=DATE:20181212
DTEND;VALUE=DATE:20181213
DTSTAMP:20260420T224238
CREATED:20180829T130533Z
LAST-MODIFIED:20181114T161514Z
UID:4469-1544572800-1544659199@www.williampatten.hackney.sch.uk
SUMMARY:Christmas lunch
DESCRIPTION:
URL:https://www.williampatten.hackney.sch.uk/event/christmas-dinner-3/
END:VEVENT
BEGIN:VEVENT
DTSTART;VALUE=DATE:20181212
DTEND;VALUE=DATE:20181213
DTSTAMP:20260420T224238
CREATED:20180829T130446Z
LAST-MODIFIED:20180829T130446Z
UID:4467-1544572800-1544659199@www.williampatten.hackney.sch.uk
SUMMARY:Year 3 & 4 Show 2.30pm
DESCRIPTION:
URL:https://www.williampatten.hackney.sch.uk/event/year-3-4-show-2-30pm/
END:VEVENT
BEGIN:VEVENT
DTSTART;VALUE=DATE:20181211
DTEND;VALUE=DATE:20181212
DTSTAMP:20260420T224238
CREATED:20180829T130404Z
LAST-MODIFIED:20180829T130404Z
UID:4465-1544486400-1544572799@www.williampatten.hackney.sch.uk
SUMMARY:Year 1 & 2 Show 2.30pm
DESCRIPTION:
URL:https://www.williampatten.hackney.sch.uk/event/year-1-2-show-2-30pm/
END:VEVENT
BEGIN:VEVENT
DTSTART;VALUE=DATE:20181210
DTEND;VALUE=DATE:20181211
DTSTAMP:20260420T224238
CREATED:20180829T130328Z
LAST-MODIFIED:20180829T130328Z
UID:4463-1544400000-1544486399@www.williampatten.hackney.sch.uk
SUMMARY:EYFS Show 11.00am & 2.30pm
DESCRIPTION:
URL:https://www.williampatten.hackney.sch.uk/event/eyfs-show-11-00am-2-30pm/
END:VEVENT
BEGIN:VEVENT
DTSTART;VALUE=DATE:20181210
DTEND;VALUE=DATE:20181211
DTSTAMP:20260420T224238
CREATED:20180829T130234Z
LAST-MODIFIED:20180829T130234Z
UID:4461-1544400000-1544486399@www.williampatten.hackney.sch.uk
SUMMARY:Last week for clubs
DESCRIPTION:
URL:https://www.williampatten.hackney.sch.uk/event/last-week-for-clubs/
END:VEVENT
BEGIN:VEVENT
DTSTART;VALUE=DATE:20181206
DTEND;VALUE=DATE:20181207
DTSTAMP:20260420T224238
CREATED:20180829T130136Z
LAST-MODIFIED:20180829T130136Z
UID:4459-1544054400-1544140799@www.williampatten.hackney.sch.uk
SUMMARY:Year 5 to the British Museum
DESCRIPTION:
URL:https://www.williampatten.hackney.sch.uk/event/year-5-to-the-british-museum/
END:VEVENT
BEGIN:VEVENT
DTSTART;VALUE=DATE:20181205
DTEND;VALUE=DATE:20181206
DTSTAMP:20260420T224238
CREATED:20181108T094258Z
LAST-MODIFIED:20181108T094258Z
UID:4980-1543968000-1544054399@www.williampatten.hackney.sch.uk
SUMMARY:Gymnastics performance for parents (Y2 - 2.45pm and Y4 - 3.00pm)
DESCRIPTION:
URL:https://www.williampatten.hackney.sch.uk/event/gymnastics-performance-for-parents-y2-2-45pm-and-y4-3-00pm/
END:VEVENT
BEGIN:VEVENT
DTSTART;VALUE=DATE:20181204
DTEND;VALUE=DATE:20181205
DTSTAMP:20260420T224238
CREATED:20180829T125956Z
LAST-MODIFIED:20180829T125956Z
UID:4457-1543881600-1543967999@www.williampatten.hackney.sch.uk
SUMMARY:Deborah Reade Art Award judging 3.45pm
DESCRIPTION:
URL:https://www.williampatten.hackney.sch.uk/event/deborah-reade-art-award-judging-3-45pm-2/
END:VEVENT
BEGIN:VEVENT
DTSTART;TZID=Europe/London:20181203T140000
DTEND;TZID=Europe/London:20181203T150000
DTSTAMP:20260420T224238
CREATED:20181009T124936Z
LAST-MODIFIED:20181009T125855Z
UID:4910-1543845600-1543849200@www.williampatten.hackney.sch.uk
SUMMARY:Year 6 UCL project
DESCRIPTION:
URL:https://www.williampatten.hackney.sch.uk/event/year-6-ucl-project-2/
END:VEVENT
BEGIN:VEVENT
DTSTART;VALUE=DATE:20181202
DTEND;VALUE=DATE:20181203
DTSTAMP:20260420T224238
CREATED:20181009T124839Z
LAST-MODIFIED:20181009T124839Z
UID:4908-1543708800-1543795199@www.williampatten.hackney.sch.uk
SUMMARY:Winter Fair
DESCRIPTION:
URL:https://www.williampatten.hackney.sch.uk/event/winter-fair-3/
END:VEVENT
BEGIN:VEVENT
DTSTART;VALUE=DATE:20181129
DTEND;VALUE=DATE:20181130
DTSTAMP:20260420T224238
CREATED:20181009T124725Z
LAST-MODIFIED:20181009T124725Z
UID:4904-1543449600-1543535999@www.williampatten.hackney.sch.uk
SUMMARY:Online safety workshops for Years 3-6
DESCRIPTION:
URL:https://www.williampatten.hackney.sch.uk/event/online-safety-workshops-for-years-3-6/
END:VEVENT
BEGIN:VEVENT
DTSTART;VALUE=DATE:20181127
DTEND;VALUE=DATE:20181128
DTSTAMP:20260420T224238
CREATED:20181127T125314Z
LAST-MODIFIED:20181127T125314Z
UID:5128-1543276800-1543363199@www.williampatten.hackney.sch.uk
SUMMARY:EYFS Space Dressing up Day
DESCRIPTION:
URL:https://www.williampatten.hackney.sch.uk/event/eyfs-space-dressing-up-day/
END:VEVENT
BEGIN:VEVENT
DTSTART;VALUE=DATE:20181126
DTEND;VALUE=DATE:20181127
DTSTAMP:20260420T224238
CREATED:20181009T124637Z
LAST-MODIFIED:20181009T124637Z
UID:4902-1543190400-1543276799@www.williampatten.hackney.sch.uk
SUMMARY:Winter Warmers Appeal starts
DESCRIPTION:
URL:https://www.williampatten.hackney.sch.uk/event/winter-warmers-appeal-starts-3/
END:VEVENT
BEGIN:VEVENT
DTSTART;VALUE=DATE:20181121
DTEND;VALUE=DATE:20181122
DTSTAMP:20260420T224238
CREATED:20181010T141614Z
LAST-MODIFIED:20181010T141644Z
UID:4930-1542758400-1542844799@www.williampatten.hackney.sch.uk
SUMMARY:Power Maths meeting for parents 6.15pm
DESCRIPTION:
URL:https://www.williampatten.hackney.sch.uk/event/power-maths-meeting-for-parents-6-15pm-2/
END:VEVENT
BEGIN:VEVENT
DTSTART;VALUE=DATE:20181119
DTEND;VALUE=DATE:20181120
DTSTAMP:20260420T224238
CREATED:20180829T125803Z
LAST-MODIFIED:20180829T125803Z
UID:4453-1542585600-1542671999@www.williampatten.hackney.sch.uk
SUMMARY:Road Safety Week
DESCRIPTION:
URL:https://www.williampatten.hackney.sch.uk/event/road-safety-week-2/
END:VEVENT
BEGIN:VEVENT
DTSTART;VALUE=DATE:20181116
DTEND;VALUE=DATE:20181117
DTSTAMP:20260420T224238
CREATED:20180829T125309Z
LAST-MODIFIED:20180829T125309Z
UID:4449-1542326400-1542412799@www.williampatten.hackney.sch.uk
SUMMARY:Year 6 to Hackney Museum
DESCRIPTION:
URL:https://www.williampatten.hackney.sch.uk/event/year-6-to-hackney-museum/
END:VEVENT
BEGIN:VEVENT
DTSTART;VALUE=DATE:20181115
DTEND;VALUE=DATE:20181116
DTSTAMP:20260420T224238
CREATED:20180829T125228Z
LAST-MODIFIED:20180829T125228Z
UID:4447-1542240000-1542326399@www.williampatten.hackney.sch.uk
SUMMARY:Year 5 to Hackney Museum
DESCRIPTION:
URL:https://www.williampatten.hackney.sch.uk/event/year-5-to-hackney-museum/
END:VEVENT
BEGIN:VEVENT
DTSTART;VALUE=DATE:20181115
DTEND;VALUE=DATE:20181116
DTSTAMP:20260420T224238
CREATED:20180829T124943Z
LAST-MODIFIED:20180829T124943Z
UID:4445-1542240000-1542326399@www.williampatten.hackney.sch.uk
SUMMARY:Parents Evening 4.00 - 6.30pm
DESCRIPTION:
URL:https://www.williampatten.hackney.sch.uk/event/parents-evening-4-00-6-30pm-6/
END:VEVENT
BEGIN:VEVENT
DTSTART;VALUE=DATE:20181114
DTEND;VALUE=DATE:20181115
DTSTAMP:20260420T224238
CREATED:20181009T100323Z
LAST-MODIFIED:20181009T100323Z
UID:4898-1542153600-1542239999@www.williampatten.hackney.sch.uk
SUMMARY:London Fire Brigade visiting Years 2 & 5
DESCRIPTION:
URL:https://www.williampatten.hackney.sch.uk/event/london-fire-brigade-visiting-years-2-5/
END:VEVENT
BEGIN:VEVENT
DTSTART;VALUE=DATE:20181112
DTEND;VALUE=DATE:20181117
DTSTAMP:20260420T224238
CREATED:20180829T124905Z
LAST-MODIFIED:20180829T124905Z
UID:4443-1541980800-1542412799@www.williampatten.hackney.sch.uk
SUMMARY:Anti Bullying Week
DESCRIPTION:
URL:https://www.williampatten.hackney.sch.uk/event/anti-bullying-week-3/
END:VEVENT
BEGIN:VEVENT
DTSTART;VALUE=DATE:20181109
DTEND;VALUE=DATE:20181110
DTSTAMP:20260420T224238
CREATED:20181009T095530Z
LAST-MODIFIED:20181009T095704Z
UID:4896-1541721600-1541807999@www.williampatten.hackney.sch.uk
SUMMARY:New Adventures project starting (every Friday)
DESCRIPTION:
URL:https://www.williampatten.hackney.sch.uk/event/new-adventures-project-starting-every-friday/
END:VEVENT
END:VCALENDAR