BEGIN:VCALENDAR
VERSION:2.0
PRODID:-//William Patten Primary School - ECPv6.15.20//NONSGML v1.0//EN
CALSCALE:GREGORIAN
METHOD:PUBLISH
X-WR-CALNAME:William Patten Primary School
X-ORIGINAL-URL:https://www.williampatten.hackney.sch.uk
X-WR-CALDESC:Events for William Patten Primary School
REFRESH-INTERVAL;VALUE=DURATION:PT1H
X-Robots-Tag:noindex
X-PUBLISHED-TTL:PT1H
BEGIN:VTIMEZONE
TZID:Europe/London
BEGIN:DAYLIGHT
TZOFFSETFROM:+0000
TZOFFSETTO:+0100
TZNAME:BST
DTSTART:20170326T010000
END:DAYLIGHT
BEGIN:STANDARD
TZOFFSETFROM:+0100
TZOFFSETTO:+0000
TZNAME:GMT
DTSTART:20171029T010000
END:STANDARD
BEGIN:DAYLIGHT
TZOFFSETFROM:+0000
TZOFFSETTO:+0100
TZNAME:BST
DTSTART:20180325T010000
END:DAYLIGHT
BEGIN:STANDARD
TZOFFSETFROM:+0100
TZOFFSETTO:+0000
TZNAME:GMT
DTSTART:20181028T010000
END:STANDARD
BEGIN:DAYLIGHT
TZOFFSETFROM:+0000
TZOFFSETTO:+0100
TZNAME:BST
DTSTART:20190331T010000
END:DAYLIGHT
BEGIN:STANDARD
TZOFFSETFROM:+0100
TZOFFSETTO:+0000
TZNAME:GMT
DTSTART:20191027T010000
END:STANDARD
END:VTIMEZONE
BEGIN:VEVENT
DTSTART;VALUE=DATE:20181019
DTEND;VALUE=DATE:20181020
DTSTAMP:20260421T061809
CREATED:20180829T124344Z
LAST-MODIFIED:20180829T124344Z
UID:4431-1539907200-1539993599@www.williampatten.hackney.sch.uk
SUMMARY:Break up for half term
DESCRIPTION:
URL:https://www.williampatten.hackney.sch.uk/event/break-up-for-half-term-8/
END:VEVENT
BEGIN:VEVENT
DTSTART;VALUE=DATE:20181018
DTEND;VALUE=DATE:20181019
DTSTAMP:20260421T061809
CREATED:20181008T141836Z
LAST-MODIFIED:20181008T141836Z
UID:4886-1539820800-1539907199@www.williampatten.hackney.sch.uk
SUMMARY:Freshwater Fire of London workshop for Year 2
DESCRIPTION:
URL:https://www.williampatten.hackney.sch.uk/event/freshwater-fire-of-london-workshop-for-year-2/
END:VEVENT
BEGIN:VEVENT
DTSTART;VALUE=DATE:20181017
DTEND;VALUE=DATE:20181018
DTSTAMP:20260421T061809
CREATED:20181010T143131Z
LAST-MODIFIED:20181010T143131Z
UID:4936-1539734400-1539820799@www.williampatten.hackney.sch.uk
SUMMARY:Local councillor assembly 1.30pm
DESCRIPTION:
URL:https://www.williampatten.hackney.sch.uk/event/local-councillor-assembly-1-30pm/
END:VEVENT
BEGIN:VEVENT
DTSTART;VALUE=DATE:20181017
DTEND;VALUE=DATE:20181018
DTSTAMP:20260421T061809
CREATED:20181010T142407Z
LAST-MODIFIED:20181010T142407Z
UID:4934-1539734400-1539820799@www.williampatten.hackney.sch.uk
SUMMARY:SEND meeting for parents 6pm
DESCRIPTION:
URL:https://www.williampatten.hackney.sch.uk/event/send-meeting-for-parents-6pm/
END:VEVENT
BEGIN:VEVENT
DTSTART;VALUE=DATE:20181017
DTEND;VALUE=DATE:20181018
DTSTAMP:20260421T061809
CREATED:20181010T135627Z
LAST-MODIFIED:20181010T135936Z
UID:4928-1539734400-1539820799@www.williampatten.hackney.sch.uk
SUMMARY:PTFA meeting 7.30pm
DESCRIPTION:
URL:https://www.williampatten.hackney.sch.uk/event/ptfa-meeting-7-30pm-2/
END:VEVENT
BEGIN:VEVENT
DTSTART;VALUE=DATE:20181017
DTEND;VALUE=DATE:20181018
DTSTAMP:20260421T061809
CREATED:20180829T124315Z
LAST-MODIFIED:20180829T124315Z
UID:4429-1539734400-1539820799@www.williampatten.hackney.sch.uk
SUMMARY:Shakespeare workshops for Year 6
DESCRIPTION:
URL:https://www.williampatten.hackney.sch.uk/event/shakespeare-workshops-for-year-6/
END:VEVENT
BEGIN:VEVENT
DTSTART;VALUE=DATE:20181015
DTEND;VALUE=DATE:20181016
DTSTAMP:20260421T061809
CREATED:20181008T141645Z
LAST-MODIFIED:20181008T141645Z
UID:4884-1539561600-1539647999@www.williampatten.hackney.sch.uk
SUMMARY:Local Democracy Week
DESCRIPTION:
URL:https://www.williampatten.hackney.sch.uk/event/local-democracy-week/
END:VEVENT
BEGIN:VEVENT
DTSTART;VALUE=DATE:20181015
DTEND;VALUE=DATE:20181016
DTSTAMP:20260421T061809
CREATED:20181008T141610Z
LAST-MODIFIED:20181008T141610Z
UID:4882-1539561600-1539647999@www.williampatten.hackney.sch.uk
SUMMARY:Geffrye D & T workshops for Year 4
DESCRIPTION:
URL:https://www.williampatten.hackney.sch.uk/event/geffrye-d-t-workshops-for-year-4/
END:VEVENT
BEGIN:VEVENT
DTSTART;VALUE=DATE:20181015
DTEND;VALUE=DATE:20181016
DTSTAMP:20260421T061809
CREATED:20181008T141529Z
LAST-MODIFIED:20181008T141529Z
UID:4880-1539561600-1539647999@www.williampatten.hackney.sch.uk
SUMMARY:Year 6 UCL project
DESCRIPTION:
URL:https://www.williampatten.hackney.sch.uk/event/year-6-ucl-project/
END:VEVENT
BEGIN:VEVENT
DTSTART;VALUE=DATE:20181015
DTEND;VALUE=DATE:20181016
DTSTAMP:20260421T061809
CREATED:20180829T124229Z
LAST-MODIFIED:20180829T124229Z
UID:4427-1539561600-1539647999@www.williampatten.hackney.sch.uk
SUMMARY:Year 5 to Greenwich Planetarium
DESCRIPTION:
URL:https://www.williampatten.hackney.sch.uk/event/year-5-to-greenwich-planetarium/
END:VEVENT
BEGIN:VEVENT
DTSTART;VALUE=DATE:20181012
DTEND;VALUE=DATE:20181013
DTSTAMP:20260421T061809
CREATED:20181008T141340Z
LAST-MODIFIED:20181008T141340Z
UID:4878-1539302400-1539388799@www.williampatten.hackney.sch.uk
SUMMARY:Year 5 to Sutton House (Black History Month)
DESCRIPTION:
URL:https://www.williampatten.hackney.sch.uk/event/year-5-to-sutton-house-black-history-month/
END:VEVENT
BEGIN:VEVENT
DTSTART;VALUE=DATE:20181011
DTEND;VALUE=DATE:20181012
DTSTAMP:20260421T061809
CREATED:20181008T141255Z
LAST-MODIFIED:20181008T141255Z
UID:4876-1539216000-1539302399@www.williampatten.hackney.sch.uk
SUMMARY:Secondary transfer meetings with Karen
DESCRIPTION:
URL:https://www.williampatten.hackney.sch.uk/event/secondary-transfer-meetings-with-karen/
END:VEVENT
BEGIN:VEVENT
DTSTART;VALUE=DATE:20181010
DTEND;VALUE=DATE:20181011
DTSTAMP:20260421T061809
CREATED:20181008T122552Z
LAST-MODIFIED:20181008T132806Z
UID:4871-1539129600-1539215999@www.williampatten.hackney.sch.uk
SUMMARY:Year 4 to Sutton House (Black History Month)
DESCRIPTION:
URL:https://www.williampatten.hackney.sch.uk/event/year-4-to-sutton-house-black-history-month/
END:VEVENT
BEGIN:VEVENT
DTSTART;VALUE=DATE:20181010
DTEND;VALUE=DATE:20181011
DTSTAMP:20260421T061809
CREATED:20180829T124121Z
LAST-MODIFIED:20181008T141147Z
UID:4425-1539129600-1539215999@www.williampatten.hackney.sch.uk
SUMMARY:Year 6 Opera performance for 6B parents - 2pm. 6D parents - 3pm.
DESCRIPTION:
URL:https://www.williampatten.hackney.sch.uk/event/year-6-opera-performance-for-parents/
END:VEVENT
BEGIN:VEVENT
DTSTART;VALUE=DATE:20181009
DTEND;VALUE=DATE:20181010
DTSTAMP:20260421T061809
CREATED:20181008T122420Z
LAST-MODIFIED:20181008T122512Z
UID:4868-1539043200-1539129599@www.williampatten.hackney.sch.uk
SUMMARY:Years 2 & 3 to Sutton House (Black History Month)
DESCRIPTION:
URL:https://www.williampatten.hackney.sch.uk/event/year-2-3-to-sutton-house-black-history-month/
END:VEVENT
BEGIN:VEVENT
DTSTART;VALUE=DATE:20181009
DTEND;VALUE=DATE:20181010
DTSTAMP:20260421T061809
CREATED:20181008T121941Z
LAST-MODIFIED:20181008T121941Z
UID:4866-1539043200-1539129599@www.williampatten.hackney.sch.uk
SUMMARY:Geffrye science workshops for Year 4
DESCRIPTION:
URL:https://www.williampatten.hackney.sch.uk/event/geffrye-science-workshops-for-year-4/
END:VEVENT
BEGIN:VEVENT
DTSTART;VALUE=DATE:20181008
DTEND;VALUE=DATE:20181009
DTSTAMP:20260421T061809
CREATED:20181008T121614Z
LAST-MODIFIED:20181008T121614Z
UID:4864-1538956800-1539043199@www.williampatten.hackney.sch.uk
SUMMARY:Year 1 to Sutton House (Black History Month)
DESCRIPTION:
URL:https://www.williampatten.hackney.sch.uk/event/year-1-to-sutton-house-black-history-month/
END:VEVENT
BEGIN:VEVENT
DTSTART;VALUE=DATE:20181005
DTEND;VALUE=DATE:20181011
DTSTAMP:20260421T061809
CREATED:20180829T123721Z
LAST-MODIFIED:20180829T123945Z
UID:4421-1538697600-1539215999@www.williampatten.hackney.sch.uk
SUMMARY:Classes visiting Sutton House (Black History Month)
DESCRIPTION:
URL:https://www.williampatten.hackney.sch.uk/event/year-6-visiting-sutton-house-black-history-month-2/
END:VEVENT
BEGIN:VEVENT
DTSTART;VALUE=DATE:20181005
DTEND;VALUE=DATE:20181006
DTSTAMP:20260421T061809
CREATED:20180829T122535Z
LAST-MODIFIED:20180829T122535Z
UID:4417-1538697600-1538783999@www.williampatten.hackney.sch.uk
SUMMARY:Reception RWI meeting 9.30am
DESCRIPTION:
URL:https://www.williampatten.hackney.sch.uk/event/reception-rwi-meeting-9-30am/
END:VEVENT
BEGIN:VEVENT
DTSTART;VALUE=DATE:20181004
DTEND;VALUE=DATE:20181005
DTSTAMP:20260421T061809
CREATED:20180829T122454Z
LAST-MODIFIED:20180829T122454Z
UID:4415-1538611200-1538697599@www.williampatten.hackney.sch.uk
SUMMARY:Nursery Teddy Bears Picnic 1.30pm
DESCRIPTION:
URL:https://www.williampatten.hackney.sch.uk/event/nursery-teddy-bears-picnic-1-30pm/
END:VEVENT
BEGIN:VEVENT
DTSTART;VALUE=DATE:20181002
DTEND;VALUE=DATE:20181003
DTSTAMP:20260421T061809
CREATED:20181009T130939Z
LAST-MODIFIED:20181009T130939Z
UID:4912-1538438400-1538524799@www.williampatten.hackney.sch.uk
SUMMARY:Geffrye Museum science workshops - Year 4
DESCRIPTION:
URL:https://www.williampatten.hackney.sch.uk/event/geffrye-museum-science-workshops-year-4/
END:VEVENT
BEGIN:VEVENT
DTSTART;VALUE=DATE:20181001
DTEND;VALUE=DATE:20181002
DTSTAMP:20260421T061809
CREATED:20180829T122356Z
LAST-MODIFIED:20180829T122356Z
UID:4413-1538352000-1538438399@www.williampatten.hackney.sch.uk
SUMMARY:Secondary transfer meetings for Year 6 parents
DESCRIPTION:
URL:https://www.williampatten.hackney.sch.uk/event/secondary-transfer-meetings-for-year-6-parents/
END:VEVENT
BEGIN:VEVENT
DTSTART;VALUE=DATE:20180928
DTEND;VALUE=DATE:20180929
DTSTAMP:20260421T061809
CREATED:20180829T122250Z
LAST-MODIFIED:20180918T143955Z
UID:4411-1538092800-1538179199@www.williampatten.hackney.sch.uk
SUMMARY:Reception Teddy Bears Picnic 1.30pm
DESCRIPTION:
URL:https://www.williampatten.hackney.sch.uk/event/reception-teddy-bears-picnic-1-45pm/
END:VEVENT
BEGIN:VEVENT
DTSTART;VALUE=DATE:20180927
DTEND;VALUE=DATE:20180928
DTSTAMP:20260421T061809
CREATED:20180927T133925Z
LAST-MODIFIED:20181002T082910Z
UID:4788-1538006400-1538092799@www.williampatten.hackney.sch.uk
SUMMARY:Year 5 - London Zoo
DESCRIPTION:
URL:https://www.williampatten.hackney.sch.uk/event/year-5-london-zoo/
END:VEVENT
BEGIN:VEVENT
DTSTART;VALUE=DATE:20180927
DTEND;VALUE=DATE:20180928
DTSTAMP:20260421T061809
CREATED:20180829T122113Z
LAST-MODIFIED:20180829T122113Z
UID:4409-1538006400-1538092799@www.williampatten.hackney.sch.uk
SUMMARY:Ventura Wildlife workshop for Year 2
DESCRIPTION:
URL:https://www.williampatten.hackney.sch.uk/event/ventura-wildlife-workshop-for-year-2/
END:VEVENT
BEGIN:VEVENT
DTSTART;VALUE=DATE:20180926
DTEND;VALUE=DATE:20180927
DTSTAMP:20260421T061809
CREATED:20180829T122025Z
LAST-MODIFIED:20180829T122025Z
UID:4407-1537920000-1538006399@www.williampatten.hackney.sch.uk
SUMMARY:European Day of Languages
DESCRIPTION:
URL:https://www.williampatten.hackney.sch.uk/event/european-day-of-languages/
END:VEVENT
BEGIN:VEVENT
DTSTART;VALUE=DATE:20180921
DTEND;VALUE=DATE:20180922
DTSTAMP:20260421T061809
CREATED:20180829T121943Z
LAST-MODIFIED:20180829T121943Z
UID:4405-1537488000-1537574399@www.williampatten.hackney.sch.uk
SUMMARY:Year 4 swimming starts
DESCRIPTION:
URL:https://www.williampatten.hackney.sch.uk/event/year-4-swimming-starts/
END:VEVENT
BEGIN:VEVENT
DTSTART;VALUE=DATE:20180914
DTEND;VALUE=DATE:20180915
DTSTAMP:20260421T061809
CREATED:20180829T121628Z
LAST-MODIFIED:20180829T121628Z
UID:4397-1536883200-1536969599@www.williampatten.hackney.sch.uk
SUMMARY:Year 1 Meet the Teacher meeting 9.30am
DESCRIPTION:
URL:https://www.williampatten.hackney.sch.uk/event/year-1-meet-the-teacher-meeting-9-30am/
END:VEVENT
BEGIN:VEVENT
DTSTART;VALUE=DATE:20180913
DTEND;VALUE=DATE:20180914
DTSTAMP:20260421T061809
CREATED:20180829T121543Z
LAST-MODIFIED:20180829T121543Z
UID:4395-1536796800-1536883199@www.williampatten.hackney.sch.uk
SUMMARY:Year 2 Meet the Teacher meeting 9.30am
DESCRIPTION:
URL:https://www.williampatten.hackney.sch.uk/event/year-2-meet-the-teacher-meeting-9-30am-2/
END:VEVENT
BEGIN:VEVENT
DTSTART;VALUE=DATE:20180912
DTEND;VALUE=DATE:20180913
DTSTAMP:20260421T061809
CREATED:20180829T121858Z
LAST-MODIFIED:20180829T121858Z
UID:4403-1536710400-1536796799@www.williampatten.hackney.sch.uk
SUMMARY:Nursery children start (staggered)
DESCRIPTION:
URL:https://www.williampatten.hackney.sch.uk/event/nursery-children-start-staggered/
END:VEVENT
END:VCALENDAR