BEGIN:VCALENDAR
VERSION:2.0
PRODID:-//William Patten Primary School - ECPv6.15.20//NONSGML v1.0//EN
CALSCALE:GREGORIAN
METHOD:PUBLISH
X-WR-CALNAME:William Patten Primary School
X-ORIGINAL-URL:https://www.williampatten.hackney.sch.uk
X-WR-CALDESC:Events for William Patten Primary School
REFRESH-INTERVAL;VALUE=DURATION:PT1H
X-Robots-Tag:noindex
X-PUBLISHED-TTL:PT1H
BEGIN:VTIMEZONE
TZID:Europe/London
BEGIN:DAYLIGHT
TZOFFSETFROM:+0000
TZOFFSETTO:+0100
TZNAME:BST
DTSTART:20170326T010000
END:DAYLIGHT
BEGIN:STANDARD
TZOFFSETFROM:+0100
TZOFFSETTO:+0000
TZNAME:GMT
DTSTART:20171029T010000
END:STANDARD
BEGIN:DAYLIGHT
TZOFFSETFROM:+0000
TZOFFSETTO:+0100
TZNAME:BST
DTSTART:20180325T010000
END:DAYLIGHT
BEGIN:STANDARD
TZOFFSETFROM:+0100
TZOFFSETTO:+0000
TZNAME:GMT
DTSTART:20181028T010000
END:STANDARD
BEGIN:DAYLIGHT
TZOFFSETFROM:+0000
TZOFFSETTO:+0100
TZNAME:BST
DTSTART:20190331T010000
END:DAYLIGHT
BEGIN:STANDARD
TZOFFSETFROM:+0100
TZOFFSETTO:+0000
TZNAME:GMT
DTSTART:20191027T010000
END:STANDARD
END:VTIMEZONE
BEGIN:VEVENT
DTSTART;VALUE=DATE:20180720
DTEND;VALUE=DATE:20180721
DTSTAMP:20260421T134445
CREATED:20180226T120347Z
LAST-MODIFIED:20180509T123348Z
UID:3937-1532044800-1532131199@www.williampatten.hackney.sch.uk
SUMMARY:Year 6 Graduation 11am
DESCRIPTION:
URL:https://www.williampatten.hackney.sch.uk/event/year-6-graduation-2/
END:VEVENT
BEGIN:VEVENT
DTSTART;VALUE=DATE:20180720
DTEND;VALUE=DATE:20180721
DTSTAMP:20260421T134445
CREATED:20170802T111946Z
LAST-MODIFIED:20170802T111946Z
UID:3354-1532044800-1532131199@www.williampatten.hackney.sch.uk
SUMMARY:Break up for summer holidays 1.30pm
DESCRIPTION:
URL:https://www.williampatten.hackney.sch.uk/event/break-up-for-summer-holidays-1-30pm-2/
END:VEVENT
BEGIN:VEVENT
DTSTART;VALUE=DATE:20180719
DTEND;VALUE=DATE:20180720
DTSTAMP:20260421T134445
CREATED:20180226T120231Z
LAST-MODIFIED:20180226T120231Z
UID:3935-1531958400-1532044799@www.williampatten.hackney.sch.uk
SUMMARY:Year 6 BBQ
DESCRIPTION:
URL:https://www.williampatten.hackney.sch.uk/event/year-6-bbq-2/
END:VEVENT
BEGIN:VEVENT
DTSTART;VALUE=DATE:20180718
DTEND;VALUE=DATE:20180719
DTSTAMP:20260421T134445
CREATED:20180226T120157Z
LAST-MODIFIED:20180226T120157Z
UID:3933-1531872000-1531958399@www.williampatten.hackney.sch.uk
SUMMARY:Poetry & Writing Award Assembly
DESCRIPTION:
URL:https://www.williampatten.hackney.sch.uk/event/poetry-writing-award-assembly/
END:VEVENT
BEGIN:VEVENT
DTSTART;VALUE=DATE:20180716
DTEND;VALUE=DATE:20180717
DTSTAMP:20260421T134445
CREATED:20180226T120115Z
LAST-MODIFIED:20180226T120115Z
UID:3931-1531699200-1531785599@www.williampatten.hackney.sch.uk
SUMMARY:Music concert (choir\, steel pans\, violins)
DESCRIPTION:
URL:https://www.williampatten.hackney.sch.uk/event/music-concert-choir-steel-pans-violins/
END:VEVENT
BEGIN:VEVENT
DTSTART;VALUE=DATE:20180716
DTEND;VALUE=DATE:20180717
DTSTAMP:20260421T134445
CREATED:20180226T115919Z
LAST-MODIFIED:20180615T081444Z
UID:3927-1531699200-1531785599@www.williampatten.hackney.sch.uk
SUMMARY:Deborah Reade Art Award Assembly 11.30am
DESCRIPTION:
URL:https://www.williampatten.hackney.sch.uk/event/school-marketplace-11-30am-2-00pm/
END:VEVENT
BEGIN:VEVENT
DTSTART;VALUE=DATE:20180713
DTEND;VALUE=DATE:20180714
DTSTAMP:20260421T134445
CREATED:20180226T120019Z
LAST-MODIFIED:20180226T120019Z
UID:3929-1531440000-1531526399@www.williampatten.hackney.sch.uk
SUMMARY:Music concert (brass\, keyboard\, woodwind)
DESCRIPTION:
URL:https://www.williampatten.hackney.sch.uk/event/music-concert-brass-keyboard-woodwind/
END:VEVENT
BEGIN:VEVENT
DTSTART;VALUE=DATE:20180712
DTEND;VALUE=DATE:20180713
DTSTAMP:20260421T134445
CREATED:20180509T123306Z
LAST-MODIFIED:20180509T123306Z
UID:4258-1531353600-1531439999@www.williampatten.hackney.sch.uk
SUMMARY:Nursery Sports Day
DESCRIPTION:
URL:https://www.williampatten.hackney.sch.uk/event/nursery-sports-day/
END:VEVENT
BEGIN:VEVENT
DTSTART;VALUE=DATE:20180710
DTEND;VALUE=DATE:20180711
DTSTAMP:20260421T134445
CREATED:20180226T115519Z
LAST-MODIFIED:20180226T115519Z
UID:3923-1531180800-1531267199@www.williampatten.hackney.sch.uk
SUMMARY:Year 6 Show for parents (6.30pm)
DESCRIPTION:
URL:https://www.williampatten.hackney.sch.uk/event/year-6-show-for-parents-6-30pm/
END:VEVENT
BEGIN:VEVENT
DTSTART;VALUE=DATE:20180705
DTEND;VALUE=DATE:20180706
DTSTAMP:20260421T134445
CREATED:20180509T123141Z
LAST-MODIFIED:20180509T123141Z
UID:4256-1530748800-1530835199@www.williampatten.hackney.sch.uk
SUMMARY:Transition Day for all classes
DESCRIPTION:
URL:https://www.williampatten.hackney.sch.uk/event/transition-day-for-all-classes/
END:VEVENT
BEGIN:VEVENT
DTSTART;VALUE=DATE:20180705
DTEND;VALUE=DATE:20180706
DTSTAMP:20260421T134445
CREATED:20180226T115352Z
LAST-MODIFIED:20180226T115352Z
UID:3921-1530748800-1530835199@www.williampatten.hackney.sch.uk
SUMMARY:Year 6 Transition Day
DESCRIPTION:
URL:https://www.williampatten.hackney.sch.uk/event/year-6-transition-day-2/
END:VEVENT
BEGIN:VEVENT
DTSTART;VALUE=DATE:20180704
DTEND;VALUE=DATE:20180705
DTSTAMP:20260421T134445
CREATED:20180509T122907Z
LAST-MODIFIED:20180509T122907Z
UID:4254-1530662400-1530748799@www.williampatten.hackney.sch.uk
SUMMARY:Orchestra/steel pans to Round Chapel
DESCRIPTION:
URL:https://www.williampatten.hackney.sch.uk/event/orchestra-steel-pans-to-round-chapel/
END:VEVENT
BEGIN:VEVENT
DTSTART;VALUE=DATE:20180704
DTEND;VALUE=DATE:20180705
DTSTAMP:20260421T134445
CREATED:20180226T115239Z
LAST-MODIFIED:20180226T115239Z
UID:3919-1530662400-1530748799@www.williampatten.hackney.sch.uk
SUMMARY:Gymnastics performance for parents (Year 1 & 3)
DESCRIPTION:
URL:https://www.williampatten.hackney.sch.uk/event/gymnastics-performance-for-parents-year-1-3/
END:VEVENT
BEGIN:VEVENT
DTSTART;VALUE=DATE:20180703
DTEND;VALUE=DATE:20180704
DTSTAMP:20260421T134445
CREATED:20180226T115145Z
LAST-MODIFIED:20180226T115145Z
UID:3917-1530576000-1530662399@www.williampatten.hackney.sch.uk
SUMMARY:KS1 Sports Day
DESCRIPTION:
URL:https://www.williampatten.hackney.sch.uk/event/ks1-sports-day-4/
END:VEVENT
BEGIN:VEVENT
DTSTART;VALUE=DATE:20180702
DTEND;VALUE=DATE:20180703
DTSTAMP:20260421T134445
CREATED:20180226T115102Z
LAST-MODIFIED:20180226T115102Z
UID:3915-1530489600-1530575999@www.williampatten.hackney.sch.uk
SUMMARY:KS2 Sports Day
DESCRIPTION:
URL:https://www.williampatten.hackney.sch.uk/event/ks2-sports-day-4/
END:VEVENT
BEGIN:VEVENT
DTSTART;VALUE=DATE:20180629
DTEND;VALUE=DATE:20180630
DTSTAMP:20260421T134445
CREATED:20180509T122624Z
LAST-MODIFIED:20180509T122624Z
UID:4252-1530230400-1530316799@www.williampatten.hackney.sch.uk
SUMMARY:KS2 Choir to Round Chapel
DESCRIPTION:
URL:https://www.williampatten.hackney.sch.uk/event/ks2-choir-to-round-chapel/
END:VEVENT
BEGIN:VEVENT
DTSTART;VALUE=DATE:20180628
DTEND;VALUE=DATE:20180629
DTSTAMP:20260421T134445
CREATED:20180509T122536Z
LAST-MODIFIED:20180509T122536Z
UID:4250-1530144000-1530230399@www.williampatten.hackney.sch.uk
SUMMARY:Early Years to Round Chapel
DESCRIPTION:
URL:https://www.williampatten.hackney.sch.uk/event/early-years-to-round-chapel/
END:VEVENT
BEGIN:VEVENT
DTSTART;VALUE=DATE:20180626
DTEND;VALUE=DATE:20180627
DTSTAMP:20260421T134445
CREATED:20180509T121755Z
LAST-MODIFIED:20180509T121755Z
UID:4248-1529971200-1530057599@www.williampatten.hackney.sch.uk
SUMMARY:KS1 Choir to Round Chapel
DESCRIPTION:
URL:https://www.williampatten.hackney.sch.uk/event/ks1-choir-to-round-chapel/
END:VEVENT
BEGIN:VEVENT
DTSTART;VALUE=DATE:20180626
DTEND;VALUE=DATE:20180627
DTSTAMP:20260421T134445
CREATED:20180226T115010Z
LAST-MODIFIED:20180226T115025Z
UID:3912-1529971200-1530057599@www.williampatten.hackney.sch.uk
SUMMARY:Personal Best Final
DESCRIPTION:
URL:https://www.williampatten.hackney.sch.uk/event/personal-best-finals/
END:VEVENT
BEGIN:VEVENT
DTSTART;VALUE=DATE:20180625
DTEND;VALUE=DATE:20180626
DTSTAMP:20260421T134445
CREATED:20180226T114812Z
LAST-MODIFIED:20180226T114812Z
UID:3910-1529884800-1529971199@www.williampatten.hackney.sch.uk
SUMMARY:Hispanic Week
DESCRIPTION:
URL:https://www.williampatten.hackney.sch.uk/event/hispanic-week-3/
END:VEVENT
BEGIN:VEVENT
DTSTART;VALUE=DATE:20180621
DTEND;VALUE=DATE:20180622
DTSTAMP:20260421T134445
CREATED:20180509T121453Z
LAST-MODIFIED:20180509T121453Z
UID:4246-1529539200-1529625599@www.williampatten.hackney.sch.uk
SUMMARY:Road safety workshops for Year 6
DESCRIPTION:
URL:https://www.williampatten.hackney.sch.uk/event/road-safety-workshops-for-year-6/
END:VEVENT
BEGIN:VEVENT
DTSTART;VALUE=DATE:20180619
DTEND;VALUE=DATE:20180620
DTSTAMP:20260421T134445
CREATED:20180509T120038Z
LAST-MODIFIED:20180509T120038Z
UID:4244-1529366400-1529452799@www.williampatten.hackney.sch.uk
SUMMARY:KS1 Come Dine with Us
DESCRIPTION:
URL:https://www.williampatten.hackney.sch.uk/event/ks1-come-dine-with-us-2/
END:VEVENT
BEGIN:VEVENT
DTSTART;VALUE=DATE:20180619
DTEND;VALUE=DATE:20180620
DTSTAMP:20260421T134445
CREATED:20180509T115500Z
LAST-MODIFIED:20180509T115500Z
UID:4242-1529366400-1529452799@www.williampatten.hackney.sch.uk
SUMMARY:Buzz road safety workshops for Year 5
DESCRIPTION:
URL:https://www.williampatten.hackney.sch.uk/event/buzz-road-safety-workshops-for-year-5/
END:VEVENT
BEGIN:VEVENT
DTSTART;VALUE=DATE:20180615
DTEND;VALUE=DATE:20180616
DTSTAMP:20260421T134445
CREATED:20180226T114719Z
LAST-MODIFIED:20180226T114719Z
UID:3908-1529020800-1529107199@www.williampatten.hackney.sch.uk
SUMMARY:Class photographs
DESCRIPTION:
URL:https://www.williampatten.hackney.sch.uk/event/class-photographs-3/
END:VEVENT
BEGIN:VEVENT
DTSTART;VALUE=DATE:20180614
DTEND;VALUE=DATE:20180615
DTSTAMP:20260421T134445
CREATED:20180509T115010Z
LAST-MODIFIED:20180509T115010Z
UID:4240-1528934400-1529020799@www.williampatten.hackney.sch.uk
SUMMARY:Science workshops for whole school
DESCRIPTION:
URL:https://www.williampatten.hackney.sch.uk/event/science-workshops-for-whole-school/
END:VEVENT
BEGIN:VEVENT
DTSTART;VALUE=DATE:20180611
DTEND;VALUE=DATE:20180612
DTSTAMP:20260421T134445
CREATED:20180226T114647Z
LAST-MODIFIED:20180226T114647Z
UID:3906-1528675200-1528761599@www.williampatten.hackney.sch.uk
SUMMARY:Science Week
DESCRIPTION:
URL:https://www.williampatten.hackney.sch.uk/event/science-week-3/
END:VEVENT
BEGIN:VEVENT
DTSTART;VALUE=DATE:20180606
DTEND;VALUE=DATE:20180607
DTSTAMP:20260421T134445
CREATED:20180509T114730Z
LAST-MODIFIED:20180509T114730Z
UID:4238-1528243200-1528329599@www.williampatten.hackney.sch.uk
SUMMARY:Year 5 Punch Drunk Theatre Company
DESCRIPTION:
URL:https://www.williampatten.hackney.sch.uk/event/year-5-punch-drunk-theatre-company/
END:VEVENT
BEGIN:VEVENT
DTSTART;VALUE=DATE:20180605
DTEND;VALUE=DATE:20180606
DTSTAMP:20260421T134445
CREATED:20170802T111620Z
LAST-MODIFIED:20170802T111620Z
UID:3346-1528156800-1528243199@www.williampatten.hackney.sch.uk
SUMMARY:Children return to school
DESCRIPTION:
URL:https://www.williampatten.hackney.sch.uk/event/children-return-to-school-12/
END:VEVENT
BEGIN:VEVENT
DTSTART;VALUE=DATE:20180604
DTEND;VALUE=DATE:20180609
DTSTAMP:20260421T134445
CREATED:20180509T114648Z
LAST-MODIFIED:20180509T114648Z
UID:4236-1528070400-1528502399@www.williampatten.hackney.sch.uk
SUMMARY:Year 6 Residential trip
DESCRIPTION:
URL:https://www.williampatten.hackney.sch.uk/event/year-6-residential-trip/
END:VEVENT
BEGIN:VEVENT
DTSTART;VALUE=DATE:20180604
DTEND;VALUE=DATE:20180605
DTSTAMP:20260421T134445
CREATED:20170802T111528Z
LAST-MODIFIED:20170802T111528Z
UID:3344-1528070400-1528156799@www.williampatten.hackney.sch.uk
SUMMARY:Inset Day
DESCRIPTION:
URL:https://www.williampatten.hackney.sch.uk/event/inset-day-8/
END:VEVENT
END:VCALENDAR