BEGIN:VCALENDAR
VERSION:2.0
PRODID:-//William Patten Primary School - ECPv6.15.20//NONSGML v1.0//EN
CALSCALE:GREGORIAN
METHOD:PUBLISH
X-WR-CALNAME:William Patten Primary School
X-ORIGINAL-URL:https://www.williampatten.hackney.sch.uk
X-WR-CALDESC:Events for William Patten Primary School
REFRESH-INTERVAL;VALUE=DURATION:PT1H
X-Robots-Tag:noindex
X-PUBLISHED-TTL:PT1H
BEGIN:VTIMEZONE
TZID:Europe/London
BEGIN:DAYLIGHT
TZOFFSETFROM:+0000
TZOFFSETTO:+0100
TZNAME:BST
DTSTART:20170326T010000
END:DAYLIGHT
BEGIN:STANDARD
TZOFFSETFROM:+0100
TZOFFSETTO:+0000
TZNAME:GMT
DTSTART:20171029T010000
END:STANDARD
BEGIN:DAYLIGHT
TZOFFSETFROM:+0000
TZOFFSETTO:+0100
TZNAME:BST
DTSTART:20180325T010000
END:DAYLIGHT
BEGIN:STANDARD
TZOFFSETFROM:+0100
TZOFFSETTO:+0000
TZNAME:GMT
DTSTART:20181028T010000
END:STANDARD
BEGIN:DAYLIGHT
TZOFFSETFROM:+0000
TZOFFSETTO:+0100
TZNAME:BST
DTSTART:20190331T010000
END:DAYLIGHT
BEGIN:STANDARD
TZOFFSETFROM:+0100
TZOFFSETTO:+0000
TZNAME:GMT
DTSTART:20191027T010000
END:STANDARD
END:VTIMEZONE
BEGIN:VEVENT
DTSTART;VALUE=DATE:20180621
DTEND;VALUE=DATE:20180622
DTSTAMP:20260421T173118
CREATED:20180509T121453Z
LAST-MODIFIED:20180509T121453Z
UID:4246-1529539200-1529625599@www.williampatten.hackney.sch.uk
SUMMARY:Road safety workshops for Year 6
DESCRIPTION:
URL:https://www.williampatten.hackney.sch.uk/event/road-safety-workshops-for-year-6/
END:VEVENT
BEGIN:VEVENT
DTSTART;VALUE=DATE:20180619
DTEND;VALUE=DATE:20180620
DTSTAMP:20260421T173118
CREATED:20180509T120038Z
LAST-MODIFIED:20180509T120038Z
UID:4244-1529366400-1529452799@www.williampatten.hackney.sch.uk
SUMMARY:KS1 Come Dine with Us
DESCRIPTION:
URL:https://www.williampatten.hackney.sch.uk/event/ks1-come-dine-with-us-2/
END:VEVENT
BEGIN:VEVENT
DTSTART;VALUE=DATE:20180619
DTEND;VALUE=DATE:20180620
DTSTAMP:20260421T173118
CREATED:20180509T115500Z
LAST-MODIFIED:20180509T115500Z
UID:4242-1529366400-1529452799@www.williampatten.hackney.sch.uk
SUMMARY:Buzz road safety workshops for Year 5
DESCRIPTION:
URL:https://www.williampatten.hackney.sch.uk/event/buzz-road-safety-workshops-for-year-5/
END:VEVENT
BEGIN:VEVENT
DTSTART;VALUE=DATE:20180615
DTEND;VALUE=DATE:20180616
DTSTAMP:20260421T173118
CREATED:20180226T114719Z
LAST-MODIFIED:20180226T114719Z
UID:3908-1529020800-1529107199@www.williampatten.hackney.sch.uk
SUMMARY:Class photographs
DESCRIPTION:
URL:https://www.williampatten.hackney.sch.uk/event/class-photographs-3/
END:VEVENT
BEGIN:VEVENT
DTSTART;VALUE=DATE:20180614
DTEND;VALUE=DATE:20180615
DTSTAMP:20260421T173118
CREATED:20180509T115010Z
LAST-MODIFIED:20180509T115010Z
UID:4240-1528934400-1529020799@www.williampatten.hackney.sch.uk
SUMMARY:Science workshops for whole school
DESCRIPTION:
URL:https://www.williampatten.hackney.sch.uk/event/science-workshops-for-whole-school/
END:VEVENT
BEGIN:VEVENT
DTSTART;VALUE=DATE:20180611
DTEND;VALUE=DATE:20180612
DTSTAMP:20260421T173118
CREATED:20180226T114647Z
LAST-MODIFIED:20180226T114647Z
UID:3906-1528675200-1528761599@www.williampatten.hackney.sch.uk
SUMMARY:Science Week
DESCRIPTION:
URL:https://www.williampatten.hackney.sch.uk/event/science-week-3/
END:VEVENT
BEGIN:VEVENT
DTSTART;VALUE=DATE:20180606
DTEND;VALUE=DATE:20180607
DTSTAMP:20260421T173118
CREATED:20180509T114730Z
LAST-MODIFIED:20180509T114730Z
UID:4238-1528243200-1528329599@www.williampatten.hackney.sch.uk
SUMMARY:Year 5 Punch Drunk Theatre Company
DESCRIPTION:
URL:https://www.williampatten.hackney.sch.uk/event/year-5-punch-drunk-theatre-company/
END:VEVENT
BEGIN:VEVENT
DTSTART;VALUE=DATE:20180605
DTEND;VALUE=DATE:20180606
DTSTAMP:20260421T173118
CREATED:20170802T111620Z
LAST-MODIFIED:20170802T111620Z
UID:3346-1528156800-1528243199@www.williampatten.hackney.sch.uk
SUMMARY:Children return to school
DESCRIPTION:
URL:https://www.williampatten.hackney.sch.uk/event/children-return-to-school-12/
END:VEVENT
BEGIN:VEVENT
DTSTART;VALUE=DATE:20180604
DTEND;VALUE=DATE:20180609
DTSTAMP:20260421T173118
CREATED:20180509T114648Z
LAST-MODIFIED:20180509T114648Z
UID:4236-1528070400-1528502399@www.williampatten.hackney.sch.uk
SUMMARY:Year 6 Residential trip
DESCRIPTION:
URL:https://www.williampatten.hackney.sch.uk/event/year-6-residential-trip/
END:VEVENT
BEGIN:VEVENT
DTSTART;VALUE=DATE:20180604
DTEND;VALUE=DATE:20180605
DTSTAMP:20260421T173118
CREATED:20170802T111528Z
LAST-MODIFIED:20170802T111528Z
UID:3344-1528070400-1528156799@www.williampatten.hackney.sch.uk
SUMMARY:Inset Day
DESCRIPTION:
URL:https://www.williampatten.hackney.sch.uk/event/inset-day-8/
END:VEVENT
BEGIN:VEVENT
DTSTART;VALUE=DATE:20180525
DTEND;VALUE=DATE:20180526
DTSTAMP:20260421T173118
CREATED:20170802T111447Z
LAST-MODIFIED:20170802T111447Z
UID:3342-1527206400-1527292799@www.williampatten.hackney.sch.uk
SUMMARY:Break up for half term
DESCRIPTION:
URL:https://www.williampatten.hackney.sch.uk/event/break-up-for-half-term-7/
END:VEVENT
BEGIN:VEVENT
DTSTART;VALUE=DATE:20180524
DTEND;VALUE=DATE:20180525
DTSTAMP:20260421T173118
CREATED:20180226T114444Z
LAST-MODIFIED:20180226T114444Z
UID:3904-1527120000-1527206399@www.williampatten.hackney.sch.uk
SUMMARY:Stoke Newington Lit Fest
DESCRIPTION:
URL:https://www.williampatten.hackney.sch.uk/event/stoke-newington-lit-fest/
END:VEVENT
BEGIN:VEVENT
DTSTART;VALUE=DATE:20180523
DTEND;VALUE=DATE:20180524
DTSTAMP:20260421T173118
CREATED:20180509T114527Z
LAST-MODIFIED:20180509T114527Z
UID:4234-1527033600-1527119999@www.williampatten.hackney.sch.uk
SUMMARY:Year 6 trip to Islington Boat Club
DESCRIPTION:
URL:https://www.williampatten.hackney.sch.uk/event/year-6-trip-to-islington-boat-club-2/
END:VEVENT
BEGIN:VEVENT
DTSTART;VALUE=DATE:20180523
DTEND;VALUE=DATE:20180524
DTSTAMP:20260421T173118
CREATED:20180226T114344Z
LAST-MODIFIED:20180226T114344Z
UID:3902-1527033600-1527119999@www.williampatten.hackney.sch.uk
SUMMARY:No Pens Wednesday
DESCRIPTION:
URL:https://www.williampatten.hackney.sch.uk/event/no-pens-wednesday-4/
END:VEVENT
BEGIN:VEVENT
DTSTART;VALUE=DATE:20180522
DTEND;VALUE=DATE:20180523
DTSTAMP:20260421T173118
CREATED:20180226T114303Z
LAST-MODIFIED:20180226T114303Z
UID:3900-1526947200-1527033599@www.williampatten.hackney.sch.uk
SUMMARY:Thames Explorer Port of London workshops (Year 6)
DESCRIPTION:
URL:https://www.williampatten.hackney.sch.uk/event/thames-explorer-port-of-london-workshops-year-6/
END:VEVENT
BEGIN:VEVENT
DTSTART;VALUE=DATE:20180520
DTEND;VALUE=DATE:20180521
DTSTAMP:20260421T173118
CREATED:20180226T114114Z
LAST-MODIFIED:20180226T114114Z
UID:3898-1526774400-1526860799@www.williampatten.hackney.sch.uk
SUMMARY:Virgin Schools Hackney Run Challenge
DESCRIPTION:
URL:https://www.williampatten.hackney.sch.uk/event/virgin-schools-hackney-run-challenge/
END:VEVENT
BEGIN:VEVENT
DTSTART;VALUE=DATE:20180514
DTEND;VALUE=DATE:20180515
DTSTAMP:20260421T173118
CREATED:20170802T111009Z
LAST-MODIFIED:20170802T111009Z
UID:3338-1526256000-1526342399@www.williampatten.hackney.sch.uk
SUMMARY:KS2 Sats Week
DESCRIPTION:
URL:https://www.williampatten.hackney.sch.uk/event/ks2-sats-week-3/
END:VEVENT
BEGIN:VEVENT
DTSTART;VALUE=DATE:20180510
DTEND;VALUE=DATE:20180511
DTSTAMP:20260421T173118
CREATED:20180509T114413Z
LAST-MODIFIED:20180509T114413Z
UID:4232-1525910400-1525996799@www.williampatten.hackney.sch.uk
SUMMARY:Transition meeting for Reception parents - 9.20am
DESCRIPTION:
URL:https://www.williampatten.hackney.sch.uk/event/transition-meeting-for-reception-parents-9-20am/
END:VEVENT
BEGIN:VEVENT
DTSTART;VALUE=DATE:20180507
DTEND;VALUE=DATE:20180508
DTSTAMP:20260421T173118
CREATED:20170802T110913Z
LAST-MODIFIED:20170802T110913Z
UID:3336-1525651200-1525737599@www.williampatten.hackney.sch.uk
SUMMARY:Bank Holiday
DESCRIPTION:
URL:https://www.williampatten.hackney.sch.uk/event/bank-holiday-2/
END:VEVENT
BEGIN:VEVENT
DTSTART;VALUE=DATE:20180501
DTEND;VALUE=DATE:20180502
DTSTAMP:20260421T173118
CREATED:20180226T113941Z
LAST-MODIFIED:20180226T113941Z
UID:3896-1525132800-1525219199@www.williampatten.hackney.sch.uk
SUMMARY:Chain Reaction Assembly
DESCRIPTION:
URL:https://www.williampatten.hackney.sch.uk/event/chain-reaction-assembly/
END:VEVENT
BEGIN:VEVENT
DTSTART;VALUE=DATE:20180427
DTEND;VALUE=DATE:20180428
DTSTAMP:20260421T173118
CREATED:20180226T113836Z
LAST-MODIFIED:20180226T113836Z
UID:3894-1524787200-1524873599@www.williampatten.hackney.sch.uk
SUMMARY:International Evening
DESCRIPTION:
URL:https://www.williampatten.hackney.sch.uk/event/international-evening-3/
END:VEVENT
BEGIN:VEVENT
DTSTART;VALUE=DATE:20180423
DTEND;VALUE=DATE:20180424
DTSTAMP:20260421T173118
CREATED:20180226T113801Z
LAST-MODIFIED:20180305T085433Z
UID:3892-1524441600-1524527999@www.williampatten.hackney.sch.uk
SUMMARY:Caring for cats talk (Nursery - Year 2)
DESCRIPTION:
URL:https://www.williampatten.hackney.sch.uk/event/caring-for-cats-talk-nursery-y2/
END:VEVENT
BEGIN:VEVENT
DTSTART;VALUE=DATE:20180419
DTEND;VALUE=DATE:20180420
DTSTAMP:20260421T173118
CREATED:20180226T113119Z
LAST-MODIFIED:20180226T113119Z
UID:3890-1524096000-1524182399@www.williampatten.hackney.sch.uk
SUMMARY:Year 5 to Science Museum
DESCRIPTION:
URL:https://www.williampatten.hackney.sch.uk/event/year-5-to-science-museum/
END:VEVENT
BEGIN:VEVENT
DTSTART;VALUE=DATE:20180416
DTEND;VALUE=DATE:20180417
DTSTAMP:20260421T173118
CREATED:20170802T110834Z
LAST-MODIFIED:20170802T110834Z
UID:3334-1523836800-1523923199@www.williampatten.hackney.sch.uk
SUMMARY:Children return to school
DESCRIPTION:
URL:https://www.williampatten.hackney.sch.uk/event/children-return-to-school-11/
END:VEVENT
BEGIN:VEVENT
DTSTART;VALUE=DATE:20180329
DTEND;VALUE=DATE:20180330
DTSTAMP:20260421T173118
CREATED:20170802T110728Z
LAST-MODIFIED:20170802T110728Z
UID:3332-1522281600-1522367999@www.williampatten.hackney.sch.uk
SUMMARY:Break up for Easter holidays
DESCRIPTION:
URL:https://www.williampatten.hackney.sch.uk/event/break-up-for-easter-holidays-2/
END:VEVENT
BEGIN:VEVENT
DTSTART;VALUE=DATE:20180328
DTEND;VALUE=DATE:20180329
DTSTAMP:20260421T173118
CREATED:20180226T112827Z
LAST-MODIFIED:20180226T112827Z
UID:3888-1522195200-1522281599@www.williampatten.hackney.sch.uk
SUMMARY:3A trip to Learning School Garden
DESCRIPTION:
URL:https://www.williampatten.hackney.sch.uk/event/3a-trip-to-learning-school-garden/
END:VEVENT
BEGIN:VEVENT
DTSTART;VALUE=DATE:20180327
DTEND;VALUE=DATE:20180328
DTSTAMP:20260421T173118
CREATED:20180226T112626Z
LAST-MODIFIED:20180226T112626Z
UID:3886-1522108800-1522195199@www.williampatten.hackney.sch.uk
SUMMARY:Deborah Reade Art Award Assembly
DESCRIPTION:
URL:https://www.williampatten.hackney.sch.uk/event/deborah-reade-art-award-assembly-4/
END:VEVENT
BEGIN:VEVENT
DTSTART;VALUE=DATE:20180326
DTEND;VALUE=DATE:20180327
DTSTAMP:20260421T173118
CREATED:20180226T111320Z
LAST-MODIFIED:20180226T111320Z
UID:3884-1522022400-1522108799@www.williampatten.hackney.sch.uk
SUMMARY:Year 4 workshops at the Wallace Collection
DESCRIPTION:
URL:https://www.williampatten.hackney.sch.uk/event/year-4-workshops-at-the-wallace-collection/
END:VEVENT
BEGIN:VEVENT
DTSTART;VALUE=DATE:20180326
DTEND;VALUE=DATE:20180327
DTSTAMP:20260421T173118
CREATED:20180226T111159Z
LAST-MODIFIED:20180226T111527Z
UID:3882-1522022400-1522108799@www.williampatten.hackney.sch.uk
SUMMARY:Circus skills workshop (Year 6)
DESCRIPTION:
URL:https://www.williampatten.hackney.sch.uk/event/circus-skills-workshop-year-6/
END:VEVENT
BEGIN:VEVENT
DTSTART;VALUE=DATE:20180323
DTEND;VALUE=DATE:20180324
DTSTAMP:20260421T173118
CREATED:20170802T110635Z
LAST-MODIFIED:20170802T110635Z
UID:3330-1521763200-1521849599@www.williampatten.hackney.sch.uk
SUMMARY:Sport Relief
DESCRIPTION:
URL:https://www.williampatten.hackney.sch.uk/event/sport-relief/
END:VEVENT
END:VCALENDAR